{"text_format":"1","workbook":"xlsx","n_sheets":9,"sheets":["入力","申請書","区分表","検定級リスト","賞区分","得点リスト(A区分）","得点リスト（Ｂ区分）","得点リスト(Ｃ区分）","学校名"],"not_rendered":{"charts":0,"images":0,"macros":1,"external_links":0,"defined_names":295,"comments":1,"pivot_tables":0},"unopened":[],"bounds":{"document_bytes":16777216,"sheet_cells":100000,"rows_first":2000,"rows_last":500,"rows_between":2000,"halvings":0,"cell_chars":16384,"cell_head_chars":4096},"cells_cut":0,"cells_raw":0,"read":"whole","date_system":"1900"}

{"sheet":"入力","index":0,"n_rows":63,"n_cols":61,"rows_kept":63,"cut":false,"hidden":false,"merged":[[29,1,29,3],[28,1,28,3],[27,1,27,3],[26,1,26,3],[25,1,25,3],[30,1,30,3],[47,1,47,3],[46,1,46,3],[45,1,45,3],[44,1,44,3],[43,1,43,3],[42,1,42,3],[62,5,63,5],[62,6,63,7],[48,1,48,3],[51,1,51,7],[52,1,52,3],[53,1,53,3],[54,1,54,3],[55,1,55,3],[56,1,56,3],[57,1,57,3],[49,1,49,3],[22,1,22,3],[23,1,23,3],[21,1,21,3],[59,7,60,7],[59,6,60,6],[24,1,24,3],[31,1,31,3],[36,1,36,3],[41,1,41,3],[35,1,35,3],[34,1,34,3],[33,1,33,7],[37,1,37,3],[38,1,38,3],[39,1,39,3],[40,1,40,3],[0,0,2,0],[3,0,3,1],[20,1,20,3],[8,0,8,1],[15,1,15,7],[16,1,16,3],[4,0,4,1],[5,0,5,1],[6,0,7,0],[9,0,9,1],[10,0,10,1],[11,0,13,0],[17,1,17,3],[18,1,18,3],[1,4,13,7],[19,1,19,3]]}
["申請日","年"]
[null,"月",null,null,"【入力の仕方】\n①青色に塗られた部分のみ入力してください。\n\n②作成したら、「印刷」ボタンを押してください。\n　※同じ資格を入力していると印刷に進めません。\n\n③印刷したものは押印し、先生に提出してください。\n\n④「保存」のボタンを押して、ファイルを保存し、先生にファイルを提出してください。\n　※全部消したいときは、「削除」ボタンを押してください。"]
[null,"日"]
["学校名"]
["氏名"]
["カタカナ"]
["ローマ字","姓"]
[null,"名"]
["学科・コース名"]
["学年"]
["性別"]
["生年月日","年（西暦）",null,null,null,null,null,null,null,null,null,null,null,null,"↓個数","↓個数","↓個数","↓個数","↓個数"]
[null,"月",null,null,null,null,null,null,"誕生日",null,null,null,null,null,{"$f":"COUNTIF(O36:O50,\">0\")","v":0},{"$f":"COUNTIF(P36:P50,\">0\")","v":0},{"$f":"COUNTIF(Q36:Q50,\">0\")","v":0},{"$f":"COUNTIF(R36:R50,\">0\")","v":0},{"$f":"COUNTIF(S36:S50,\">0\")","v":0},null,null,null,null,null,null,null,null,null,null,null,null,null,null,"重複探し"]
[null,"日",null,null,null,null,null,null,{"$f":"DATE(C12,C13,C14)","v":{"$error":"#NUM!"}},null,"重複","コンテスト重複","食品技能検定の数","クレーン系の数","消防設備士（１５点まで）","消防士系","危険物","パソコン系","簿記",null,null,null,null,null,null,null,null,null,null,null,null,null,null,{"$f":"IFERROR(HLOOKUP(\"〇\",AH15:BY18,3,FALSE),\"×\")","v":"×"}]
[null,null,null,null,null,null,null,null,null,null,{"$f":"COUNTIF(M18:M50,\">1\")","v":0},null,{"$f":"COUNTIF(B18:D32,区分表!$B$17)","v":0},{"$f":"SUM(N36:N50)","v":0},0,0,0,0,0,null,null,null,null,null,null,null,null,null,null,null,null,null,null,{"$f":"IF(AH16>1,\"〇\",\"\")","v":""},{"$f":"IF(AI16>1,\"〇\",\"\")","v":""},"","","","","","","","","","","","","","","","","","","","","","","",""]
[null,"区分A",null,null,null,null,null,null,null,null,null,null,null,null,null,null,null,null,null,null,null,null,null,null,null,null,null,null,null,null,null,null,null,{"$f":"COUNTIF($B$18:$D$32,AH$17)","v":0},{"$f":"COUNTIF($B$18:$D$32,AI$17)","v":0},0,0,{"$f":"COUNTIF($B$18:$D$32,AL$17)","v":0},0,{"$f":"COUNTIF(AN$18:AN$34,AN17)","v":0},{"$f":"COUNTIF(AO$18:AO$34,AO17)","v":0},0,0,0,{"$f":"COUNTIF($B$18:$D$32,AS$17)","v":0},{"$f":"COUNTIF($B$36:$D$50,AT$17)","v":0},{"$f":"COUNTIF($B$36:$D$50,AU$17)","v":0},0,0,0,0,0,0,0,0,0,0,{"$f":"COUNTIF($B$54:$D$58,BF$17)","v":0},{"$f":"COUNTIF($B$54:$D$58,BG$17)","v":0},0,0]
[null,"資格・検定、競技会等の名称",null,null,"コード","取得年月日（西暦/月/日）","賞・級\n合格・認定","得点",null,null,null,null,null,null,null,null,null,null,null,null,null,null,null,null,null,null,null,null,null,null,null,null,null,"海技士　航海（筆記試験合格）","海技士　機関（筆記試験合格）","小型船舶操縦士（免許状取得）","総合無線通信士","陸上無線技術士","海上無線通信士","工事担任者Ａ","工事担任者Ｄ","高等学校海洋情報技術検定","高等学校栽培漁業技術検定","高等学校潜水技術検定","高等学校エンジン技術検定","簿記検定","簿記実務検定","日本語ワープロ検定","情報処理技能検定","ビジネス文書実務検定","PC検定（文書作成）","情報技術検定","情報処理検定","珠算・電卓実務検定試験","食物調理技術検定","陸上特殊無線技士","海上特殊無線技士","実用英語技能検定試験","技術英語能力検定（旧：工業英語能力検定）","実用数学 技能検定","日本漢字能力検定"]
[null,{"$f":"IF(E18=\"\",\"\",VLOOKUP(E18,区分表!$A$2:$I$104,2,FALSE))","v":""},null,null,null,null,null,{"$f":"IF($B18=\"\",\"\",IF($AC18=300,5,IF($AF18=200,15/2,VLOOKUP(J18,'得点リスト(A区分）'!$D$2:$E$391,2,FALSE))))","v":""},{"$f":"VLOOKUP(B18,検定級リスト!$C$17:$D$115,2,FALSE)","v":{"$error":"#N/A"}},{"$f":"B18&G18","v":""},{"$f":"J18&F18","v":""},null,{"$f":"IF(K18=\"\",\"\",COUNTIF($K$18:$K$50,K18))","v":""},null,null,null,null,null,null,null,null,null,null,{"$f":"IF(AND($M$15=4,B18=区分表!$B$14),\"○\",\"\")","v":""},{"$f":"IF(AND($M$15=4,B18=区分表!$B$17),\"○\",\"\")","v":""},null,null,{"$f":"IF(AND($M$15=3,$B18=区分表!$B$17),\"○\",\"\")","v":""},{"$f":"COUNTIF(AA18:AB18,\"○\")*300","v":0},null,{"$f":"IF(AND($M$15=2,$B18=区分表!$B$17),\"○\",\"\")","v":""},{"$f":"COUNTIF(AD18:AE18,\"○\")*200","v":0},null,null,null,null,null,null,null,{"$f":"LEFT($J18,6)","v":""},{"$f":"LEFT($J18,6)","v":""}]
[null,{"$f":"IF(E19=\"\",\"\",VLOOKUP(E19,区分表!$A$2:$I$104,2,FALSE))","v":""},null,null,null,null,null,{"$f":"IF($B19=\"\",\"\",IF($AC19=300,5,IF($AF19=200,15/2,VLOOKUP(J19,'得点リスト(A区分）'!$D$2:$E$391,2,FALSE))))","v":""},{"$f":"VLOOKUP(B19,検定級リスト!$C$17:$D$115,2,FALSE)","v":{"$error":"#N/A"}},"",{"$f":"J19&F19","v":""},null,{"$f":"IF(K19=\"\",\"\",COUNTIF($K$18:$K$50,K19))","v":""},null,null,null,null,null,null,null,null,null,null,{"$f":"IF(AND($M$15=4,B19=区分表!$B$14),\"○\",\"\")","v":""},{"$f":"IF(AND($M$15=4,B19=区分表!$B$17),\"○\",\"\")","v":""},null,null,{"$f":"IF(AND($M$15=3,$B19=区分表!$B$17),\"○\",\"\")","v":""},{"$f":"COUNTIF(AA19:AB19,\"○\")*300","v":0},null,{"$f":"IF(AND($M$15=2,$B19=区分表!$B$17),\"○\",\"\")","v":""},{"$f":"COUNTIF(AD19:AE19,\"○\")*200","v":0},null,null,null,null,null,null,null,{"$f":"LEFT($J19,6)","v":""},""]
[null,{"$f":"IF(E20=\"\",\"\",VLOOKUP(E20,区分表!$A$2:$I$104,2,FALSE))","v":""},null,null,null,null,null,{"$f":"IF($B20=\"\",\"\",IF($AC20=300,5,IF($AF20=200,15/2,VLOOKUP(J20,'得点リスト(A区分）'!$D$2:$E$391,2,FALSE))))","v":""},{"$f":"VLOOKUP(B20,検定級リスト!$C$17:$D$115,2,FALSE)","v":{"$error":"#N/A"}},"","",null,"",null,null,null,null,null,null,null,null,null,null,{"$f":"IF(AND($M$15=4,B20=区分表!$B$14),\"○\",\"\")","v":""},{"$f":"IF(AND($M$15=4,B20=区分表!$B$17),\"○\",\"\")","v":""},null,null,{"$f":"IF(AND($M$15=3,$B20=区分表!$B$17),\"○\",\"\")","v":""},0,null,{"$f":"IF(AND($M$15=2,$B20=区分表!$B$17),\"○\",\"\")","v":""},0,null,null,null,null,null,null,null,"",""]
[null,{"$f":"IF(E21=\"\",\"\",VLOOKUP(E21,区分表!$A$2:$I$104,2,FALSE))","v":""},null,null,null,null,null,{"$f":"IF($B21=\"\",\"\",IF($AC21=300,5,IF($AF21=200,15/2,IF(COUNTIF($B$18:D21,B21)<4,VLOOKUP(J21,'得点リスト(A区分）'!$D$2:$E$391,2,FALSE),0))))","v":""},{"$f":"VLOOKUP(B21,検定級リスト!$C$17:$D$115,2,FALSE)","v":{"$error":"#N/A"}},"","",null,"",null,null,null,null,null,null,null,null,null,null,{"$f":"IF(AND($M$15=4,B21=区分表!$B$14),\"○\",\"\")","v":""},{"$f":"IF(AND($M$15=4,B21=区分表!$B$17),\"○\",\"\")","v":""},null,null,{"$f":"IF(AND($M$15=3,$B21=区分表!$B$17),\"○\",\"\")","v":""},0,null,{"$f":"IF(AND($M$15=2,$B21=区分表!$B$17),\"○\",\"\")","v":""},0,null,null,null,null,null,null,null,"",""]
[null,{"$f":"IF(E22=\"\",\"\",VLOOKUP(E22,区分表!$A$2:$I$104,2,FALSE))","v":""},null,null,null,null,null,{"$f":"IF($B22=\"\",\"\",IF($AC22=300,5,IF($AF22=200,15/2,IF(COUNTIF($B$18:D22,B22)<4,VLOOKUP(J22,'得点リスト(A区分）'!$D$2:$E$391,2,FALSE),0))))","v":""},{"$f":"VLOOKUP(B22,検定級リスト!$C$17:$D$115,2,FALSE)","v":{"$error":"#N/A"}},"","",null,"",null,null,null,null,null,null,null,null,null,null,{"$f":"IF(AND($M$15=4,B22=区分表!$B$14),\"○\",\"\")","v":""},{"$f":"IF(AND($M$15=4,B22=区分表!$B$17),\"○\",\"\")","v":""},null,null,{"$f":"IF(AND($M$15=3,$B22=区分表!$B$17),\"○\",\"\")","v":""},0,null,{"$f":"IF(AND($M$15=2,$B22=区分表!$B$17),\"○\",\"\")","v":""},0,null,null,null,null,null,null,null,"",""]
[null,{"$f":"IF(E23=\"\",\"\",VLOOKUP(E23,区分表!$A$2:$I$104,2,FALSE))","v":""},null,null,null,null,null,{"$f":"IF($B23=\"\",\"\",IF($AC23=300,5,IF($AF23=200,15/2,IF(COUNTIF($B$18:D23,B23)<4,VLOOKUP(J23,'得点リスト(A区分）'!$D$2:$E$391,2,FALSE),0))))","v":""},{"$f":"VLOOKUP(B23,検定級リスト!$C$17:$D$115,2,FALSE)","v":{"$error":"#N/A"}},"","",null,"",null,null,null,null,null,null,null,null,null,null,{"$f":"IF(AND($M$15=4,B23=区分表!$B$14),\"○\",\"\")","v":""},{"$f":"IF(AND($M$15=4,B23=区分表!$B$17),\"○\",\"\")","v":""},null,null,{"$f":"IF(AND($M$15=3,$B23=区分表!$B$17),\"○\",\"\")","v":""},0,null,{"$f":"IF(AND($M$15=2,$B23=区分表!$B$17),\"○\",\"\")","v":""},0,null,null,null,null,null,null,null,"",""]
[null,{"$f":"IF(E24=\"\",\"\",VLOOKUP(E24,区分表!$A$2:$I$104,2,FALSE))","v":""},null,null,null,null,null,{"$f":"IF($B24=\"\",\"\",IF($AC24=300,5,IF($AF24=200,15/2,IF(COUNTIF($B$18:D24,B24)<4,VLOOKUP(J24,'得点リスト(A区分）'!$D$2:$E$391,2,FALSE),0))))","v":""},{"$f":"VLOOKUP(B24,検定級リスト!$C$17:$D$115,2,FALSE)","v":{"$error":"#N/A"}},"","",null,"",null,null,null,null,null,null,null,null,null,null,{"$f":"IF(AND($M$15=4,B24=区分表!$B$14),\"○\",\"\")","v":""},{"$f":"IF(AND($M$15=4,B24=区分表!$B$17),\"○\",\"\")","v":""},null,null,{"$f":"IF(AND($M$15=3,$B24=区分表!$B$17),\"○\",\"\")","v":""},0,null,{"$f":"IF(AND($M$15=2,$B24=区分表!$B$17),\"○\",\"\")","v":""},0,null,null,null,null,null,null,null,"",""]
[null,{"$f":"IF(E25=\"\",\"\",VLOOKUP(E25,区分表!$A$2:$I$104,2,FALSE))","v":""},null,null,null,null,null,{"$f":"IF($B25=\"\",\"\",IF($AC25=300,5,IF($AF25=200,15/2,IF(COUNTIF($B$18:D25,B25)<4,VLOOKUP(J25,'得点リスト(A区分）'!$D$2:$E$391,2,FALSE),0))))","v":""},{"$f":"VLOOKUP(B25,検定級リスト!$C$17:$D$115,2,FALSE)","v":{"$error":"#N/A"}},{"$f":"B25&G25","v":""},{"$f":"J25&F25","v":""},null,"",null,null,null,null,null,null,null,null,null,null,{"$f":"IF(AND($M$15=4,B25=区分表!$B$14),\"○\",\"\")","v":""},{"$f":"IF(AND($M$15=4,B25=区分表!$B$17),\"○\",\"\")","v":""},null,null,{"$f":"IF(AND($M$15=3,$B25=区分表!$B$17),\"○\",\"\")","v":""},{"$f":"COUNTIF(AA25:AB25,\"○\")*300","v":0},null,{"$f":"IF(AND($M$15=2,$B25=区分表!$B$17),\"○\",\"\")","v":""},{"$f":"COUNTIF(AD25:AE25,\"○\")*200","v":0},null,null,null,null,null,null,null,"",""]
[null,{"$f":"IF(E26=\"\",\"\",VLOOKUP(E26,区分表!$A$2:$I$104,2,FALSE))","v":""},null,null,null,null,null,{"$f":"IF($B26=\"\",\"\",IF($AC26=300,5,IF($AF26=200,15/2,IF(COUNTIF($B$18:D26,B26)<4,VLOOKUP(J26,'得点リスト(A区分）'!$D$2:$E$391,2,FALSE),0))))","v":""},{"$f":"VLOOKUP(B26,検定級リスト!$C$17:$D$115,2,FALSE)","v":{"$error":"#N/A"}},"",{"$f":"J26&F26","v":""},null,{"$f":"IF(K26=\"\",\"\",COUNTIF($K$18:$K$50,K26))","v":""},null,null,null,null,null,null,null,null,null,null,{"$f":"IF(AND($M$15=4,B26=区分表!$B$14),\"○\",\"\")","v":""},{"$f":"IF(AND($M$15=4,B26=区分表!$B$17),\"○\",\"\")","v":""},null,null,{"$f":"IF(AND($M$15=3,$B26=区分表!$B$17),\"○\",\"\")","v":""},{"$f":"COUNTIF(AA26:AB26,\"○\")*300","v":0},null,{"$f":"IF(AND($M$15=2,$B26=区分表!$B$17),\"○\",\"\")","v":""},{"$f":"COUNTIF(AD26:AE26,\"○\")*200","v":0},null,null,null,null,null,null,null,"",""]
[null,{"$f":"IF(E27=\"\",\"\",VLOOKUP(E27,区分表!$A$2:$I$104,2,FALSE))","v":""},null,null,null,null,null,{"$f":"IF($B27=\"\",\"\",IF($AC27=300,5,IF($AF27=200,15/2,IF(COUNTIF($B$18:D27,B27)<4,VLOOKUP(J27,'得点リスト(A区分）'!$D$2:$E$391,2,FALSE),0))))","v":""},{"$f":"VLOOKUP(B27,検定級リスト!$C$17:$D$115,2,FALSE)","v":{"$error":"#N/A"}},"",{"$f":"J27&F27","v":""},null,{"$f":"IF(K27=\"\",\"\",COUNTIF($K$18:$K$50,K27))","v":""},null,null,null,null,null,null,null,null,null,null,{"$f":"IF(AND($M$15=4,B27=区分表!$B$14),\"○\",\"\")","v":""},{"$f":"IF(AND($M$15=4,B27=区分表!$B$17),\"○\",\"\")","v":""},null,null,{"$f":"IF(AND($M$15=3,$B27=区分表!$B$17),\"○\",\"\")","v":""},{"$f":"COUNTIF(AA27:AB27,\"○\")*300","v":0},null,{"$f":"IF(AND($M$15=2,$B27=区分表!$B$17),\"○\",\"\")","v":""},{"$f":"COUNTIF(AD27:AE27,\"○\")*200","v":0},null,null,null,null,null,null,null,"",""]
[null,{"$f":"IF(E28=\"\",\"\",VLOOKUP(E28,区分表!$A$2:$I$104,2,FALSE))","v":""},null,null,null,null,null,{"$f":"IF($B28=\"\",\"\",IF($AC28=300,5,IF($AF28=200,15/2,IF(COUNTIF($B$18:D28,B28)<4,VLOOKUP(J28,'得点リスト(A区分）'!$D$2:$E$391,2,FALSE),0))))","v":""},{"$f":"VLOOKUP(B28,検定級リスト!$C$17:$D$115,2,FALSE)","v":{"$error":"#N/A"}},"",{"$f":"J28&F28","v":""},null,{"$f":"IF(K28=\"\",\"\",COUNTIF($K$18:$K$50,K28))","v":""},null,null,null,null,null,null,null,null,null,null,{"$f":"IF(AND($M$15=4,B28=区分表!$B$14),\"○\",\"\")","v":""},{"$f":"IF(AND($M$15=4,B28=区分表!$B$17),\"○\",\"\")","v":""},null,null,{"$f":"IF(AND($M$15=3,$B28=区分表!$B$17),\"○\",\"\")","v":""},{"$f":"COUNTIF(AA28:AB28,\"○\")*300","v":0},null,{"$f":"IF(AND($M$15=2,$B28=区分表!$B$17),\"○\",\"\")","v":""},{"$f":"COUNTIF(AD28:AE28,\"○\")*200","v":0},null,null,null,null,null,null,null,"",""]
[null,{"$f":"IF(E29=\"\",\"\",VLOOKUP(E29,区分表!$A$2:$I$104,2,FALSE))","v":""},null,null,null,null,null,{"$f":"IF($B29=\"\",\"\",IF($AC29=300,5,IF($AF29=200,15/2,IF(COUNTIF($B$18:D29,B29)<4,VLOOKUP(J29,'得点リスト(A区分）'!$D$2:$E$391,2,FALSE),0))))","v":""},{"$f":"VLOOKUP(B29,検定級リスト!$C$17:$D$115,2,FALSE)","v":{"$error":"#N/A"}},"",{"$f":"J29&F29","v":""},null,{"$f":"IF(K29=\"\",\"\",COUNTIF($K$18:$K$50,K29))","v":""},null,null,null,null,null,null,null,null,null,null,{"$f":"IF(AND($M$15=4,B29=区分表!$B$14),\"○\",\"\")","v":""},{"$f":"IF(AND($M$15=4,B29=区分表!$B$17),\"○\",\"\")","v":""},null,null,{"$f":"IF(AND($M$15=3,$B29=区分表!$B$17),\"○\",\"\")","v":""},{"$f":"COUNTIF(AA29:AB29,\"○\")*300","v":0},null,{"$f":"IF(AND($M$15=2,$B29=区分表!$B$17),\"○\",\"\")","v":""},{"$f":"COUNTIF(AD29:AE29,\"○\")*200","v":0},null,null,null,null,null,null,null,"",""]
[null,{"$f":"IF(E30=\"\",\"\",VLOOKUP(E30,区分表!$A$2:$I$104,2,FALSE))","v":""},null,null,null,null,null,{"$f":"IF($B30=\"\",\"\",IF($AC30=300,5,IF($AF30=200,15/2,IF(COUNTIF($B$18:D30,B30)<4,VLOOKUP(J30,'得点リスト(A区分）'!$D$2:$E$391,2,FALSE),0))))","v":""},{"$f":"VLOOKUP(B30,検定級リスト!$C$17:$D$115,2,FALSE)","v":{"$error":"#N/A"}},"",{"$f":"J30&F30","v":""},null,{"$f":"IF(K30=\"\",\"\",COUNTIF($K$18:$K$50,K30))","v":""},null,null,null,null,null,null,null,null,null,null,{"$f":"IF(AND($M$15=4,B30=区分表!$B$14),\"○\",\"\")","v":""},{"$f":"IF(AND($M$15=4,B30=区分表!$B$17),\"○\",\"\")","v":""},null,null,{"$f":"IF(AND($M$15=3,$B30=区分表!$B$17),\"○\",\"\")","v":""},{"$f":"COUNTIF(AA30:AB30,\"○\")*300","v":0},null,{"$f":"IF(AND($M$15=2,$B30=区分表!$B$17),\"○\",\"\")","v":""},{"$f":"COUNTIF(AD30:AE30,\"○\")*200","v":0},null,null,null,null,null,null,null,"",""]
[null,{"$f":"IF(E31=\"\",\"\",VLOOKUP(E31,区分表!$A$2:$I$104,2,FALSE))","v":""},null,null,null,null,null,{"$f":"IF($B31=\"\",\"\",IF($AC31=300,5,IF($AF31=200,15/2,IF(COUNTIF($B$18:D31,B31)<4,VLOOKUP(J31,'得点リスト(A区分）'!$D$2:$E$391,2,FALSE),0))))","v":""},{"$f":"VLOOKUP(B31,検定級リスト!$C$17:$D$115,2,FALSE)","v":{"$error":"#N/A"}},{"$f":"B31&G31","v":""},"",null,"",null,null,null,null,null,null,null,null,null,null,{"$f":"IF(AND($M$15=4,B31=区分表!$B$14),\"○\",\"\")","v":""},{"$f":"IF(AND($M$15=4,B31=区分表!$B$17),\"○\",\"\")","v":""},null,null,{"$f":"IF(AND($M$15=3,$B31=区分表!$B$17),\"○\",\"\")","v":""},0,null,{"$f":"IF(AND($M$15=2,$B31=区分表!$B$17),\"○\",\"\")","v":""},0,null,null,null,null,null,null,null,"",""]
[null,{"$f":"IF(E32=\"\",\"\",VLOOKUP(E32,区分表!$A$2:$I$104,2,FALSE))","v":""},null,null,null,null,null,{"$f":"IF($B32=\"\",\"\",IF($AC32=300,5,IF($AF32=200,15/2,IF(COUNTIF($B$18:D32,B32)<4,VLOOKUP(J32,'得点リスト(A区分）'!$D$2:$E$391,2,FALSE),0))))","v":""},{"$f":"VLOOKUP(B32,検定級リスト!$C$17:$D$115,2,FALSE)","v":{"$error":"#N/A"}},{"$f":"B32&G32","v":""},{"$f":"J32&F32","v":""},null,"",null,null,null,null,null,null,null,null,null,null,{"$f":"IF(AND($M$15=4,B32=区分表!$B$14),\"○\",\"\")","v":""},{"$f":"IF(AND($M$15=4,B32=区分表!$B$17),\"○\",\"\")","v":""},null,null,{"$f":"IF(AND($M$15=3,$B32=区分表!$B$17),\"○\",\"\")","v":""},{"$f":"COUNTIF(AA32:AB32,\"○\")*300","v":0},null,{"$f":"IF(AND($M$15=2,$B32=区分表!$B$17),\"○\",\"\")","v":""},{"$f":"COUNTIF(AD32:AE32,\"○\")*200","v":0},null,null,null,null,null,null,null,"",""]
[null,null,null,null,null,null,null,null,null,null,null,null,"",null,null,null,null,null,null,null,null,null,null,null,null,null,null,null,null,null,null,null,null,null,null,null,null,null,null,"",""]
[null,"区分B",null,null,null,null,null,null,null,null,null,null,{"$f":"IF(K34=\"\",\"\",COUNTIF($K$18:$K$50,J34))","v":""},null,null,null,null,null,null,null,null,null,null,null,null,null,null,null,null,null,null,null,null,null,null,null,null,null,null,"",""]
[null,"資格・検定、競技会等の名称",null,null,"コード","取得年月日（西暦/月/日）","賞・級\n合格・認定","得点",null,null,null,null,{"$f":"IF(K35=\"\",\"\",COUNTIF($K$18:$K$50,J35))","v":""}]
[null,{"$f":"IF(E36=\"\",\"\",VLOOKUP(E36,区分表!$A$2:$I$104,2,FALSE))","v":""},null,null,null,null,null,{"$f":"IF($E36=\"\",\"\",IF(AND(N36=1,$N$15>5),10/$N$15,IF(AND(O36>0,$O$15>3),15/$O$13,IF(AND(Q36>0,$Q$15>3),15/$Q$13,IF(AND(P36>0,$P$15>2),10/$P$13,IF(AND(R36>0,$R$15>10),10/$R$13,IF(AND(S36>0,$S$15>10),10/$S$13,VLOOKUP(J36,'得点リスト（Ｂ区分）'!$D$2:$E$423,2,FALSE))))))))","v":""},{"$f":"VLOOKUP(B36,検定級リスト!$C$17:$D$165,2,FALSE)","v":{"$error":"#N/A"}},{"$f":"B36&G36","v":""},"",null,{"$f":"IF(K36=\"\",\"\",COUNTIF($K$18:$K$50,K36))","v":""},{"$f":"COUNTIF(区分表!$B$77:$B$88,B36)","v":0},{"$f":"COUNTIF(区分表!$B$56,B36)","v":0},{"$f":"COUNTIF(区分表!$B$57,B36)","v":0},{"$f":"COUNTIF(区分表!$B$42,B36)","v":0},{"$f":"COUNTIF(区分表!$I$67:$I$73,K36)*10+COUNTIF(区分表!$L$67:$L$74,K36)*5+COUNTIF(区分表!$O$67:$O$73,K36)*2","v":0},{"$f":"COUNTIF(区分表!$I$80:$I$82,K36)*10+COUNTIF(区分表!$L$80:$L$82,K36)*5+COUNTIF(区分表!$O$80:$O$81,K36)*2","v":0}]
[null,{"$f":"IF(E37=\"\",\"\",VLOOKUP(E37,区分表!$A$2:$I$104,2,FALSE))","v":""},null,null,null,null,null,{"$f":"IF($E37=\"\",\"\",IF(AND(N37=1,$N$15>5),10/$N$15,IF(AND(O37>0,$O$15>3),15/$O$13,IF(AND(Q37>0,$Q$15>3),15/$Q$13,IF(AND(P37>0,$P$15>2),10/$P$13,IF(AND(R37>0,$R$15>10),10/$R$13,IF(AND(S37>0,$S$15>10),10/$S$13,VLOOKUP(J37,'得点リスト（Ｂ区分）'!$D$2:$E$423,2,FALSE))))))))","v":""},{"$f":"VLOOKUP(B37,検定級リスト!$C$17:$D$165,2,FALSE)","v":{"$error":"#N/A"}},{"$f":"B37&G37","v":""},"",null,{"$f":"IF(K37=\"\",\"\",COUNTIF($K$18:$K$50,K37))","v":""},{"$f":"COUNTIF(区分表!$B$77:$B$88,B37)","v":0},{"$f":"COUNTIF(区分表!$B$56,B37)","v":0},{"$f":"COUNTIF(区分表!$B$57,B37)","v":0},{"$f":"COUNTIF(区分表!$B$42,B37)","v":0},{"$f":"COUNTIF(区分表!$I$67:$I$73,K37)*10+COUNTIF(区分表!$L$67:$L$74,K37)*5+COUNTIF(区分表!$O$67:$O$73,K37)*2","v":0},{"$f":"COUNTIF(区分表!$I$80:$I$82,K37)*10+COUNTIF(区分表!$L$80:$L$82,K37)*5+COUNTIF(区分表!$O$80:$O$81,K37)*2","v":0}]
[null,{"$f":"IF(E38=\"\",\"\",VLOOKUP(E38,区分表!$A$2:$I$104,2,FALSE))","v":""},null,null,null,null,null,{"$f":"IF($E38=\"\",\"\",IF(AND(N38=1,$N$15>5),10/$N$15,IF(AND(O38>0,$O$15>3),15/$O$13,IF(AND(Q38>0,$Q$15>3),15/$Q$13,IF(AND(P38>0,$P$15>2),10/$P$13,IF(AND(R38>0,$R$15>10),10/$R$13,IF(AND(S38>0,$S$15>10),10/$S$13,VLOOKUP(J38,'得点リスト（Ｂ区分）'!$D$2:$E$423,2,FALSE))))))))","v":""},{"$f":"VLOOKUP(B38,検定級リスト!$C$17:$D$165,2,FALSE)","v":{"$error":"#N/A"}},{"$f":"B38&G38","v":""},{"$f":"J38&F38","v":""},null,{"$f":"IF(K38=\"\",\"\",COUNTIF($K$18:$K$50,K38))","v":""},{"$f":"COUNTIF(区分表!$B$77:$B$88,B38)","v":0},{"$f":"COUNTIF(区分表!$B$56,B38)","v":0},{"$f":"COUNTIF(区分表!$B$57,B38)","v":0},{"$f":"COUNTIF(区分表!$B$42,B38)","v":0},{"$f":"COUNTIF(区分表!$I$67:$I$73,K38)*10+COUNTIF(区分表!$L$67:$L$74,K38)*5+COUNTIF(区分表!$O$67:$O$73,K38)*2","v":0},{"$f":"COUNTIF(区分表!$I$80:$I$82,K38)*10+COUNTIF(区分表!$L$80:$L$82,K38)*5+COUNTIF(区分表!$O$80:$O$81,K38)*2","v":0}]
[null,{"$f":"IF(E39=\"\",\"\",VLOOKUP(E39,区分表!$A$2:$I$104,2,FALSE))","v":""},null,null,null,null,null,{"$f":"IF($E39=\"\",\"\",IF(AND(N39=1,$N$15>5),10/$N$15,IF(AND(O39>0,$O$15>3),15/$O$13,IF(AND(Q39>0,$Q$15>3),15/$Q$13,IF(AND(P39>0,$P$15>2),10/$P$13,IF(AND(R39>0,$R$15>10),10/$R$13,IF(AND(S39>0,$S$15>10),10/$S$13,VLOOKUP(J39,'得点リスト（Ｂ区分）'!$D$2:$E$423,2,FALSE))))))))","v":""},{"$f":"VLOOKUP(B39,検定級リスト!$C$17:$D$165,2,FALSE)","v":{"$error":"#N/A"}},"","",null,"",{"$f":"COUNTIF(区分表!$B$77:$B$88,B39)","v":0},{"$f":"COUNTIF(区分表!$B$56,B39)","v":0},{"$f":"COUNTIF(区分表!$B$57,B39)","v":0},{"$f":"COUNTIF(区分表!$B$42,B39)","v":0},{"$f":"COUNTIF(区分表!$I$67:$I$73,K39)*10+COUNTIF(区分表!$L$67:$L$74,K39)*5+COUNTIF(区分表!$O$67:$O$73,K39)*2","v":0},{"$f":"COUNTIF(区分表!$I$80:$I$82,K39)*10+COUNTIF(区分表!$L$80:$L$82,K39)*5+COUNTIF(区分表!$O$80:$O$81,K39)*2","v":0}]
[null,{"$f":"IF(E40=\"\",\"\",VLOOKUP(E40,区分表!$A$2:$I$104,2,FALSE))","v":""},null,null,null,null,null,{"$f":"IF($E40=\"\",\"\",IF(AND(N40=1,$N$15>5),10/$N$15,IF(AND(O40>0,$O$15>3),15/$O$13,IF(AND(Q40>0,$Q$15>3),15/$Q$13,IF(AND(P40>0,$P$15>2),10/$P$13,IF(AND(R40>0,$R$15>10),10/$R$13,IF(AND(S40>0,$S$15>10),10/$S$13,VLOOKUP(J40,'得点リスト（Ｂ区分）'!$D$2:$E$423,2,FALSE))))))))","v":""},{"$f":"VLOOKUP(B40,検定級リスト!$C$17:$D$165,2,FALSE)","v":{"$error":"#N/A"}},"","",null,"",{"$f":"COUNTIF(区分表!$B$77:$B$88,B40)","v":0},{"$f":"COUNTIF(区分表!$B$56,B40)","v":0},{"$f":"COUNTIF(区分表!$B$57,B40)","v":0},{"$f":"COUNTIF(区分表!$B$42,B40)","v":0},{"$f":"COUNTIF(区分表!$I$67:$I$73,K40)*10+COUNTIF(区分表!$L$67:$L$74,K40)*5+COUNTIF(区分表!$O$67:$O$73,K40)*2","v":0},{"$f":"COUNTIF(区分表!$I$80:$I$82,K40)*10+COUNTIF(区分表!$L$80:$L$82,K40)*5+COUNTIF(区分表!$O$80:$O$81,K40)*2","v":0}]
[null,{"$f":"IF(E41=\"\",\"\",VLOOKUP(E41,区分表!$A$2:$I$104,2,FALSE))","v":""},null,null,null,null,null,{"$f":"IF($E41=\"\",\"\",IF(AND(N41=1,$N$15>5),10/$N$15,IF(AND(O41>0,$O$15>3),15/$O$13,IF(AND(Q41>0,$Q$15>3),15/$Q$13,IF(AND(P41>0,$P$15>2),10/$P$13,IF(AND(R41>0,$R$15>10),10/$R$13,IF(AND(S41>0,$S$15>10),10/$S$13,VLOOKUP(J41,'得点リスト（Ｂ区分）'!$D$2:$E$423,2,FALSE))))))))","v":""},{"$f":"VLOOKUP(B41,検定級リスト!$C$17:$D$165,2,FALSE)","v":{"$error":"#N/A"}},"","",null,"",{"$f":"COUNTIF(区分表!$B$77:$B$88,B41)","v":0},{"$f":"COUNTIF(区分表!$B$56,B41)","v":0},{"$f":"COUNTIF(区分表!$B$57,B41)","v":0},{"$f":"COUNTIF(区分表!$B$42,B41)","v":0},{"$f":"COUNTIF(区分表!$I$67:$I$73,K41)*10+COUNTIF(区分表!$L$67:$L$74,K41)*5+COUNTIF(区分表!$O$67:$O$73,K41)*2","v":0},{"$f":"COUNTIF(区分表!$I$80:$I$82,K41)*10+COUNTIF(区分表!$L$80:$L$82,K41)*5+COUNTIF(区分表!$O$80:$O$81,K41)*2","v":0}]
[null,{"$f":"IF(E42=\"\",\"\",VLOOKUP(E42,区分表!$A$2:$I$104,2,FALSE))","v":""},null,null,null,null,null,{"$f":"IF($E42=\"\",\"\",IF(AND(N42=1,$N$15>5),10/$N$15,IF(AND(O42>0,$O$15>3),15/$O$13,IF(AND(Q42>0,$Q$15>3),15/$Q$13,IF(AND(P42>0,$P$15>2),10/$P$13,IF(AND(R42>0,$R$15>10),10/$R$13,IF(AND(S42>0,$S$15>10),10/$S$13,VLOOKUP(J42,'得点リスト（Ｂ区分）'!$D$2:$E$423,2,FALSE))))))))","v":""},{"$f":"VLOOKUP(B42,検定級リスト!$C$17:$D$165,2,FALSE)","v":{"$error":"#N/A"}},"","",null,"",{"$f":"COUNTIF(区分表!$B$77:$B$88,B42)","v":0},{"$f":"COUNTIF(区分表!$B$56,B42)","v":0},{"$f":"COUNTIF(区分表!$B$57,B42)","v":0},{"$f":"COUNTIF(区分表!$B$42,B42)","v":0},{"$f":"COUNTIF(区分表!$I$67:$I$73,K42)*10+COUNTIF(区分表!$L$67:$L$74,K42)*5+COUNTIF(区分表!$O$67:$O$73,K42)*2","v":0},{"$f":"COUNTIF(区分表!$I$80:$I$82,K42)*10+COUNTIF(区分表!$L$80:$L$82,K42)*5+COUNTIF(区分表!$O$80:$O$81,K42)*2","v":0}]
[null,{"$f":"IF(E43=\"\",\"\",VLOOKUP(E43,区分表!$A$2:$I$104,2,FALSE))","v":""},null,null,null,null,null,{"$f":"IF($E43=\"\",\"\",IF(AND(N43=1,$N$15>5),10/$N$15,IF(AND(O43>0,$O$15>3),15/$O$13,IF(AND(Q43>0,$Q$15>3),15/$Q$13,IF(AND(P43>0,$P$15>2),10/$P$13,IF(AND(R43>0,$R$15>10),10/$R$13,IF(AND(S43>0,$S$15>10),10/$S$13,VLOOKUP(J43,'得点リスト（Ｂ区分）'!$D$2:$E$423,2,FALSE))))))))","v":""},{"$f":"VLOOKUP(B43,検定級リスト!$C$17:$D$165,2,FALSE)","v":{"$error":"#N/A"}},{"$f":"B43&G43","v":""},{"$f":"J43&F43","v":""},null,"",{"$f":"COUNTIF(区分表!$B$77:$B$88,B43)","v":0},{"$f":"COUNTIF(区分表!$B$56,B43)","v":0},{"$f":"COUNTIF(区分表!$B$57,B43)","v":0},{"$f":"COUNTIF(区分表!$B$42,B43)","v":0},{"$f":"COUNTIF(区分表!$I$67:$I$73,K43)*10+COUNTIF(区分表!$L$67:$L$74,K43)*5+COUNTIF(区分表!$O$67:$O$73,K43)*2","v":0},{"$f":"COUNTIF(区分表!$I$80:$I$82,K43)*10+COUNTIF(区分表!$L$80:$L$82,K43)*5+COUNTIF(区分表!$O$80:$O$81,K43)*2","v":0}]
[null,{"$f":"IF(E44=\"\",\"\",VLOOKUP(E44,区分表!$A$2:$I$104,2,FALSE))","v":""},null,null,null,null,null,{"$f":"IF($E44=\"\",\"\",IF(AND(N44=1,$N$15>5),10/$N$15,IF(AND(O44>0,$O$15>3),15/$O$13,IF(AND(Q44>0,$Q$15>3),15/$Q$13,IF(AND(P44>0,$P$15>2),10/$P$13,IF(AND(R44>0,$R$15>10),10/$R$13,IF(AND(S44>0,$S$15>10),10/$S$13,VLOOKUP(J44,'得点リスト（Ｂ区分）'!$D$2:$E$423,2,FALSE))))))))","v":""},{"$f":"VLOOKUP(B44,検定級リスト!$C$17:$D$165,2,FALSE)","v":{"$error":"#N/A"}},{"$f":"B44&G44","v":""},{"$f":"J44&F44","v":""},null,"",{"$f":"COUNTIF(区分表!$B$77:$B$88,B44)","v":0},{"$f":"COUNTIF(区分表!$B$56,B44)","v":0},{"$f":"COUNTIF(区分表!$B$57,B44)","v":0},{"$f":"COUNTIF(区分表!$B$42,B44)","v":0},{"$f":"COUNTIF(区分表!$I$67:$I$73,K44)*10+COUNTIF(区分表!$L$67:$L$74,K44)*5+COUNTIF(区分表!$O$67:$O$73,K44)*2","v":0},{"$f":"COUNTIF(区分表!$I$80:$I$82,K44)*10+COUNTIF(区分表!$L$80:$L$82,K44)*5+COUNTIF(区分表!$O$80:$O$81,K44)*2","v":0}]
[null,{"$f":"IF(E45=\"\",\"\",VLOOKUP(E45,区分表!$A$2:$I$104,2,FALSE))","v":""},null,null,null,null,null,{"$f":"IF($E45=\"\",\"\",IF(AND(N45=1,$N$15>5),10/$N$15,IF(AND(O45>0,$O$15>3),15/$O$13,IF(AND(Q45>0,$Q$15>3),15/$Q$13,IF(AND(P45>0,$P$15>2),10/$P$13,IF(AND(R45>0,$R$15>10),10/$R$13,IF(AND(S45>0,$S$15>10),10/$S$13,VLOOKUP(J45,'得点リスト（Ｂ区分）'!$D$2:$E$423,2,FALSE))))))))","v":""},{"$f":"VLOOKUP(B45,検定級リスト!$C$17:$D$165,2,FALSE)","v":{"$error":"#N/A"}},{"$f":"B45&G45","v":""},{"$f":"J45&F45","v":""},null,"",{"$f":"COUNTIF(区分表!$B$77:$B$88,B45)","v":0},{"$f":"COUNTIF(区分表!$B$56,B45)","v":0},{"$f":"COUNTIF(区分表!$B$57,B45)","v":0},{"$f":"COUNTIF(区分表!$B$42,B45)","v":0},{"$f":"COUNTIF(区分表!$I$67:$I$73,K45)*10+COUNTIF(区分表!$L$67:$L$74,K45)*5+COUNTIF(区分表!$O$67:$O$73,K45)*2","v":0},{"$f":"COUNTIF(区分表!$I$80:$I$82,K45)*10+COUNTIF(区分表!$L$80:$L$82,K45)*5+COUNTIF(区分表!$O$80:$O$81,K45)*2","v":0}]
[null,{"$f":"IF(E46=\"\",\"\",VLOOKUP(E46,区分表!$A$2:$I$104,2,FALSE))","v":""},null,null,null,null,null,{"$f":"IF($E46=\"\",\"\",IF(AND(N46=1,$N$15>5),10/$N$15,IF(AND(O46>0,$O$15>3),15/$O$13,IF(AND(Q46>0,$Q$15>3),15/$Q$13,IF(AND(P46>0,$P$15>2),10/$P$13,IF(AND(R46>0,$R$15>10),10/$R$13,IF(AND(S46>0,$S$15>10),10/$S$13,VLOOKUP(J46,'得点リスト（Ｂ区分）'!$D$2:$E$423,2,FALSE))))))))","v":""},{"$f":"VLOOKUP(B46,検定級リスト!$C$17:$D$165,2,FALSE)","v":{"$error":"#N/A"}},{"$f":"B46&G46","v":""},{"$f":"J46&F46","v":""},null,"",{"$f":"COUNTIF(区分表!$B$77:$B$88,B46)","v":0},{"$f":"COUNTIF(区分表!$B$56,B46)","v":0},{"$f":"COUNTIF(区分表!$B$57,B46)","v":0},{"$f":"COUNTIF(区分表!$B$42,B46)","v":0},{"$f":"COUNTIF(区分表!$I$67:$I$73,K46)*10+COUNTIF(区分表!$L$67:$L$74,K46)*5+COUNTIF(区分表!$O$67:$O$73,K46)*2","v":0},{"$f":"COUNTIF(区分表!$I$80:$I$82,K46)*10+COUNTIF(区分表!$L$80:$L$82,K46)*5+COUNTIF(区分表!$O$80:$O$81,K46)*2","v":0}]
[null,{"$f":"IF(E47=\"\",\"\",VLOOKUP(E47,区分表!$A$2:$I$104,2,FALSE))","v":""},null,null,null,null,null,{"$f":"IF($E47=\"\",\"\",IF(AND(N47=1,$N$15>5),10/$N$15,IF(AND(O47>0,$O$15>3),15/$O$13,IF(AND(Q47>0,$Q$15>3),15/$Q$13,IF(AND(P47>0,$P$15>2),10/$P$13,IF(AND(R47>0,$R$15>10),10/$R$13,IF(AND(S47>0,$S$15>10),10/$S$13,VLOOKUP(J47,'得点リスト（Ｂ区分）'!$D$2:$E$423,2,FALSE))))))))","v":""},{"$f":"VLOOKUP(B47,検定級リスト!$C$17:$D$165,2,FALSE)","v":{"$error":"#N/A"}},{"$f":"B47&G47","v":""},{"$f":"J47&F47","v":""},null,"",{"$f":"COUNTIF(区分表!$B$77:$B$88,B47)","v":0},{"$f":"COUNTIF(区分表!$B$56,B47)","v":0},{"$f":"COUNTIF(区分表!$B$57,B47)","v":0},{"$f":"COUNTIF(区分表!$B$42,B47)","v":0},{"$f":"COUNTIF(区分表!$I$67:$I$73,K47)*10+COUNTIF(区分表!$L$67:$L$74,K47)*5+COUNTIF(区分表!$O$67:$O$73,K47)*2","v":0},{"$f":"COUNTIF(区分表!$I$80:$I$82,K47)*10+COUNTIF(区分表!$L$80:$L$82,K47)*5+COUNTIF(区分表!$O$80:$O$81,K47)*2","v":0}]
[null,{"$f":"IF(E48=\"\",\"\",VLOOKUP(E48,区分表!$A$2:$I$104,2,FALSE))","v":""},null,null,null,null,null,{"$f":"IF($E48=\"\",\"\",IF(AND(N48=1,$N$15>5),10/$N$15,IF(AND(O48>0,$O$15>3),15/$O$13,IF(AND(Q48>0,$Q$15>3),15/$Q$13,IF(AND(P48>0,$P$15>2),10/$P$13,IF(AND(R48>0,$R$15>10),10/$R$13,IF(AND(S48>0,$S$15>10),10/$S$13,VLOOKUP(J48,'得点リスト（Ｂ区分）'!$D$2:$E$423,2,FALSE))))))))","v":""},{"$f":"VLOOKUP(B48,検定級リスト!$C$17:$D$165,2,FALSE)","v":{"$error":"#N/A"}},{"$f":"B48&G48","v":""},{"$f":"J48&F48","v":""},null,"",{"$f":"COUNTIF(区分表!$B$77:$B$88,B48)","v":0},{"$f":"COUNTIF(区分表!$B$56,B48)","v":0},{"$f":"COUNTIF(区分表!$B$57,B48)","v":0},{"$f":"COUNTIF(区分表!$B$42,B48)","v":0},{"$f":"COUNTIF(区分表!$I$67:$I$73,K48)*10+COUNTIF(区分表!$L$67:$L$74,K48)*5+COUNTIF(区分表!$O$67:$O$73,K48)*2","v":0},{"$f":"COUNTIF(区分表!$I$80:$I$82,K48)*10+COUNTIF(区分表!$L$80:$L$82,K48)*5+COUNTIF(区分表!$O$80:$O$81,K48)*2","v":0}]
[null,{"$f":"IF(E49=\"\",\"\",VLOOKUP(E49,区分表!$A$2:$I$104,2,FALSE))","v":""},null,null,null,null,null,{"$f":"IF($E49=\"\",\"\",IF(AND(N49=1,$N$15>5),10/$N$15,IF(AND(O49>0,$O$15>3),15/$O$13,IF(AND(Q49>0,$Q$15>3),15/$Q$13,IF(AND(P49>0,$P$15>2),10/$P$13,IF(AND(R49>0,$R$15>10),10/$R$13,IF(AND(S49>0,$S$15>10),10/$S$13,VLOOKUP(J49,'得点リスト（Ｂ区分）'!$D$2:$E$423,2,FALSE))))))))","v":""},{"$f":"VLOOKUP(B49,検定級リスト!$C$17:$D$165,2,FALSE)","v":{"$error":"#N/A"}},"","",null,"",{"$f":"COUNTIF(区分表!$B$77:$B$88,B49)","v":0},{"$f":"COUNTIF(区分表!$B$56,B49)","v":0},{"$f":"COUNTIF(区分表!$B$57,B49)","v":0},{"$f":"COUNTIF(区分表!$B$42,B49)","v":0},{"$f":"COUNTIF(区分表!$I$67:$I$73,K49)*10+COUNTIF(区分表!$L$67:$L$74,K49)*5+COUNTIF(区分表!$O$67:$O$73,K49)*2","v":0},{"$f":"COUNTIF(区分表!$I$80:$I$82,K49)*10+COUNTIF(区分表!$L$80:$L$82,K49)*5+COUNTIF(区分表!$O$80:$O$81,K49)*2","v":0}]
[null,{"$f":"IF(E50=\"\",\"\",VLOOKUP(E50,区分表!$A$2:$I$104,2,FALSE))","v":""},null,null,null,null,null,{"$f":"IF($E50=\"\",\"\",IF(AND(N50=1,$N$15>5),10/$N$15,IF(AND(O50>0,$O$15>3),15/$O$13,IF(AND(Q50>0,$Q$15>3),15/$Q$13,IF(AND(P50>0,$P$15>2),10/$P$13,IF(AND(R50>0,$R$15>10),10/$R$13,IF(AND(S50>0,$S$15>10),10/$S$13,VLOOKUP(J50,'得点リスト（Ｂ区分）'!$D$2:$E$423,2,FALSE))))))))","v":""},{"$f":"VLOOKUP(B50,検定級リスト!$C$17:$D$165,2,FALSE)","v":{"$error":"#N/A"}},{"$f":"B50&G50","v":""},{"$f":"J50&F50","v":""},null,"",{"$f":"COUNTIF(区分表!$B$77:$B$88,B50)","v":0},{"$f":"COUNTIF(区分表!$B$56,B50)","v":0},{"$f":"COUNTIF(区分表!$B$57,B50)","v":0},{"$f":"COUNTIF(区分表!$B$42,B50)","v":0},{"$f":"COUNTIF(区分表!$I$67:$I$73,K50)*10+COUNTIF(区分表!$L$67:$L$74,K50)*5+COUNTIF(区分表!$O$67:$O$73,K50)*2","v":0},{"$f":"COUNTIF(区分表!$I$80:$I$82,K50)*10+COUNTIF(区分表!$L$80:$L$82,K50)*5+COUNTIF(区分表!$O$80:$O$81,K50)*2","v":0}]
[null,null,null,null,null,null,null,null,null,null,"",null,""]
[null,"区分C",null,null,null,null,null,null,null,null,null,null,{"$f":"IF(K52=\"\",\"\",COUNTIF($K$18:$K$50,J52))","v":""}]
[null,"資格・検定、競技会等の名称",null,null,"コード","取得年月日（西暦/月/日）","賞・級\n合格・認定","得点",null,null,null,null,{"$f":"IF(K53=\"\",\"\",COUNTIF($K$18:$K$50,J53))","v":""}]
[null,{"$f":"IF(E54=\"\",\"\",VLOOKUP(E54,区分表!$A$2:$I$104,2,FALSE))","v":""},null,null,null,null,null,{"$f":"IF($E54=\"\",\"\",VLOOKUP(J54,'得点リスト(Ｃ区分）'!$D$2:$E$417,2,FALSE))","v":""},{"$f":"VLOOKUP(B54,検定級リスト!$C$17:$D$115,2,FALSE)","v":{"$error":"#N/A"}},{"$f":"B54&G54","v":""},{"$f":"J54&F54","v":""},null,{"$f":"IF(K54=\"\",\"\",COUNTIF($K$18:$K$50,K54))","v":""}]
[null,{"$f":"IF(E55=\"\",\"\",VLOOKUP(E55,区分表!$A$2:$I$104,2,FALSE))","v":""},null,null,null,null,null,{"$f":"IF($E55=\"\",\"\",VLOOKUP(J55,'得点リスト(Ｃ区分）'!$D$2:$E$417,2,FALSE))","v":""},{"$f":"VLOOKUP(B55,検定級リスト!$C$17:$D$115,2,FALSE)","v":{"$error":"#N/A"}},{"$f":"B55&G55","v":""},"",null,{"$f":"IF(K55=\"\",\"\",COUNTIF($K$18:$K$50,K55))","v":""}]
[null,{"$f":"IF(E56=\"\",\"\",VLOOKUP(E56,区分表!$A$2:$I$104,2,FALSE))","v":""},null,null,null,null,null,{"$f":"IF($E56=\"\",\"\",VLOOKUP(J56,'得点リスト(Ｃ区分）'!$D$2:$E$417,2,FALSE))","v":""},{"$f":"VLOOKUP(B56,検定級リスト!$C$17:$D$115,2,FALSE)","v":{"$error":"#N/A"}},"","",null,{"$f":"IF(K56=\"\",\"\",COUNTIF($K$18:$K$50,K56))","v":""}]
[null,{"$f":"IF(E57=\"\",\"\",VLOOKUP(E57,区分表!$A$2:$I$104,2,FALSE))","v":""},null,null,null,null,null,{"$f":"IF($E57=\"\",\"\",VLOOKUP(J57,'得点リスト(Ｃ区分）'!$D$2:$E$417,2,FALSE))","v":""},{"$f":"VLOOKUP(B57,検定級リスト!$C$17:$D$115,2,FALSE)","v":{"$error":"#N/A"}},"","",null,{"$f":"IF(K57=\"\",\"\",COUNTIF($K$18:$K$50,K57))","v":""}]
[null,{"$f":"IF(E58=\"\",\"\",VLOOKUP(E58,区分表!$A$2:$I$104,2,FALSE))","v":""},null,null,null,null,null,{"$f":"IF($E58=\"\",\"\",VLOOKUP(J58,'得点リスト(Ｃ区分）'!$D$2:$E$417,2,FALSE))","v":""},{"$f":"VLOOKUP(B58,検定級リスト!$C$17:$D$115,2,FALSE)","v":{"$error":"#N/A"}},"","",null,{"$f":"IF(K58=\"\",\"\",COUNTIF($K$18:$K$50,K58))","v":""}]
[]
[null,null,null,null,null,null,"合計得点",{"$f":"SUM(H18:H32,H36:H50,H54:H58)","v":0}]
[null,null,null,null,null,null,null,null,{"$f":"SUM(H18:H32)","v":0}]
[]
[null,null,null,null,null,"賞",{"$f":"IF(OR(AND(SUM(H18:H32)>=20,SUM(H18:H32)<30,30<=H60),AND(SUM(H18:H32)>=30,SUM(H18:H32)<40,H60>=30,H60<45),AND(SUM(H18:H32)>=40,H60>=30,H60<45)),賞区分!$B$2,IF(OR(AND(SUM(H18:H32)>=30,SUM(H18:H32)<40,H60>=45),AND(SUM(H18:H32)>=40,H60>=45,H60<60)),賞区分!$B$3,IF(AND(SUM(H18:H32)>=40,H60>=60),賞区分!$B$4,\" \")))","v":" "}]

{"sheet":"申請書","index":1,"n_rows":66,"n_cols":14,"rows_kept":66,"cut":false,"hidden":false,"merged":[[29,3,29,5],[29,6,29,7],[29,8,29,9],[29,10,29,11],[28,3,28,5],[28,6,28,7],[28,8,28,9],[28,10,28,11],[32,3,32,5],[32,6,32,7],[32,8,32,9],[32,10,32,11],[31,3,31,5],[31,6,31,7],[31,8,31,9],[31,10,31,11],[30,3,30,5],[30,6,30,7],[30,8,30,9],[30,10,30,11],[45,3,45,5],[45,6,45,7],[45,8,45,9],[45,10,45,11],[37,0,37,11],[33,10,33,11],[34,6,34,7],[34,8,34,9],[34,10,34,11],[34,3,34,5],[39,6,39,7],[39,8,39,9],[39,10,39,11],[44,8,44,9],[33,3,33,5],[33,6,33,7],[33,8,33,9],[49,3,49,5],[49,6,49,7],[49,8,49,9],[49,10,49,11],[48,3,48,5],[48,6,48,7],[48,8,48,9],[48,10,48,11],[47,3,47,5],[47,6,47,7],[47,8,47,9],[47,10,47,11],[46,3,46,5],[46,6,46,7],[46,8,46,9],[46,10,46,11],[63,5,64,11],[12,7,12,8],[21,3,21,5],[21,6,21,7],[21,8,21,9],[20,10,20,11],[24,10,24,11],[22,10,22,11],[24,6,24,7],[41,10,41,11],[42,3,42,5],[42,6,42,7],[42,8,42,9],[42,10,42,11],[43,3,43,5],[43,6,43,7],[59,3,59,5],[59,6,59,7],[59,8,59,9],[60,3,60,5],[63,0,64,2],[39,3,39,5],[63,3,64,4],[25,6,25,7],[26,3,26,5],[26,6,26,7],[26,8,26,9],[38,10,38,11],[56,3,56,5],[56,6,56,7],[56,8,56,9],[26,10,26,11],[25,10,25,11],[27,10,27,11],[38,8,38,9],[61,6,61,9],[61,10,61,11],[40,3,40,5],[40,6,40,7],[40,8,40,9],[40,10,40,11],[41,3,41,5],[41,6,41,7],[41,8,41,9],[3,0,3,11],[7,5,7,11],[11,5,11,11],[9,5,9,11],[21,10,21,11],[19,10,19,11],[22,6,22,7],[23,3,23,5],[20,6,20,7],[19,6,19,7],[20,3,20,5],[19,3,19,5],[19,8,19,9],[22,3,22,5],[20,8,20,9],[22,8,22,9],[23,8,23,9],[8,5,8,7],[23,6,23,7],[10,8,10,11],[10,5,10,6],[23,10,23,11],[60,6,60,7],[60,8,60,9],[60,10,60,11],[56,10,56,11],[18,0,18,11],[15,1,15,11],[35,10,35,11],[35,6,35,9],[53,6,53,9],[53,10,53,11],[38,3,38,5],[38,6,38,7],[44,10,44,11],[27,8,27,9],[27,3,27,5],[27,6,27,7],[25,3,25,5],[24,3,24,5],[25,8,25,9],[24,8,24,9],[43,8,43,9],[43,10,43,11],[44,3,44,5],[44,6,44,7],[50,6,50,7],[50,8,50,9],[51,10,51,11],[50,3,50,5],[50,10,50,11],[59,10,59,11],[52,8,52,9],[52,10,52,11],[52,3,52,5],[52,6,52,7],[51,3,51,5],[51,6,51,7],[51,8,51,9],[55,0,55,11],[57,3,57,5],[57,6,57,7],[57,8,57,9],[57,10,57,11],[58,3,58,5],[58,6,58,7],[58,8,58,9],[58,10,58,11]]}
["（様式１）"]
[null,null,null,null,null,"申請年月日",{"$f":"IF(入力!C1=\"\",\"\",入力!C1)","v":""},"年",{"$f":"IF(入力!C2=\"\",\"\",入力!C2)","v":""},"月",{"$f":"IF(入力!C3=\"\",\"\",入力!C3)","v":""},"日"]
[]
["マリンマイスター顕彰制度申請書"]
[]
["全国水産高等学校長協会　理事長　殿"]
[]
[null,null,null,"学校名",null,{"$f":"IF(入力!C4=\"\",\"\",入力!C4)","v":""}]
[null,null,null,"生徒氏名",null,{"$f":"IF(入力!C5=\"\",\"\",入力!C5)","v":""},null,null,"㊞"]
[null,null,null,"ﾌﾘｶﾞﾅ（ｶﾀｶﾅ）",null,{"$f":"IF(入力!C6=\"\",\"\",入力!C6)","v":""}]
[null,null,null,"ローマ字","姓",{"$f":"IF(入力!C7=\"\",\"\",入力!C7)","v":""},null,"名",{"$f":"IF(入力!C8=\"\",\"\",入力!C8)","v":""}]
[null,null,null,"学科・コース",null,{"$f":"IF(入力!C9=\"\",\"\",入力!C9)","v":""}]
[null,null,null,"学年",null,{"$f":"IF(入力!C10=\"\",\"\",入力!C10)","v":""},"年","性別：",null,{"$f":"IF(入力!C11=\"\",\"\",入力!C11)","v":""}]
[null,null,null,"生年月日",null,"西暦",{"$f":"IF(入力!C12=\"\",\"\",入力!C12)","v":""},"年",{"$f":"IF(入力!C13=\"\",\"\",入力!C13)","v":""},"月",{"$f":"IF(入力!C14=\"\",\"\",入力!C14)","v":""},"日"]
[]
[null,"　標記の件について、下記競技会等の成績、職業資格等を得ましたので、マリンマイスター顕彰制度実施要領第5条の規定に基づき合格証書の写しを添えて申請します。"]
[]
["習得した職業資格等及び協議会・コンクールの内容"]
["区分A"]
["No.","コード","資格・検定、競技会等の名称","主催団体等",null,null,"取得年月日\n(西暦）",null,"賞・級\n合格・認定",null,"得点"]
[1,{"$f":"IF(入力!E18=\"\",\"\",入力!E18)","v":""},{"$f":"IF(B21=\"\",\"\",VLOOKUP(B21,区分表!$A$2:$I$104,2,FALSE))","v":""},{"$f":"IF(B21=\"\",\"\",VLOOKUP(C21,区分表!$B$2:$J$104,2,FALSE))","v":""},{"$f":"VLOOKUP(D21,区分表!C2:K104,2,FALSE)","v":{"$error":"#N/A"}},{"$f":"VLOOKUP(E21,L76:L134,2,FALSE)","v":{"$error":"#N/A"}},{"$f":"IF(入力!F18=\"\",\"\",入力!F18)","v":""},null,{"$f":"IF(入力!G18=\"\",\"\",入力!G18)","v":""},null,{"$f":"IF(入力!H18=\"\",\"\",入力!H18)","v":""},null,{"$f":"VLOOKUP(C21,検定級リスト!$C$17:$D$165,2,FALSE)","v":{"$error":"#N/A"}},{"$f":"C21&I21","v":""}]
[{"$f":"A21+1","v":2},{"$f":"IF(入力!E19=\"\",\"\",入力!E19)","v":""},{"$f":"IF(B22=\"\",\"\",VLOOKUP(B22,区分表!$A$2:$I$104,2,FALSE))","v":""},{"$f":"IF(B22=\"\",\"\",VLOOKUP(C22,区分表!$B$2:$J$104,2,FALSE))","v":""},{"$f":"VLOOKUP(D22,区分表!C3:K104,2,FALSE)","v":{"$error":"#N/A"}},{"$error":"#N/A"},{"$f":"IF(入力!F19=\"\",\"\",入力!F19)","v":""},null,{"$f":"IF(入力!G19=\"\",\"\",入力!G19)","v":""},null,{"$f":"IF(入力!H19=\"\",\"\",入力!H19)","v":""},null,{"$f":"VLOOKUP(C22,検定級リスト!$C$17:$D$165,2,FALSE)","v":{"$error":"#N/A"}},{"$f":"C22&I22","v":""}]
[{"$f":"A22+1","v":3},{"$f":"IF(入力!E20=\"\",\"\",入力!E20)","v":""},{"$f":"IF(B23=\"\",\"\",VLOOKUP(B23,区分表!$A$2:$I$104,2,FALSE))","v":""},{"$f":"IF(B23=\"\",\"\",VLOOKUP(C23,区分表!$B$2:$J$104,2,FALSE))","v":""},{"$f":"VLOOKUP(D23,区分表!C4:K104,2,FALSE)","v":{"$error":"#N/A"}},{"$error":"#N/A"},{"$f":"IF(入力!F20=\"\",\"\",入力!F20)","v":""},null,{"$f":"IF(入力!G20=\"\",\"\",入力!G20)","v":""},null,{"$f":"IF(入力!H20=\"\",\"\",入力!H20)","v":""},null,{"$f":"VLOOKUP(C23,検定級リスト!$C$17:$D$165,2,FALSE)","v":{"$error":"#N/A"}},""]
[4,{"$f":"IF(入力!E21=\"\",\"\",入力!E21)","v":""},{"$f":"IF(B24=\"\",\"\",VLOOKUP(B24,区分表!$A$2:$I$104,2,FALSE))","v":""},{"$f":"IF(B24=\"\",\"\",VLOOKUP(C24,区分表!$B$2:$J$104,2,FALSE))","v":""},{"$f":"VLOOKUP(D24,区分表!C5:K104,2,FALSE)","v":{"$error":"#N/A"}},{"$error":"#N/A"},{"$f":"IF(入力!F21=\"\",\"\",入力!F21)","v":""},null,{"$f":"IF(入力!G21=\"\",\"\",入力!G21)","v":""},null,{"$f":"IF(入力!H21=\"\",\"\",入力!H21)","v":""},null,{"$f":"VLOOKUP(C24,検定級リスト!$C$17:$D$165,2,FALSE)","v":{"$error":"#N/A"}},""]
[5,{"$f":"IF(入力!E22=\"\",\"\",入力!E22)","v":""},{"$f":"IF(B25=\"\",\"\",VLOOKUP(B25,区分表!$A$2:$I$104,2,FALSE))","v":""},{"$f":"IF(B25=\"\",\"\",VLOOKUP(C25,区分表!$B$2:$J$104,2,FALSE))","v":""},{"$f":"VLOOKUP(D25,区分表!C6:K104,2,FALSE)","v":{"$error":"#N/A"}},{"$error":"#N/A"},{"$f":"IF(入力!F22=\"\",\"\",入力!F22)","v":""},null,{"$f":"IF(入力!G22=\"\",\"\",入力!G22)","v":""},null,{"$f":"IF(入力!H22=\"\",\"\",入力!H22)","v":""},null,{"$f":"VLOOKUP(C25,検定級リスト!$C$17:$D$165,2,FALSE)","v":{"$error":"#N/A"}},""]
[6,{"$f":"IF(入力!E23=\"\",\"\",入力!E23)","v":""},{"$f":"IF(B26=\"\",\"\",VLOOKUP(B26,区分表!$A$2:$I$104,2,FALSE))","v":""},{"$f":"IF(B26=\"\",\"\",VLOOKUP(C26,区分表!$B$2:$J$104,2,FALSE))","v":""},{"$f":"VLOOKUP(D26,区分表!C7:K104,2,FALSE)","v":{"$error":"#N/A"}},{"$error":"#N/A"},{"$f":"IF(入力!F23=\"\",\"\",入力!F23)","v":""},null,{"$f":"IF(入力!G23=\"\",\"\",入力!G23)","v":""},null,{"$f":"IF(入力!H23=\"\",\"\",入力!H23)","v":""},null,{"$f":"VLOOKUP(C26,検定級リスト!$C$17:$D$165,2,FALSE)","v":{"$error":"#N/A"}},""]
[7,{"$f":"IF(入力!E24=\"\",\"\",入力!E24)","v":""},{"$f":"IF(B27=\"\",\"\",VLOOKUP(B27,区分表!$A$2:$I$104,2,FALSE))","v":""},{"$f":"IF(B27=\"\",\"\",VLOOKUP(C27,区分表!$B$2:$J$104,2,FALSE))","v":""},{"$f":"VLOOKUP(D27,区分表!C8:K104,2,FALSE)","v":{"$error":"#N/A"}},{"$error":"#N/A"},{"$f":"IF(入力!F24=\"\",\"\",入力!F24)","v":""},null,{"$f":"IF(入力!G24=\"\",\"\",入力!G24)","v":""},null,{"$f":"IF(入力!H24=\"\",\"\",入力!H24)","v":""},null,{"$f":"VLOOKUP(C27,検定級リスト!$C$17:$D$165,2,FALSE)","v":{"$error":"#N/A"}},{"$f":"C27&I27","v":""}]
[{"$f":"A27+1","v":8},{"$f":"IF(入力!E25=\"\",\"\",入力!E25)","v":""},{"$f":"IF(B28=\"\",\"\",VLOOKUP(B28,区分表!$A$2:$I$104,2,FALSE))","v":""},{"$f":"IF(B28=\"\",\"\",VLOOKUP(C28,区分表!$B$2:$J$104,2,FALSE))","v":""},{"$f":"VLOOKUP(D28,区分表!C9:K105,2,FALSE)","v":{"$error":"#N/A"}},{"$error":"#N/A"},{"$f":"IF(入力!F25=\"\",\"\",入力!F25)","v":""},null,{"$f":"IF(入力!G25=\"\",\"\",入力!G25)","v":""},null,{"$f":"IF(入力!H25=\"\",\"\",入力!H25)","v":""},null,{"$f":"VLOOKUP(C28,検定級リスト!$C$17:$D$165,2,FALSE)","v":{"$error":"#N/A"}},""]
[{"$f":"A28+1","v":9},{"$f":"IF(入力!E26=\"\",\"\",入力!E26)","v":""},{"$f":"IF(B29=\"\",\"\",VLOOKUP(B29,区分表!$A$2:$I$104,2,FALSE))","v":""},{"$f":"IF(B29=\"\",\"\",VLOOKUP(C29,区分表!$B$2:$J$104,2,FALSE))","v":""},{"$f":"VLOOKUP(D29,区分表!C10:K106,2,FALSE)","v":{"$error":"#N/A"}},{"$error":"#N/A"},{"$f":"IF(入力!F26=\"\",\"\",入力!F26)","v":""},null,{"$f":"IF(入力!G26=\"\",\"\",入力!G26)","v":""},null,{"$f":"IF(入力!H26=\"\",\"\",入力!H26)","v":""},null,{"$f":"VLOOKUP(C29,検定級リスト!$C$17:$D$165,2,FALSE)","v":{"$error":"#N/A"}},{"$f":"C29&I29","v":""}]
[10,{"$f":"IF(入力!E27=\"\",\"\",入力!E27)","v":""},{"$f":"IF(B30=\"\",\"\",VLOOKUP(B30,区分表!$A$2:$I$104,2,FALSE))","v":""},{"$f":"IF(B30=\"\",\"\",VLOOKUP(C30,区分表!$B$2:$J$104,2,FALSE))","v":""},{"$f":"VLOOKUP(D30,区分表!C10:K106,2,FALSE)","v":{"$error":"#N/A"}},{"$f":"VLOOKUP(E30,L84:L142,2,FALSE)","v":{"$error":"#N/A"}},{"$f":"IF(入力!F27=\"\",\"\",入力!F27)","v":""},null,{"$f":"IF(入力!G27=\"\",\"\",入力!G27)","v":""},null,{"$f":"IF(入力!H27=\"\",\"\",入力!H27)","v":""},null,{"$f":"VLOOKUP(C30,検定級リスト!$C$17:$D$165,2,FALSE)","v":{"$error":"#N/A"}},{"$f":"C30&I30","v":""}]
[{"$f":"A30+1","v":11},{"$f":"IF(入力!E28=\"\",\"\",入力!E28)","v":""},{"$f":"IF(B31=\"\",\"\",VLOOKUP(B31,区分表!$A$2:$I$104,2,FALSE))","v":""},{"$f":"IF(B31=\"\",\"\",VLOOKUP(C31,区分表!$B$2:$J$104,2,FALSE))","v":""},{"$f":"VLOOKUP(D31,区分表!C10:K106,2,FALSE)","v":{"$error":"#N/A"}},{"$f":"VLOOKUP(E31,L84:L142,2,FALSE)","v":{"$error":"#N/A"}},{"$f":"IF(入力!F28=\"\",\"\",入力!F28)","v":""},null,{"$f":"IF(入力!G28=\"\",\"\",入力!G28)","v":""},null,{"$f":"IF(入力!H28=\"\",\"\",入力!H28)","v":""},null,{"$f":"VLOOKUP(C31,検定級リスト!$C$17:$D$165,2,FALSE)","v":{"$error":"#N/A"}},{"$f":"C31&I31","v":""}]
[{"$f":"A31+1","v":12},{"$f":"IF(入力!E29=\"\",\"\",入力!E29)","v":""},{"$f":"IF(B32=\"\",\"\",VLOOKUP(B32,区分表!$A$2:$I$104,2,FALSE))","v":""},{"$f":"IF(B32=\"\",\"\",VLOOKUP(C32,区分表!$B$2:$J$104,2,FALSE))","v":""},{"$f":"VLOOKUP(D32,区分表!C10:K106,2,FALSE)","v":{"$error":"#N/A"}},{"$f":"VLOOKUP(E32,L84:L142,2,FALSE)","v":{"$error":"#N/A"}},{"$f":"IF(入力!F29=\"\",\"\",入力!F29)","v":""},null,{"$f":"IF(入力!G29=\"\",\"\",入力!G29)","v":""},null,{"$f":"IF(入力!H29=\"\",\"\",入力!H29)","v":""},null,{"$f":"VLOOKUP(C32,検定級リスト!$C$17:$D$165,2,FALSE)","v":{"$error":"#N/A"}},{"$f":"C32&I32","v":""}]
[{"$f":"A32+1","v":13},{"$f":"IF(入力!E30=\"\",\"\",入力!E30)","v":""},{"$f":"IF(B33=\"\",\"\",VLOOKUP(B33,区分表!$A$2:$I$104,2,FALSE))","v":""},{"$f":"IF(B33=\"\",\"\",VLOOKUP(C33,区分表!$B$2:$J$104,2,FALSE))","v":""},{"$f":"VLOOKUP(D33,区分表!C10:K106,2,FALSE)","v":{"$error":"#N/A"}},{"$f":"VLOOKUP(E33,L84:L142,2,FALSE)","v":{"$error":"#N/A"}},{"$f":"IF(入力!F30=\"\",\"\",入力!F30)","v":""},null,{"$f":"IF(入力!G30=\"\",\"\",入力!G30)","v":""},null,{"$f":"IF(入力!H30=\"\",\"\",入力!H30)","v":""},null,{"$f":"VLOOKUP(C33,検定級リスト!$C$17:$D$165,2,FALSE)","v":{"$error":"#N/A"}},{"$f":"C33&I33","v":""}]
[{"$f":"A33+1","v":14},{"$f":"IF(入力!E31=\"\",\"\",入力!E31)","v":""},{"$f":"IF(B34=\"\",\"\",VLOOKUP(B34,区分表!$A$2:$I$104,2,FALSE))","v":""},{"$f":"IF(B34=\"\",\"\",VLOOKUP(C34,区分表!$B$2:$J$104,2,FALSE))","v":""},{"$f":"VLOOKUP(D34,区分表!C10:K106,2,FALSE)","v":{"$error":"#N/A"}},{"$f":"VLOOKUP(E34,L84:L142,2,FALSE)","v":{"$error":"#N/A"}},{"$f":"IF(入力!F31=\"\",\"\",入力!F31)","v":""},null,{"$f":"IF(入力!G31=\"\",\"\",入力!G31)","v":""},null,{"$f":"IF(入力!H31=\"\",\"\",入力!H31)","v":""},null,{"$f":"VLOOKUP(C34,検定級リスト!$C$17:$D$165,2,FALSE)","v":{"$error":"#N/A"}},{"$f":"C34&I34","v":""}]
[{"$f":"A34+1","v":15},{"$f":"IF(入力!E32=\"\",\"\",入力!E32)","v":""},{"$f":"IF(B35=\"\",\"\",VLOOKUP(B35,区分表!$A$2:$I$104,2,FALSE))","v":""},{"$f":"IF(B35=\"\",\"\",VLOOKUP(C35,区分表!$B$2:$J$104,2,FALSE))","v":""},{"$f":"VLOOKUP(D35,区分表!C10:K106,2,FALSE)","v":{"$error":"#N/A"}},{"$f":"VLOOKUP(E35,L84:L142,2,FALSE)","v":{"$error":"#N/A"}},{"$f":"IF(入力!F32=\"\",\"\",入力!F32)","v":""},null,{"$f":"IF(入力!G32=\"\",\"\",入力!G32)","v":""},null,{"$f":"IF(入力!H32=\"\",\"\",入力!H32)","v":""},null,{"$f":"VLOOKUP(C35,検定級リスト!$C$17:$D$165,2,FALSE)","v":{"$error":"#N/A"}},{"$f":"C35&I35","v":""}]
[null,null,null,null,null,null,"区分A　合計得点",null,null,null,{"$f":"SUM(K21:L35)","v":0}]
[]
["区分B"]
[1,{"$f":"IF(入力!E36=\"\",\"\",入力!E36)","v":""},{"$f":"IF(B39=\"\",\"\",VLOOKUP(B39,区分表!$A$2:$I$104,2,FALSE))","v":""},{"$f":"IF(B39=\"\",\"\",VLOOKUP(C39,区分表!$B$2:$J$104,2,FALSE))","v":""},{"$f":"VLOOKUP(D39,区分表!C15:K104,2,FALSE)","v":{"$error":"#N/A"}},{"$f":"VLOOKUP(E39,L89:L147,2,FALSE)","v":{"$error":"#N/A"}},{"$f":"IF(入力!F36=\"\",\"\",入力!F36)","v":""},null,{"$f":"IF(入力!G36=\"\",\"\",入力!G36)","v":""},null,{"$f":"IF(入力!H36=\"\",\"\",入力!H36)","v":""},null,{"$f":"VLOOKUP(C39,検定級リスト!$C$17:$D$165,2,FALSE)","v":{"$error":"#N/A"}},{"$f":"C39&I39","v":""}]
[{"$f":"A39+1","v":2},{"$f":"IF(入力!E37=\"\",\"\",入力!E37)","v":""},{"$f":"IF(B40=\"\",\"\",VLOOKUP(B40,区分表!$A$2:$I$104,2,FALSE))","v":""},{"$f":"IF(B40=\"\",\"\",VLOOKUP(C40,区分表!$B$2:$J$104,2,FALSE))","v":""},{"$f":"VLOOKUP(D40,区分表!C16:K104,2,FALSE)","v":{"$error":"#N/A"}},{"$f":"VLOOKUP(E40,L90:L148,2,FALSE)","v":{"$error":"#N/A"}},{"$f":"IF(入力!F37=\"\",\"\",入力!F37)","v":""},null,{"$f":"IF(入力!G37=\"\",\"\",入力!G37)","v":""},null,{"$f":"IF(入力!H37=\"\",\"\",入力!H37)","v":""},null,{"$f":"VLOOKUP(C40,検定級リスト!$C$17:$D$165,2,FALSE)","v":{"$error":"#N/A"}},{"$f":"C40&I40","v":""}]
[{"$f":"A40+1","v":3},{"$f":"IF(入力!E38=\"\",\"\",入力!E38)","v":""},{"$f":"IF(B41=\"\",\"\",VLOOKUP(B41,区分表!$A$2:$I$104,2,FALSE))","v":""},{"$f":"IF(B41=\"\",\"\",VLOOKUP(C41,区分表!$B$2:$J$104,2,FALSE))","v":""},{"$f":"VLOOKUP(D41,区分表!C12:K104,2,FALSE)","v":{"$error":"#N/A"}},{"$f":"VLOOKUP(E41,L86:L144,2,FALSE)","v":{"$error":"#N/A"}},{"$f":"IF(入力!F38=\"\",\"\",入力!F38)","v":""},null,{"$f":"IF(入力!G38=\"\",\"\",入力!G38)","v":""},null,{"$f":"IF(入力!H38=\"\",\"\",入力!H38)","v":""},null,{"$f":"VLOOKUP(C41,検定級リスト!$C$17:$D$165,2,FALSE)","v":{"$error":"#N/A"}},{"$f":"C41&I41","v":""}]
[4,{"$f":"IF(入力!E39=\"\",\"\",入力!E39)","v":""},{"$f":"IF(B42=\"\",\"\",VLOOKUP(B42,区分表!$A$2:$I$104,2,FALSE))","v":""},{"$f":"IF(B42=\"\",\"\",VLOOKUP(C42,区分表!$B$2:$J$104,2,FALSE))","v":""},{"$f":"VLOOKUP(D42,区分表!C13:K104,2,FALSE)","v":{"$error":"#N/A"}},{"$error":"#N/A"},{"$f":"IF(入力!F39=\"\",\"\",入力!F39)","v":""},null,{"$f":"IF(入力!G39=\"\",\"\",入力!G39)","v":""},null,{"$f":"IF(入力!H39=\"\",\"\",入力!H39)","v":""},null,{"$f":"VLOOKUP(C42,検定級リスト!$C$17:$D$165,2,FALSE)","v":{"$error":"#N/A"}},""]
[5,{"$f":"IF(入力!E40=\"\",\"\",入力!E40)","v":""},{"$f":"IF(B43=\"\",\"\",VLOOKUP(B43,区分表!$A$2:$I$104,2,FALSE))","v":""},{"$f":"IF(B43=\"\",\"\",VLOOKUP(C43,区分表!$B$2:$J$104,2,FALSE))","v":""},{"$f":"VLOOKUP(D43,区分表!C14:K104,2,FALSE)","v":{"$error":"#N/A"}},{"$error":"#N/A"},{"$f":"IF(入力!F40=\"\",\"\",入力!F40)","v":""},null,{"$f":"IF(入力!G40=\"\",\"\",入力!G40)","v":""},null,{"$f":"IF(入力!H40=\"\",\"\",入力!H40)","v":""},null,{"$f":"VLOOKUP(C43,検定級リスト!$C$17:$D$165,2,FALSE)","v":{"$error":"#N/A"}},""]
[6,{"$f":"IF(入力!E41=\"\",\"\",入力!E41)","v":""},{"$f":"IF(B44=\"\",\"\",VLOOKUP(B44,区分表!$A$2:$I$104,2,FALSE))","v":""},{"$f":"IF(B44=\"\",\"\",VLOOKUP(C44,区分表!$B$2:$J$104,2,FALSE))","v":""},{"$f":"VLOOKUP(D44,区分表!C15:K104,2,FALSE)","v":{"$error":"#N/A"}},{"$error":"#N/A"},{"$f":"IF(入力!F41=\"\",\"\",入力!F41)","v":""},null,{"$f":"IF(入力!G41=\"\",\"\",入力!G41)","v":""},null,{"$f":"IF(入力!H41=\"\",\"\",入力!H41)","v":""},null,{"$f":"VLOOKUP(C44,検定級リスト!$C$17:$D$165,2,FALSE)","v":{"$error":"#N/A"}},""]
[7,{"$f":"IF(入力!E42=\"\",\"\",入力!E42)","v":""},{"$f":"IF(B45=\"\",\"\",VLOOKUP(B45,区分表!$A$2:$I$104,2,FALSE))","v":""},{"$f":"IF(B45=\"\",\"\",VLOOKUP(C45,区分表!$B$2:$J$104,2,FALSE))","v":""},{"$f":"VLOOKUP(D45,区分表!C16:K104,2,FALSE)","v":{"$error":"#N/A"}},{"$error":"#N/A"},{"$f":"IF(入力!F42=\"\",\"\",入力!F42)","v":""},null,{"$f":"IF(入力!G42=\"\",\"\",入力!G42)","v":""},null,{"$f":"IF(入力!H42=\"\",\"\",入力!H42)","v":""},null,{"$f":"VLOOKUP(C45,検定級リスト!$C$17:$D$165,2,FALSE)","v":{"$error":"#N/A"}},""]
[8,{"$f":"IF(入力!E43=\"\",\"\",入力!E43)","v":""},{"$f":"IF(B46=\"\",\"\",VLOOKUP(B46,区分表!$A$2:$I$104,2,FALSE))","v":""},{"$f":"IF(B46=\"\",\"\",VLOOKUP(C46,区分表!$B$2:$J$104,2,FALSE))","v":""},{"$f":"VLOOKUP(D46,区分表!C17:K105,2,FALSE)","v":{"$error":"#N/A"}},{"$error":"#N/A"},{"$f":"IF(入力!F43=\"\",\"\",入力!F43)","v":""},null,{"$f":"IF(入力!G43=\"\",\"\",入力!G43)","v":""},null,{"$f":"IF(入力!H43=\"\",\"\",入力!H43)","v":""},null,{"$f":"VLOOKUP(C46,検定級リスト!$C$17:$D$165,2,FALSE)","v":{"$error":"#N/A"}},{"$f":"C46&I46","v":""}]
[9,{"$f":"IF(入力!E44=\"\",\"\",入力!E44)","v":""},{"$f":"IF(B47=\"\",\"\",VLOOKUP(B47,区分表!$A$2:$I$104,2,FALSE))","v":""},{"$f":"IF(B47=\"\",\"\",VLOOKUP(C47,区分表!$B$2:$J$104,2,FALSE))","v":""},{"$f":"VLOOKUP(D47,区分表!C17:K105,2,FALSE)","v":{"$error":"#N/A"}},{"$f":"VLOOKUP(E47,L91:L149,2,FALSE)","v":{"$error":"#N/A"}},{"$f":"IF(入力!F44=\"\",\"\",入力!F44)","v":""},null,{"$f":"IF(入力!G44=\"\",\"\",入力!G44)","v":""},null,{"$f":"IF(入力!H44=\"\",\"\",入力!H44)","v":""},null,{"$f":"VLOOKUP(C47,検定級リスト!$C$17:$D$165,2,FALSE)","v":{"$error":"#N/A"}},{"$f":"C47&I47","v":""}]
[10,{"$f":"IF(入力!E45=\"\",\"\",入力!E45)","v":""},{"$f":"IF(B48=\"\",\"\",VLOOKUP(B48,区分表!$A$2:$I$104,2,FALSE))","v":""},{"$f":"IF(B48=\"\",\"\",VLOOKUP(C48,区分表!$B$2:$J$104,2,FALSE))","v":""},{"$f":"VLOOKUP(D48,区分表!C17:K105,2,FALSE)","v":{"$error":"#N/A"}},{"$f":"VLOOKUP(E48,L91:L149,2,FALSE)","v":{"$error":"#N/A"}},{"$f":"IF(入力!F45=\"\",\"\",入力!F45)","v":""},null,{"$f":"IF(入力!G45=\"\",\"\",入力!G45)","v":""},null,{"$f":"IF(入力!H45=\"\",\"\",入力!H45)","v":""},null,{"$f":"VLOOKUP(C48,検定級リスト!$C$17:$D$165,2,FALSE)","v":{"$error":"#N/A"}},{"$f":"C48&I48","v":""}]
[11,{"$f":"IF(入力!E46=\"\",\"\",入力!E46)","v":""},{"$f":"IF(B49=\"\",\"\",VLOOKUP(B49,区分表!$A$2:$I$104,2,FALSE))","v":""},{"$f":"IF(B49=\"\",\"\",VLOOKUP(C49,区分表!$B$2:$J$104,2,FALSE))","v":""},{"$f":"VLOOKUP(D49,区分表!C17:K105,2,FALSE)","v":{"$error":"#N/A"}},{"$f":"VLOOKUP(E49,L91:L149,2,FALSE)","v":{"$error":"#N/A"}},{"$f":"IF(入力!F46=\"\",\"\",入力!F46)","v":""},null,{"$f":"IF(入力!G46=\"\",\"\",入力!G46)","v":""},null,{"$f":"IF(入力!H46=\"\",\"\",入力!H46)","v":""},null,{"$f":"VLOOKUP(C49,検定級リスト!$C$17:$D$165,2,FALSE)","v":{"$error":"#N/A"}},{"$f":"C49&I49","v":""}]
[12,{"$f":"IF(入力!E47=\"\",\"\",入力!E47)","v":""},{"$f":"IF(B50=\"\",\"\",VLOOKUP(B50,区分表!$A$2:$I$104,2,FALSE))","v":""},{"$f":"IF(B50=\"\",\"\",VLOOKUP(C50,区分表!$B$2:$J$104,2,FALSE))","v":""},{"$f":"VLOOKUP(D50,区分表!C17:K105,2,FALSE)","v":{"$error":"#N/A"}},{"$f":"VLOOKUP(E50,L91:L149,2,FALSE)","v":{"$error":"#N/A"}},{"$f":"IF(入力!F47=\"\",\"\",入力!F47)","v":""},null,{"$f":"IF(入力!G47=\"\",\"\",入力!G47)","v":""},null,{"$f":"IF(入力!H47=\"\",\"\",入力!H47)","v":""},null,{"$f":"VLOOKUP(C50,検定級リスト!$C$17:$D$165,2,FALSE)","v":{"$error":"#N/A"}},{"$f":"C50&I50","v":""}]
[13,{"$f":"IF(入力!E48=\"\",\"\",入力!E48)","v":""},{"$f":"IF(B51=\"\",\"\",VLOOKUP(B51,区分表!$A$2:$I$104,2,FALSE))","v":""},{"$f":"IF(B51=\"\",\"\",VLOOKUP(C51,区分表!$B$2:$J$104,2,FALSE))","v":""},{"$f":"VLOOKUP(D51,区分表!C17:K105,2,FALSE)","v":{"$error":"#N/A"}},{"$f":"VLOOKUP(E51,L91:L149,2,FALSE)","v":{"$error":"#N/A"}},{"$f":"IF(入力!F48=\"\",\"\",入力!F48)","v":""},null,{"$f":"IF(入力!G48=\"\",\"\",入力!G48)","v":""},null,{"$f":"IF(入力!H48=\"\",\"\",入力!H48)","v":""},null,{"$f":"VLOOKUP(C51,検定級リスト!$C$17:$D$165,2,FALSE)","v":{"$error":"#N/A"}},{"$f":"C51&I51","v":""}]
[14,{"$f":"IF(入力!E49=\"\",\"\",入力!E49)","v":""},{"$f":"IF(B52=\"\",\"\",VLOOKUP(B52,区分表!$A$2:$I$104,2,FALSE))","v":""},{"$f":"IF(B52=\"\",\"\",VLOOKUP(C52,区分表!$B$2:$J$104,2,FALSE))","v":""},{"$f":"VLOOKUP(D52,区分表!C18:K105,2,FALSE)","v":{"$error":"#N/A"}},{"$f":"VLOOKUP(E52,L92:L150,2,FALSE)","v":{"$error":"#N/A"}},{"$f":"IF(入力!F49=\"\",\"\",入力!F49)","v":""},null,{"$f":"IF(入力!G49=\"\",\"\",入力!G49)","v":""},null,{"$f":"IF(入力!H49=\"\",\"\",入力!H49)","v":""},null,{"$f":"VLOOKUP(C52,検定級リスト!$C$17:$D$165,2,FALSE)","v":{"$error":"#N/A"}},{"$f":"C52&I52","v":""}]
[15,{"$f":"IF(入力!E50=\"\",\"\",入力!E50)","v":""},{"$f":"IF(B53=\"\",\"\",VLOOKUP(B53,区分表!$A$2:$I$104,2,FALSE))","v":""},{"$f":"IF(B53=\"\",\"\",VLOOKUP(C53,区分表!$B$2:$J$104,2,FALSE))","v":""},{"$f":"VLOOKUP(D53,区分表!C18:K105,2,FALSE)","v":{"$error":"#N/A"}},{"$f":"VLOOKUP(E53,L92:L150,2,FALSE)","v":{"$error":"#N/A"}},{"$f":"IF(入力!F50=\"\",\"\",入力!F50)","v":""},null,{"$f":"IF(入力!G50=\"\",\"\",入力!G50)","v":""},null,{"$f":"IF(入力!H50=\"\",\"\",入力!H50)","v":""},null,{"$f":"VLOOKUP(C53,検定級リスト!$C$17:$D$165,2,FALSE)","v":{"$error":"#N/A"}},{"$f":"C53&I53","v":""}]
[null,null,null,null,null,null,"区分Ｂ　合計得点",null,null,null,{"$f":"SUM(K39:L53)","v":0}]
[]
["区分Ｃ"]
[1,{"$f":"IF(入力!E54=\"\",\"\",入力!E54)","v":""},{"$f":"IF(B57=\"\",\"\",VLOOKUP(B57,区分表!$A$2:$I$104,2,FALSE))","v":""},{"$f":"IF(B57=\"\",\"\",VLOOKUP(C57,区分表!$B$2:$J$104,2,FALSE))","v":""},{"$f":"VLOOKUP(D57,区分表!C22:K104,2,FALSE)","v":{"$error":"#N/A"}},{"$f":"VLOOKUP(E57,L96:L154,2,FALSE)","v":{"$error":"#N/A"}},{"$f":"IF(入力!F54=\"\",\"\",入力!F54)","v":""},null,{"$f":"IF(入力!G54=\"\",\"\",入力!G54)","v":""},null,{"$f":"IF(入力!H54=\"\",\"\",入力!H54)","v":""},null,{"$f":"VLOOKUP(C57,検定級リスト!$C$17:$D$165,2,FALSE)","v":{"$error":"#N/A"}},{"$f":"C57&I57","v":""}]
[{"$f":"A57+1","v":2},{"$f":"IF(入力!E55=\"\",\"\",入力!E55)","v":""},{"$f":"IF(B58=\"\",\"\",VLOOKUP(B58,区分表!$A$2:$I$104,2,FALSE))","v":""},{"$f":"IF(B58=\"\",\"\",VLOOKUP(C58,区分表!$B$2:$J$104,2,FALSE))","v":""},{"$f":"VLOOKUP(D58,区分表!C23:K104,2,FALSE)","v":{"$error":"#N/A"}},{"$f":"VLOOKUP(E58,L97:L155,2,FALSE)","v":{"$error":"#N/A"}},{"$f":"IF(入力!F55=\"\",\"\",入力!F55)","v":""},null,{"$f":"IF(入力!G55=\"\",\"\",入力!G55)","v":""},null,{"$f":"IF(入力!H55=\"\",\"\",入力!H55)","v":""},null,{"$f":"VLOOKUP(C58,検定級リスト!$C$17:$D$165,2,FALSE)","v":{"$error":"#N/A"}},{"$f":"C58&I58","v":""}]
[{"$f":"A58+1","v":3},{"$f":"IF(入力!E56=\"\",\"\",入力!E56)","v":""},{"$f":"IF(B59=\"\",\"\",VLOOKUP(B59,区分表!$A$2:$I$104,2,FALSE))","v":""},{"$f":"IF(B59=\"\",\"\",VLOOKUP(C59,区分表!$B$2:$J$104,2,FALSE))","v":""},{"$f":"VLOOKUP(D59,区分表!C24:K104,2,FALSE)","v":{"$error":"#N/A"}},{"$f":"VLOOKUP(E59,L98:L156,2,FALSE)","v":{"$error":"#N/A"}},{"$f":"IF(入力!F56=\"\",\"\",入力!F56)","v":""},null,{"$f":"IF(入力!G56=\"\",\"\",入力!G56)","v":""},null,{"$f":"IF(入力!H56=\"\",\"\",入力!H56)","v":""},null,{"$f":"VLOOKUP(C59,検定級リスト!$C$17:$D$165,2,FALSE)","v":{"$error":"#N/A"}},""]
[4,{"$f":"IF(入力!E57=\"\",\"\",入力!E57)","v":""},{"$f":"IF(B60=\"\",\"\",VLOOKUP(B60,区分表!$A$2:$I$104,2,FALSE))","v":""},{"$f":"IF(B60=\"\",\"\",VLOOKUP(C60,区分表!$B$2:$J$104,2,FALSE))","v":""},{"$f":"VLOOKUP(D60,区分表!C25:K104,2,FALSE)","v":{"$error":"#N/A"}},{"$f":"VLOOKUP(E60,L99:L157,2,FALSE)","v":{"$error":"#N/A"}},{"$f":"IF(入力!F57=\"\",\"\",入力!F57)","v":""},null,{"$f":"IF(入力!G57=\"\",\"\",入力!G57)","v":""},null,{"$f":"IF(入力!H57=\"\",\"\",入力!H57)","v":""},null,{"$f":"VLOOKUP(C60,検定級リスト!$C$17:$D$165,2,FALSE)","v":{"$error":"#N/A"}},""]
[5,{"$f":"IF(入力!E58=\"\",\"\",入力!E58)","v":""},{"$f":"IF(B61=\"\",\"\",VLOOKUP(B61,区分表!$A$2:$I$104,2,FALSE))","v":""},{"$f":"IF(B61=\"\",\"\",VLOOKUP(C61,区分表!$B$2:$J$104,2,FALSE))","v":""},{"$f":"VLOOKUP(D61,区分表!C26:K104,2,FALSE)","v":{"$error":"#N/A"}},{"$f":"VLOOKUP(E61,L100:L158,2,FALSE)","v":{"$error":"#N/A"}},{"$f":"IF(入力!F58=\"\",\"\",入力!F58)","v":""},null,{"$f":"IF(入力!G58=\"\",\"\",入力!G58)","v":""},null,{"$f":"IF(入力!H58=\"\",\"\",入力!H58)","v":""},null,{"$f":"VLOOKUP(C61,検定級リスト!$C$17:$D$165,2,FALSE)","v":{"$error":"#N/A"}},""]
[null,null,null,null,null,null,"区分Ｃ　合計得点",null,null,null,{"$f":"SUM(K57:L61)","v":0}]
[]
["合　計　得　点",null,null,{"$f":"SUM(K36,K54,K62)","v":0},null,{"$f":"入力!G63","v":" "}]
[]
["※資格および競技会の成績を証明するものの写（コピー可）を添えて担当の先生に提出すること。"]

{"sheet":"区分表","index":2,"n_rows":104,"n_cols":15,"rows_kept":104,"cut":false,"hidden":false,"merged":[[61,3,63,3],[76,3,87,3],[64,3,70,3]]}
["区分Ａ",null,null,20,15,10,5]
[101,"海技士　航海（筆記試験合格）","国土交通省","二級","三級","四級","五級"]
[102,"海技士　機関（筆記試験合格）","国土交通省","二級","三級","四級","五級"]
[103,"海技士　 機関（筆記試験合格）","国土交通省","内燃二級","内燃三級","内燃四級","内燃五級"]
[104,"小型船舶操縦士（免許状取得）","国土交通省",null,null,"1級","2級"]
[201,"総合無線通信士","総務省","第１級","第2級","第3級"]
[202,"陸上無線技術士","総務省","第１級","第2級"]
[203,"海上無線通信士","総務省",null,"第1級","第2級","第3級"]
[204,"工事担任者","総務省",null,"ＡＩ１種","ＡＩ２種","ＡＩ３種"]
[205,"工事担任者","総務省",null,"ＤＤ１種","ＤＤ２種","ＤＤ３種"]
[206,"潜水士","厚生労働省",null,null,"○"]
[301,"水産海洋技術検定","全国水産高等学校長協会",null,null,null,"○"]
[302,"高等学校海洋情報技術検定","全国水産高等学校長協会",null,null,"第1級","第2級"]
[303,"高等学校通信技術検定","全国水産高等学校長協会",null,null,"〇"]
[304,"高等学校栽培漁業技術検定","全国水産高等学校長協会",null,"1級","２級"]
[305,"食品技能検定","全国水産高等学校長協会",null,null,"第1類"]
[306,"食品技能検定","全国水産高等学校長協会",null,null,"第2類"]
[307,"食品技能検定","全国水産高等学校長協会",null,null,"第3類"]
[308,"ＨＡＣＣＰ基本技能検定","全国水産高等学校長協会",null,null,null,"〇"]
[309,"高等学校潜水技術検定","全国水産高等学校長協会",null,"１級","２級"]
[310,"高等学校漁業技術検定","全国水産高等学校長協会",null,"○"]
[311,"高等学校エンジン技術検定","全国水産高等学校長協会",null,"1級","２級"]
[401,"生徒研究発表大会(全国大会)","全国水産高等学校長協会","最優秀","優秀"]
[402,"生徒研究発表大会(地区大会)","全国水産高等学校長協会",null,null,"最優秀","優秀"]
[403,"ｶｯﾀｰﾚｰｽ大会(全国大会)","全国水産高等学校長協会",null,"優勝","2位","3位"]
[404,"ｶｯﾀｰﾚｰｽ大会(地区大会)","全国水産高等学校長協会",null,null,null,"優勝"]
[405,"ﾌｨｯｼﾝｸﾞ技能ｺﾝﾃｽﾄ(部門別)","全国水産高等学校長協会",null,null,null,"優勝"]
[406,"食品技能ｺﾝﾃｽﾄ","全国水産高等学校長協会","総合優勝","2位","3位"]
[407,"ﾀﾞｲﾋﾞﾝｸﾞ技能ｺﾝﾃｽﾄ(全国大会)","全国水産高等学校長協会",null,"総合優勝","2位","3位"]
[408,"ﾀﾞｲﾋﾞﾝｸﾞ技能ｺﾝﾃｽﾄ(地区大会)","全国水産高等学校長協会",null,null,null,"総合優勝"]
[409,"栽培漁業検定ポスター・標語・スケッチ・コンテスト","全国水産高等学校長協会",null,null,"最優秀","優秀"]
[410,"意見・体験発表大会（全国大会）","全国高等学校水産教育研究会","最優秀","優秀"]
[411,"意見・体験発表大会（地区大会）","全国高等学校水産教育研究会",null,null,"最優秀","優秀"]
[412,"マリンロボットコンテスト","全国水産高等学校長協会",null,"総合優勝","2位","3位"]
[413]
[414]
[]
["コード","資格","主催団体",15,10,5,2]
[501,"ボイラ技士","厚生労働省",null,"２級"]
[502,"第３種冷凍機械責任者","厚生労働省","〇"]
[503,"甲種危険物取扱者","総務省","甲種"]
[504,"乙種危険物取扱者（１５点まで）","総務省",null,null,"1類"]
[505,"乙種危険物取扱者（１５点まで）","総務省",null,null,"2類"]
[506,"乙種危険物取扱者（１５点まで）","総務省",null,null,"3類"]
[507,"乙種危険物取扱者（１５点まで）","総務省",null,null,"4類"]
[508,"乙種危険物取扱者（１５点まで）","総務省",null,null,"5類"]
[509,"乙種危険物取扱者（１５点まで）","総務省",null,null,"6類"]
[510,"丙種危険物取扱者","総務省",null,null,null,"○"]
[511,"ボイラー整備士","安全衛生技術試験協会",null,"○"]
[512,"消防設備士（１５点まで）","消防試験研究センター",null,null,"乙1種"]
[513,"消防設備士（１５点まで）","消防試験研究センター",null,null,"乙2種"]
[514,"消防設備士（１５点まで）","消防試験研究センター",null,null,"乙3種"]
[515,"消防設備士（１５点まで）","消防試験研究センター",null,null,"乙4種"]
[516,"消防設備士（１５点まで）","消防試験研究センター",null,null,"乙5種"]
[517,"消防設備士（１５点まで）","消防試験研究センター",null,null,"乙6種"]
[518,"消防設備士（１５点まで）","消防試験研究センター",null,null,"乙7種"]
[519,"溶接技能者評価試験（１０点まで）※JIS溶接評価試験","日本溶接協会",null,null,"A-2F"]
[520,"溶接技能者評価試験（１０点まで）※JIS溶接評価試験","日本溶接協会",null,null,"G-1F"]
[521,"溶接技能者評価試験（１０点まで）※JIS溶接評価試験","日本溶接協会",null,null,"SN-1F"]
[522,"電気工事士２種","経済産業省",null,"○"]
[523,"販売士","日本商工会議所",null,null,"3級"]
[524,"簿記検定","日本商工会議所","合計10点\nまで","2級","3級"]
[525,"簿記実務検定","商高長会",null,"1級","2級","3級"]
[526,"簿記能力検定","全国経理教育協会",null,"1級","2級","3級",null,null,"1級",null,"2級",null,null,"3級"]
[527,"日本語ワープロ検定","日本情報処理検定協会","合計10点\nまで","1級・準1級","2級・準2級","3級",null,null,"準1級",null,"準2級"]
[528,"情報処理技能検定","日本情報処理検定協会",null,"1級・準1級","2級・準2級","3級",null,"10点",null,null,"5点",null,null,"2点"]
[529,"ビジネス文書実務検定","商高長会",null,"1級","2級","3級",null,{"$f":"B65&J64","v":"日本語ワープロ検定1級"},null,null,{"$f":"B65&L64","v":"日本語ワープロ検定2級"},null,null,{"$f":"B65&$O$64","v":"日本語ワープロ検定3級"}]
[530,"PC検定（文書作成）","日商・全経",null,"1級","2級","3級",null,{"$f":"B65&J65","v":"日本語ワープロ検定準1級"},null,null,{"$f":"B65&L65","v":"日本語ワープロ検定準2級"},null,null,{"$f":"B66&$O$64","v":"情報処理技能検定3級"}]
[531,"情報技術検定","工高長会",null,null,"1級","2級",null,{"$f":"B66&J64","v":"情報処理技能検定1級"},null,null,{"$f":"B66&L64","v":"情報処理技能検定2級"},null,null,{"$f":"B67&$O$64","v":"ビジネス文書実務検定3級"}]
[532,"情報処理検定","商高長会",null,null,"1級","2級",null,{"$f":"B66&J65","v":"情報処理技能検定準1級"},null,null,{"$f":"B66&L65","v":"情報処理技能検定準2級"},null,null,{"$f":"B68&$O$64","v":"PC検定（文書作成）3級"}]
[533,"珠算・電卓実務検定試験","全国商業高等学校長協会",null,"1級","2級","3級",null,{"$f":"B67&J64","v":"ビジネス文書実務検定1級"},null,null,{"$f":"B67&L64","v":"ビジネス文書実務検定2級"},null,null,{"$f":"B69&$L$64","v":"情報技術検定2級"}]
[534,"食物調理技術検定","全高家教振",null,"1級","2級","3級",null,{"$f":"B68&J64","v":"PC検定（文書作成）1級"},null,null,{"$f":"B68&J64","v":"PC検定（文書作成）1級"},null,null,{"$f":"B70&$L$64","v":"情報処理検定2級"}]
[535,"陸上特殊無線技士","総務省",null,null,"第1級","第2級",null,{"$f":"B71&J64","v":"珠算・電卓実務検定試験1級"},null,null,{"$f":"B69&J64","v":"情報技術検定1級"},null,null,{"$f":"B71&$O$64","v":"珠算・電卓実務検定試験3級"}]
[536,"海上特殊無線技士","総務省",null,null,"第1級","第2級",null,null,null,null,{"$f":"B71&L64","v":"珠算・電卓実務検定試験2級"}]
[537,"レーダー級海上特殊無線技士","総務省",null,null,null,"○",null,"簿記検定","2級","3級"]
[538,"アマチュア無線技士","日本無線協会",null,null,"第1級","第2級",null,"簿記実務検定","1級","2級","3級"]
[539,"アマチュア無線技士　","日本無線協会","合計10点\nまで",null,null,"第3・4級",null,"簿記能力検定","1級","2級","3級"]
[540,"海上特殊無線技士　","総務省",null,null,null,"第3級"]
[541,"移動式小型クレーン","厚生労働省",null,null,null,"○",null,"10点",null,null,"5点",null,null,"2点"]
[542,"フォークリフト運転技能講習","（各県）労働局長登録教習機関",null,null,null,"○",null,{"$f":"I75&J75","v":"簿記検定2級"},null,null,{"$f":"I75&K75","v":"簿記検定3級"},null,null,{"$f":"I76&L76","v":"簿記実務検定3級"}]
[543,"アーク溶接業務特別教育講習修了証","厚生労働省",null,null,null,"○",null,{"$f":"I76&J76","v":"簿記実務検定1級"},null,null,{"$f":"I76&K76","v":"簿記実務検定2級"},null,null,{"$f":"I77&L77","v":"簿記能力検定3級"}]
[544,"ガス溶接技能者講習修了証","厚生労働省 ",null,null,null,"○",null,{"$f":"I77&J77","v":"簿記能力検定1級"},null,null,"簿記能力検定2級"]
[545,"ボイラ取扱技能講習","日本ボイラ協会各支部等",null,null,null,"○"]
[546,"普通第一種圧力容器取扱作業主任者技能講習","日本ボイラ協会各支部等",null,null,null,"○"]
[547,"玉掛け技能講習","ボイラ・クレーン安全協会等",null,null,null,"〇"]
[548,"第二種酸素欠乏危険作業特別講習　","労働局登録研修機関",null,null,null,"〇"]
[549,"クレーン運転特別教育","各県登録教習機関",null,null,null,"〇"]
[550,"低圧電気取扱業務特別教育","各県登録教習機関",null,null,null,"〇"]
[]
["コード","資格・大会","主催団体",10,5,2,1]
[1001,"実用英語技能検定試験","公益財団法人　日本英語検定協会","準1級","2級","準2級","3級"]
[1002,"技術英語能力検定（旧：工業英語能力検定）","日本工業英語協会","準ﾌﾟﾛﾌｪｯｼｮﾅﾙ（旧：２級）","1級（旧：準２級）","2級（旧：３級）","3級（旧：４級）"]
[1003,"食の６次産業化プロデューサー","一般社団法人食の検定協会",null,null,null,"レベル1"]
[1004,"食品衛生責任者","都道府県食品衛生協会",null,null,null,"合格"]
[1005,"実用数学 技能検定","公益財団法人　日本数学検定協会","準1級","2級","準2級","3級"]
[1006,"日本漢字能力検定","公益財団法人　日本漢字能力検定協会","準1級","2級","準2級","3級"]
[1007,"うまいもん甲子園","一般社団法人　全国食の甲子園協会","全国優勝",null,"地区代表"]
[1008,"全日本スポーツダイビング室内選手権大会\n５０ｍフリッパー競技（高校生の部：文部科学大臣賞対象競技のみ）","一般財団法人　社会スポーツセンター","優勝"]
[1009,"ドローン検定","ドローン検定協会",null,"第1級","第2級","第3・4級"]
[1010,"家庭動物飼育検定","日本動物飼育協会",null,null,null,"○"]
[1011,"生物分類技能検定","自然環境研究センター",null,null,"3級","4級"]
[1012,"船の文化検定","日本海洋レジャー安全・振興協会",null,"上級","中級","初級"]
[1013,"日本さかな検定","日本さかな検定協会",null,"１級","２級","３級"]
[1014]

{"sheet":"検定級リスト","index":3,"n_rows":194,"n_cols":166,"rows_kept":194,"cut":false,"hidden":true,"merged":[]}
[null,"海技士　航海（筆記試験合格）","海技士　機関（筆記試験合格）","海技士　  機関（筆記試験合格）","小型船舶操縦士（免許状取得）","総合無線通信士","陸上無線技術士","海上無線通信士","工事担任者","工事担任者","潜水士","水産海洋技術検定","高等学校海洋情報技術検定","ＨＡＣＣＰ基本技能検定","高等学校通信技術検定","高等学校栽培漁業技術検定","食品技能検定","食品技能検定","食品技能検定","高等学校潜水技術検定","高等学校漁業技術検定","高等学校エンジン技術検定","生徒研究発表大会(全国大会)","生徒研究発表大会(地区大会)","生徒研究発表大会(校内大会)","ｶｯﾀｰﾚｰｽ大会(全国大会)","ｶｯﾀｰﾚｰｽ大会(地区大会)","ﾌｨｯｼﾝｸﾞ技能ｺﾝﾃｽﾄ(部門別)","食品技能ｺﾝﾃｽﾄ","ﾀﾞｲﾋﾞﾝｸﾞ技能ｺﾝﾃｽﾄ(全国大会)","ﾀﾞｲﾋﾞﾝｸﾞ技能ｺﾝﾃｽﾄ(地区大会)","栽培漁業検定ポスター・標語・スケッチ・コンテスト","意見・体験発表大会（全国大会）","意見・体験発表大会（地区大会）","意見・体験発表大会（校内大会）","マリンロボットコンテスト",null,"資格","ボイラ技士","第３種冷凍機械責任者","甲種危険物取扱者","乙種危険物取扱者（１５点まで）","ボイラ取扱技能講習","普通第一種圧力容器取扱作業主任者技能講習","玉掛け技能講習","第二種酸素欠乏危険作業特別講習","乙種危険物取扱者（２０点まで）","丙種危険物取扱者","電気工事士２種","アーク溶接基本級A-2F\n※ＪＩＳ溶接評価試験","アーク溶接業務特別教育講習修了証","ガス溶接技能者講習修了証","販売士","簿記検定","簿記実務検定","ビジネス文書実務検定","PC検定（文書作成）","食物調理技術検定","陸上特殊無線技士","海上特殊無線技士","レーダー級海上特殊無線技士","情報技術検定","情報処理検定","移動式小型クレーン","実用英語技能検定試験","フォークリフト運転技能講習",null,"資格・大会","食の６次産業化プロデューサー","食品衛生責任者","実用数学 技能検定","日本漢字能力検定","うまいもん甲子園","全日本スポーツダイビング室内選手権大会\n５０ｍフリッパー競技（高校生の部：文部科学大臣賞対象競技のみ）","ボイラー整備士","消防設備士（１５点まで）","溶接技能者評価試験（１０点まで）※JIS溶接評価試験","日本語ワープロ検定","情報処理技能検定","珠算・電卓実務検定試験","クレーン運転特別教育","低圧電気取扱業務特別教育","技術英語能力検定（旧：工業英語能力検定）","ドローン検定","家庭動物飼育検定","生物分類技能検定","船の文化検定","日本さかな検定","簿記能力検定","アマチュア無線技士","海上特殊無線技士　","アマチュア無線技士　"]
[null,"a1","a2","a3","a4","a5","a6","a7","a8","a9","a10","a11","a12","a13","a14","a15","a16","a17","a18","a19","a20","a21","a22","a23","a24","a25","a26","a27","a28","a29","a30","a31","a32","a33","a34","a35","a36","a37","a38","a39","a40","a41","a42","a43","a44","a45","a46","a47","a48","a49","a50","a51","a52","a53","a54","a55","a56","a57","a58","a59","a60","a61","a62","a63","a64","a65","a66","a67","a68","a69","a70","a71","a72","a73","a74","a75","a76","a77","a78","a79","a80","a81","a82","a83","a84","a85","a86","a87","a88","a89","a90","a91","a92","a93","a94","a95","a96","a97","a98","a99","a100","a101","a102","a103","a104","a105","a106","a107","a108","a109","a110","a111","a112","a113","a114","a115","a116","a117","a118","a119","a120","a121","a122","a123","a124","a125","a126","a127","a128","a129","a130","a131","a132","a133","a134","a135","a136","a137","a138","a139","a140","a141","a142","a143","a144","a145","a146","a147","a148","a149","a150","a151","a152","a153","a154","a155","a156","a157","a158","a159","a160","a161","a162","a163","a164","a165"]
[null,"二級","二級","内燃二級","1級","第１級","第１級","第1級","ＡＩ１種",null,"合格","合格","第1級","合格","合格","1級","第1類",null,null,"１級","合格","１級","最優秀","最優秀",null,"優勝","優勝","優勝","総合優勝","総合優勝","総合優勝","最優秀","最優秀","最優秀",null,"総合優勝",null,15,"２級","合格","甲種","1類","合格","合格","合格","合格",null,"合格","合格","合格","合格","合格","３級","2級","1級","1級","1級","1級","第1級","第1級","合格","1級","1級","合格","準1級","合格",null,10,"レベル1","合格","準1級","準1級","全国優勝","優勝","合格","乙1種","A-2F","1級","1級","1級","合格","合格","準ﾌﾟﾛﾌｪｯｼｮﾅﾙ（旧：２級）","第1級","合格","3級","上級","１級","１級","第1級","第3級","第3級"]
[null,"三級","三級","内燃三級","2級","第2級","第2級","第2級","ＡＩ２種",null,null,null,"第2級",null,null,"２級","第2類",null,null,"２級",null,"２級","優秀","優秀",null,"2位",null,null,"2位","2位",null,"優秀","優秀","優秀",null,"2位",null,10,null,null,null,"2類",null,null,null,null,null,null,null,null,null,null,null,"3級","2級","2級","2級","2級","第2級","第2級",null,"2級","2級",null,"2級",null,null,5,null,null,"2級","2級","地区代表",null,null,"乙2種","G-1F","準1級","準1級","2級",null,null,"1級（旧：準２級）","第2級",null,"4級","中級","２級","２級","第2級",null,"第4級"]
[null,"四級","四級","内燃四級",null,"第3級",null,"第3級","ＡＩ３種",null,null,null,null,null,null,null,"第3類",null,null,null,null,null,null,null,null,"3位",null,null,"3位","3位",null,null,null,null,null,"3位",null,5,null,null,null,"3類",null,null,null,null,null,null,null,null,null,null,null,null,"3級","3級","3級","3級",null,null,null,null,null,null,"準2級",null,null,2,null,null,"準2級","準2級",null,null,null,"乙3種","SN-1F","2級","2級","3級",null,null,"2級（旧：３級）","第3級",null,null,"初級","３級","３級"]
[null,"五級","五級","内燃五級",null,null,null,"第4級","ＤＤ１種",null,null,null,null,null,null,null,null,null,null,null,null,null,null,null,null,null,null,null,null,null,null,null,null,null,null,null,null,2,null,null,null,"4類",null,null,null,null,null,null,null,null,null,null,null,null,null,null,null,null,null,null,null,null,null,null,"3級",null,null,1,null,null,"3級","3級",null,null,null,"乙4種",null,"準2級","準2級",null,null,null,"3級（旧：４級）","第4級"]
[null,null,null,null,null,null,null,null,"ＤＤ２種",null,null,null,null,null,null,null,null,null,null,null,null,null,null,null,null,null,null,null,null,null,null,null,null,null,null,null,null,null,null,null,null,"5類",null,null,null,null,null,null,null,null,null,null,null,null,null,null,null,null,null,null,null,null,null,null,null,null,null,null,null,null,null,null,null,null,null,"乙5種",null,"3級","3級"]
[null,null,null,null,null,null,null,null,"ＤＤ３種",null,null,null,null,null,null,null,null,null,null,null,null,null,null,null,null,null,null,null,null,null,null,null,null,null,null,null,null,null,null,null,null,"6類",null,null,null,null,null,null,null,null,null,null,null,null,null,null,null,null,null,null,null,null,null,null,null,null,null,null,null,null,null,null,null,null,null,"乙6種"]
[null,null,null,null,null,null,null,null,null,null,null,null,null,null,null,null,null,null,null,null,null,null,null,null,null,null,null,null,null,null,null,null,null,null,null,null,null,null,null,null,null,null,null,null,null,null,null,null,null,null,null,null,null,null,null,null,null,null,null,null,null,null,null,null,null,null,null,null,null,null,null,null,null,null,null,"乙7種"]
[]
[]
[]
[]
[]
[null,null,"検定級リスト",null,null,null,"クレーン系リスト"]
[]
[null,null,"海技士　航海（筆記試験合格）","a1_",null,null,"移動式小型クレーン"]
[null,null,"海技士　機関（筆記試験合格）","a2_",null,null,"フォークリフト運転技能講習"]
[null,null,"海技士　 機関（筆記試験合格）","a3_",null,null,"アーク溶接業務特別教育講習修了証"]
[null,null,"小型船舶操縦士（免許状取得）","a4_",null,null,"ガス溶接技能者講習修了証"]
[null,null,"総合無線通信士","a5_",null,null,"ボイラ取扱技能講習"]
[null,null,"陸上無線技術士","a6_",null,null,"普通第一種圧力容器取扱作業主任者技能講習"]
[null,null,"海上無線通信士","a7_",null,null,"玉掛け技能講習"]
[null,null,"工事担任者","a8_",null,null,"第二種酸素欠乏危険作業特別講習　"]
[null,null,"工事担任者","a9_",null,null,"クレーン運転特別教育"]
[null,null,"潜水士","a10_",null,null,"低圧電気取扱業務特別教育"]
[null,null,"水産海洋技術検定","a11_"]
[null,null,"高等学校海洋情報技術検定","a12_"]
[null,null,"ＨＡＣＣＰ基本技能検定","a13_"]
[null,null,"高等学校通信技術検定","a14_"]
[null,null,"高等学校栽培漁業技術検定","a15_"]
[null,null,"食品技能検定","a16_"]
[null,null,"食品技能検定","a17_"]
[null,null,"食品技能検定","a18_"]
[null,null,"高等学校潜水技術検定","a19_"]
[null,null,"高等学校漁業技術検定","a20_"]
[null,null,"高等学校エンジン技術検定","a21_"]
[null,null,"生徒研究発表大会(全国大会)","a22_"]
[null,null,"生徒研究発表大会(地区大会)","a23_"]
[null,null,"生徒研究発表大会(校内大会)","a24_"]
[null,null,"ｶｯﾀｰﾚｰｽ大会(全国大会)","a25_"]
[null,null,"ｶｯﾀｰﾚｰｽ大会(地区大会)","a26_"]
[null,null,"ﾌｨｯｼﾝｸﾞ技能ｺﾝﾃｽﾄ(部門別)","a27_"]
[null,null,"食品技能ｺﾝﾃｽﾄ","a28_"]
[null,null,"ﾀﾞｲﾋﾞﾝｸﾞ技能ｺﾝﾃｽﾄ(全国大会)","a29_"]
[null,null,"ﾀﾞｲﾋﾞﾝｸﾞ技能ｺﾝﾃｽﾄ(地区大会)","a30_"]
[null,null,"栽培漁業検定ポスター・標語・スケッチ・コンテスト","a31_"]
[null,null,"意見・体験発表大会（全国大会）","a32_"]
[null,null,"意見・体験発表大会（地区大会）","a33_"]
[null,null,"意見・体験発表大会（校内大会）","a34_"]
[null,null,"マリンロボットコンテスト","a35_"]
[null,null,null,"a36_"]
[null,null,"資格","a37_"]
[null,null,"ボイラ技士","a38_"]
[null,null,"第３種冷凍機械責任者","a39_"]
[null,null,"甲種危険物取扱者","a40_"]
[null,null,"乙種危険物取扱者（１５点まで）","a41_"]
[null,null,"ボイラ取扱技能講習","a42_"]
[null,null,"普通第一種圧力容器取扱作業主任者技能講習","a43_"]
[null,null,"玉掛け技能講習","a44_"]
[null,null,"第二種酸素欠乏危険作業特別講習　","a45_"]
[null,null,"乙種危険物取扱者（２０点まで）","a46_"]
[null,null,"丙種危険物取扱者","a47_"]
[null,null,"電気工事士２種","a48_"]
[null,null,"アーク溶接基本級A-2F\n※ＪＩＳ溶接評価試験","a49_"]
[null,null,"アーク溶接業務特別教育講習修了証","a50_"]
[null,null,"ガス溶接技能者講習修了証","a51_"]
[null,null,"販売士","a52_"]
[null,null,"簿記検定","a53_"]
[null,null,"簿記実務検定","a54_"]
[null,null,"ビジネス文書実務検定","a55_"]
[null,null,"PC検定（文書作成）","a56_"]
[null,null,"食物調理技術検定","a57_"]
[null,null,"陸上特殊無線技士","a58_"]
[null,null,"海上特殊無線技士","a59_"]
[null,null,"レーダー級海上特殊無線技士","a60_"]
[null,null,"情報技術検定","a61_"]
[null,null,"情報処理検定","a62_"]
[null,null,"移動式小型クレーン","a63_"]
[null,null,"実用英語技能検定試験","a64_"]
[null,null,"フォークリフト運転技能講習","a65_"]
[null,null,null,"a66_"]
[null,null,"資格・大会","a67_"]
[null,null,"食の６次産業化プロデューサー","a68_"]
[null,null,"食品衛生責任者","a69_"]
[null,null,"実用数学 技能検定","a70_"]
[null,null,"日本漢字能力検定","a71_"]
[null,null,"うまいもん甲子園","a72_"]
[null,null,"全日本スポーツダイビング室内選手権大会\n５０ｍフリッパー競技（高校生の部：文部科学大臣賞対象競技のみ）","a73_"]
[null,null,"ボイラー整備士","a74_"]
[null,null,"消防設備士（１５点まで）","a75_"]
[null,null,"溶接技能者評価試験（１０点まで）※JIS溶接評価試験","a76_"]
[null,null,"日本語ワープロ検定","a77_"]
[null,null,"情報処理技能検定","a78_"]
[null,null,"珠算・電卓実務検定試験","a79_"]
[null,null,"クレーン運転特別教育","a80_"]
[null,null,"低圧電気取扱業務特別教育","a81_"]
[null,null,"技術英語能力検定（旧：工業英語能力検定）","a82_"]
[null,null,"ドローン検定","a83_"]
[null,null,"家庭動物飼育検定","a84_"]
[null,null,"生物分類技能検定","a85_"]
[null,null,"船の文化検定","a86_"]
[null,null,"日本さかな検定","a87_"]
[null,null,"簿記能力検定","a88_"]
[null,null,"アマチュア無線技士","a89_"]
[null,null,"海上特殊無線技士　","a90_"]
[null,null,"アマチュア無線技士　","a91_"]
[null,null,null,"a92_"]
[null,null,null,"a93_"]
[null,null,null,"a94_"]
[null,null,null,"a95_"]
[null,null,null,"a96_"]
[null,null,null,"a97_"]
[null,null,null,"a98_"]
[null,null,null,"a99_"]
[null,null,null,"a100_"]
[null,null,null,"a101_"]
[null,null,null,"a102_"]
[null,null,null,"a103_"]
[null,null,null,"a104_"]
[null,null,null,"a105_"]
[null,null,null,"a106_"]
[null,null,null,"a107_"]
[null,null,null,"a108_"]
[null,null,null,"a109_"]
[null,null,null,"a110_"]
[null,null,null,"a111_"]
[null,null,null,"a112_"]
[null,null,null,"a113_"]
[null,null,null,"a114_"]
[null,null,null,"a115_"]
[null,null,null,"a116_"]
[null,null,null,"a117_"]
[null,null,null,"a118_"]
[null,null,null,"a119_"]
[null,null,null,"a120_"]
[null,null,null,"a121_"]
[null,null,null,"a122_"]
[null,null,null,"a123_"]
[null,null,null,"a124_"]
[null,null,null,"a125_"]
[null,null,null,"a126_"]
[null,null,null,"a127_"]
[null,null,null,"a128_"]
[null,null,null,"a129_"]
[null,null,null,"a130_"]
[null,null,null,"a131_"]
[null,null,null,"a132_"]
[null,null,null,"a133_"]
[null,null,null,"a134_"]
[null,null,null,"a135_"]
[null,null,null,"a136_"]
[null,null,null,"a137_"]
[null,null,null,"a138_"]
[null,null,null,"a139_"]
[null,null,null,"a140_"]
[null,null,null,"a141_"]
[null,null,null,"a142_"]
[null,null,null,"a143_"]
[null,null,null,"a144_"]
[null,null,null,"a145_"]
[null,null,null,"a146_"]
[null,null,null,"a147_"]
[null,null,null,"a148_"]
[null,null,null,"a149_"]
[null,null,null,"a150_"]
[null,null,null,"a151_"]
[null,null,null,"a152_"]
[null,null,null,"a153_"]
[null,null,null,"a154_"]
[null,null,null,"a155_"]
[null,null,null,"a156_"]
[null,null,null,"a157_"]
[null,null,null,"a158_"]
[null,null,null,"a159_"]
[null,null,null,"a160_"]
[null,null,null,"a161_"]
[null,null,null,"a162_"]
[null,null,null,"a163_"]
[null,null,null,"a164_"]
[null,null,null,"a165_"]
[null,null,null,"a166_"]
[null,null,null,"a167_"]
[null,null,null,"a168_"]
[null,null,null,"a169_"]
[null,null,null,"a170_"]
[null,null,null,"a171_"]
[null,null,null,"a172_"]
[null,null,null,"a173_"]
[null,null,null,"a174_"]
[null,null,null,"a175_"]
[null,null,null,"a176_"]
[null,null,null,"a177_"]
[null,null,null,"a178_"]

{"sheet":"賞区分","index":4,"n_rows":4,"n_cols":3,"rows_kept":4,"cut":false,"hidden":true,"merged":[]}
[]
[null,"マリンマイスターシルバー",46]
[null,"マリンマイスターゴールド",61]
[null,"マリンマイスタープラチナ",60]

{"sheet":"得点リスト(A区分）","index":5,"n_rows":122,"n_cols":7,"rows_kept":122,"cut":false,"hidden":true,"merged":[]}
[null,"得点用",null,null,null,null,"入力用"]
[null,"海技士　航海（筆記試験合格）","二級",{"$f":"B2&C2","v":"海技士　航海（筆記試験合格）二級"},20,null,"コード"]
[null,"海技士　航海（筆記試験合格）","三級",{"$f":"B3&C3","v":"海技士　航海（筆記試験合格）三級"},15,null,101]
[null,"海技士　航海（筆記試験合格）","四級","海技士　航海（筆記試験合格）四級",10,null,102]
[null,"海技士　航海（筆記試験合格）","五級","海技士　航海（筆記試験合格）五級",5,null,103]
[null,"海技士　機関（筆記試験合格）","二級","海技士　機関（筆記試験合格）二級",20,null,104]
[null,"海技士　機関（筆記試験合格）","三級","海技士　機関（筆記試験合格）三級",15,null,201]
[null,"海技士　機関（筆記試験合格）","四級","海技士　機関（筆記試験合格）四級",10,null,202]
[null,"海技士　機関（筆記試験合格）","五級","海技士　機関（筆記試験合格）五級",5,null,203]
[null,"海技士　 機関（筆記試験合格）","内燃二級","海技士　 機関（筆記試験合格）内燃二級",20,null,204]
[null,"海技士　 機関（筆記試験合格）","内燃三級","海技士　 機関（筆記試験合格）内燃三級",15,null,205]
[null,"海技士　 機関（筆記試験合格）","内燃四級","海技士　 機関（筆記試験合格）内燃四級",10,null,206]
[null,"海技士　 機関（筆記試験合格）","内燃五級","海技士　 機関（筆記試験合格）内燃五級",5,null,301]
[null,"小型船舶操縦士（免許状取得）","1級","小型船舶操縦士（免許状取得）1級",10,null,302]
[null,"小型船舶操縦士（免許状取得）","2級","小型船舶操縦士（免許状取得）2級",5,null,303]
[null,"総合無線通信士","第１級","総合無線通信士第１級",20,null,304]
[null,"総合無線通信士","第2級","総合無線通信士第2級",15,null,305]
[null,"総合無線通信士","第3級","総合無線通信士第3級",10,null,306]
[null,"陸上無線技術士","第１級","陸上無線技術士第１級",20,null,307]
[null,"陸上無線技術士","第2級","陸上無線技術士第2級",15,null,308]
[null,"海上無線通信士","第1級","海上無線通信士第1級",15,null,308]
[null,"海上無線通信士","第2級","海上無線通信士第2級",10,null,309]
[null,"海上無線通信士","第3級","海上無線通信士第3級",5,null,310]
[null,"海上無線通信士","第4級","海上無線通信士第4級",5,null,311]
[null,"工事担任者","ＡＩ１種","工事担任者ＡＩ１種",15,null,401]
[null,"工事担任者","ＡＩ２種","工事担任者ＡＩ２種",10,null,402]
[null,"工事担任者","ＡＩ３種","工事担任者ＡＩ３種",5,null,403]
[null,"工事担任者","ＤＤ１種","工事担任者ＤＤ１種",15,null,404]
[null,"工事担任者","ＤＤ２種","工事担任者ＤＤ２種",10,null,405]
[null,"工事担任者","ＤＤ３種","工事担任者ＤＤ３種",5,null,406]
[null,"潜水士","合格","潜水士合格",10,null,407]
[null,"水産海洋技術検定","合格","水産海洋技術検定合格",5,null,408]
[null,"高等学校海洋情報技術検定","第1級","高等学校海洋情報技術検定第1級",15,null,409]
[null,"高等学校海洋情報技術検定","第2級","高等学校海洋情報技術検定第2級",10,null,410]
[null,"ＨＡＣＣＰ基本技能検定","合格","ＨＡＣＣＰ基本技能検定合格",5,null,411]
[null,"高等学校通信技術検定","合格","高等学校通信技術検定合格",10,null,412]
[null,"高等学校栽培漁業技術検定","1級","高等学校栽培漁業技術検定1級",15,null,413]
[null,"高等学校栽培漁業技術検定","２級","高等学校栽培漁業技術検定２級",10,null,414]
[null,"食品技能検定","第1類","食品技能検定第1類",10,null,501]
[null,"食品技能検定","第2類","食品技能検定第2類",10,null,502]
[null,"食品技能検定","第3類","食品技能検定第3類",10,null,503]
[null,"高等学校潜水技術検定","１級","高等学校潜水技術検定１級",15,null,504]
[null,"高等学校潜水技術検定","２級","高等学校潜水技術検定２級",10,null,505]
[null,"高等学校漁業技術検定","合格","高等学校漁業技術検定合格",15,null,506]
[null,"高等学校エンジン技術検定","１級","高等学校エンジン技術検定１級",15,null,507]
[null,"高等学校エンジン技術検定","２級","高等学校エンジン技術検定２級",10,null,508]
[null,"生徒研究発表大会(全国大会)","最優秀","生徒研究発表大会(全国大会)最優秀",20,null,509]
[null,"生徒研究発表大会(全国大会)","優秀","生徒研究発表大会(全国大会)優秀",15,null,510]
[null,"生徒研究発表大会(地区大会)","最優秀","生徒研究発表大会(地区大会)最優秀",10,null,511]
[null,"生徒研究発表大会(地区大会)","優秀","生徒研究発表大会(地区大会)優秀",5,null,512]
[null,"生徒研究発表大会(校内大会)",null,"生徒研究発表大会(校内大会)",null,null,513]
[null,"ｶｯﾀｰﾚｰｽ大会(全国大会)","優勝","ｶｯﾀｰﾚｰｽ大会(全国大会)優勝",15,null,514]
[null,"ｶｯﾀｰﾚｰｽ大会(全国大会)","2位","ｶｯﾀｰﾚｰｽ大会(全国大会)2位",10,null,515]
[null,"ｶｯﾀｰﾚｰｽ大会(全国大会)","3位","ｶｯﾀｰﾚｰｽ大会(全国大会)3位",5,null,516]
[null,"ｶｯﾀｰﾚｰｽ大会(地区大会)","優勝","ｶｯﾀｰﾚｰｽ大会(地区大会)優勝",5,null,517]
[null,"ﾌｨｯｼﾝｸﾞ技能ｺﾝﾃｽﾄ(部門別)","優勝","ﾌｨｯｼﾝｸﾞ技能ｺﾝﾃｽﾄ(部門別)優勝",5,null,518]
[null,"食品技能ｺﾝﾃｽﾄ","総合優勝","食品技能ｺﾝﾃｽﾄ総合優勝",20,null,519]
[null,"食品技能ｺﾝﾃｽﾄ","2位","食品技能ｺﾝﾃｽﾄ2位",15,null,520]
[null,"食品技能ｺﾝﾃｽﾄ","3位","食品技能ｺﾝﾃｽﾄ3位",10,null,521]
[null,"ﾀﾞｲﾋﾞﾝｸﾞ技能ｺﾝﾃｽﾄ(全国大会)","総合優勝","ﾀﾞｲﾋﾞﾝｸﾞ技能ｺﾝﾃｽﾄ(全国大会)総合優勝",15,null,522]
[null,"ﾀﾞｲﾋﾞﾝｸﾞ技能ｺﾝﾃｽﾄ(全国大会)","2位","ﾀﾞｲﾋﾞﾝｸﾞ技能ｺﾝﾃｽﾄ(全国大会)2位",10,null,523]
[null,"ﾀﾞｲﾋﾞﾝｸﾞ技能ｺﾝﾃｽﾄ(全国大会)","3位","ﾀﾞｲﾋﾞﾝｸﾞ技能ｺﾝﾃｽﾄ(全国大会)3位",5,null,524]
[null,"ﾀﾞｲﾋﾞﾝｸﾞ技能ｺﾝﾃｽﾄ(地区大会)","総合優勝","ﾀﾞｲﾋﾞﾝｸﾞ技能ｺﾝﾃｽﾄ(地区大会)総合優勝",5,null,525]
[null,"栽培漁業検定ポスター・標語・スケッチ・コンテスト","最優秀","栽培漁業検定ポスター・標語・スケッチ・コンテスト最優秀",10,null,526]
[null,"栽培漁業検定ポスター・標語・スケッチ・コンテスト","優秀","栽培漁業検定ポスター・標語・スケッチ・コンテスト優秀",5,null,527]
[null,"意見・体験発表大会（全国大会）","最優秀","意見・体験発表大会（全国大会）最優秀",20,null,528]
[null,"意見・体験発表大会（全国大会）","優秀","意見・体験発表大会（全国大会）優秀",15,null,529]
[null,"意見・体験発表大会（地区大会）","最優秀",{"$f":"B68&C68","v":"意見・体験発表大会（地区大会）最優秀"},10,null,530]
[null,"意見・体験発表大会（地区大会）","優秀","意見・体験発表大会（地区大会）優秀",5,null,531]
[null,"意見・体験発表大会（校内大会）",null,"意見・体験発表大会（校内大会）",null,null,532]
[null,"マリンロボットコンテスト","総合優勝","マリンロボットコンテスト総合優勝",15]
[null,"マリンロボットコンテスト","2位","マリンロボットコンテスト2位",10]
[null,"マリンロボットコンテスト","3位","マリンロボットコンテスト3位",5]
[null,"ボイラ技士","１級",{"$f":"B74&C74","v":"ボイラ技士１級"},15]
[null,"ボイラ技士","２級","ボイラ技士２級",10]
[null,"第３種冷凍機械責任者","合格","第３種冷凍機械責任者合格",15]
[null,"甲種危険物取扱者","甲種","甲種危険物取扱者甲種",15]
[null,"乙種危険物取扱者（１５点まで）","1類","乙種危険物取扱者（１５点まで）1類",5]
[null,"乙種危険物取扱者（１５点まで）","2類","乙種危険物取扱者（１５点まで）2類",5]
[null,"乙種危険物取扱者（１５点まで）","3類","乙種危険物取扱者（１５点まで）3類",5]
[null,"乙種危険物取扱者（１５点まで）","4類","乙種危険物取扱者（１５点まで）4類",5]
[null,"乙種危険物取扱者（１５点まで）","5類","乙種危険物取扱者（１５点まで）5類",5]
[null,"乙種危険物取扱者（１５点まで）","6類","乙種危険物取扱者（１５点まで）6類",5]
[null,"丙種危険物取扱者","合格","丙種危険物取扱者合格",2]
[null,"電気工事士２種","合格","電気工事士２種合格",10]
[null,"アーク溶接基本級A-2F\n※ＪＩＳ溶接評価試験","合格","アーク溶接基本級A-2F\n※ＪＩＳ溶接評価試験合格",5]
[null,"アーク溶接業務特別教育講習修了証","合格","アーク溶接業務特別教育講習修了証合格",2]
[null,"ガス溶接技能者講習修了証","合格","ガス溶接技能者講習修了証合格",2]
[null,"販売士","３級","販売士３級",5]
[null,"簿記検定","2級","簿記検定2級",10]
[null,"簿記検定","3級","簿記検定3級",5]
[null,"簿記実務検定","1級","簿記実務検定1級",10]
[null,"簿記実務検定","2級","簿記実務検定2級",5]
[null,"簿記実務検定","3級","簿記実務検定3級",2]
[null,"ビジネス文書実務検定","1級","ビジネス文書実務検定1級",10]
[null,"ビジネス文書実務検定","2級","ビジネス文書実務検定2級",5]
[null,"ビジネス文書実務検定","3級","ビジネス文書実務検定3級",2]
[null,"PC検定（文書作成）","1級","PC検定（文書作成）1級",10]
[null,"PC検定（文書作成）","2級","PC検定（文書作成）2級",5]
[null,"PC検定（文書作成）","3級","PC検定（文書作成）3級",2]
[null,"食物調理技術検定","1級","食物調理技術検定1級",10]
[null,"食物調理技術検定","2級","食物調理技術検定2級",5]
[null,"食物調理技術検定","3級","食物調理技術検定3級",2]
[null,"陸上特殊無線技士","第1級","陸上特殊無線技士第1級",5]
[null,"陸上特殊無線技士","第2級","陸上特殊無線技士第2級",2]
[null,"海上特殊無線技士","第1級","海上特殊無線技士第1級",5]
[null,"海上特殊無線技士","第2級","海上特殊無線技士第2級",2]
[null,"レーダー級海上特殊無線技士","合格","レーダー級海上特殊無線技士合格",2]
[null,"情報技術検定","1級","情報技術検定1級",5]
[null,"情報技術検定","2級","情報技術検定2級",2]
[null,"情報処理検定","1級","情報処理検定1級",5]
[null,"情報処理検定","2級","情報処理検定2級",2]
[null,"移動式小型クレーン","合格","移動式小型クレーン合格",2]
[null,"実用英語技能検定試験","準1級","実用英語技能検定試験準1級",15]
[null,"実用英語技能検定試験","2級","実用英語技能検定試験2級",10]
[null,"実用英語技能検定試験","準2級","実用英語技能検定試験準2級",5]
[null,"実用英語技能検定試験","3級","実用英語技能検定試験3級",2]
[null,"フォークリフト運転技能講習","合格","フォークリフト運転技能講習合格",2]
[null,"ボイラ取扱技能講習","合格","ボイラ取扱技能講習合格",2]
[null,"普通第一種圧力容器取扱作業主任者技能講習","合格","普通第一種圧力容器取扱作業主任者技能講習合格",2]
[null,"玉掛け技能講習","合格","玉掛け技能講習合格",2]
[null,"第二種酸素欠乏危険作業特別講習","合格","第二種酸素欠乏危険作業特別講習合格",2]

{"sheet":"得点リスト（Ｂ区分）","index":6,"n_rows":85,"n_cols":7,"rows_kept":85,"cut":false,"hidden":true,"merged":[]}
[null,"得点用"]
[null,"ボイラ技士","２級",{"$f":"B2&C2","v":"ボイラ技士２級"},10]
[null,"第３種冷凍機械責任者","合格","第３種冷凍機械責任者合格",15]
[null,"甲種危険物取扱者","甲種","甲種危険物取扱者甲種",15]
[null,"乙種危険物取扱者（１５点まで）","1類","乙種危険物取扱者（１５点まで）1類",5]
[null,"乙種危険物取扱者（１５点まで）","2類","乙種危険物取扱者（１５点まで）2類",5]
[null,"乙種危険物取扱者（１５点まで）","3類","乙種危険物取扱者（１５点まで）3類",5]
[null,"乙種危険物取扱者（１５点まで）","4類","乙種危険物取扱者（１５点まで）4類",5]
[null,"乙種危険物取扱者（１５点まで）","5類","乙種危険物取扱者（１５点まで）5類",5]
[null,"乙種危険物取扱者（１５点まで）","6類","乙種危険物取扱者（１５点まで）6類",5]
[null,"丙種危険物取扱者","合格","丙種危険物取扱者合格",2]
[null,"ボイラー整備士","合格","ボイラー整備士合格",10]
[null,"消防設備士（１５点まで）","乙1種","消防設備士（１５点まで）乙1種",5]
[null,"消防設備士（１５点まで）","乙2種","消防設備士（１５点まで）乙2種",5]
[null,"消防設備士（１５点まで）","乙3種","消防設備士（１５点まで）乙3種",5]
[null,"消防設備士（１５点まで）","乙4種","消防設備士（１５点まで）乙4種",5]
[null,"消防設備士（１５点まで）","乙5種","消防設備士（１５点まで）乙5種",5]
[null,"消防設備士（１５点まで）","乙6種","消防設備士（１５点まで）乙6種",5]
[null,"消防設備士（１５点まで）","乙7種","消防設備士（１５点まで）乙7種",5]
[null,"溶接技能者評価試験（１０点まで）※JIS溶接評価試験","A-2F","溶接技能者評価試験（１０点まで）※JIS溶接評価試験A-2F",5]
[null,"溶接技能者評価試験（１０点まで）※JIS溶接評価試験","G-1F","溶接技能者評価試験（１０点まで）※JIS溶接評価試験G-1F",5]
[null,"溶接技能者評価試験（１０点まで）※JIS溶接評価試験","SN-1F","溶接技能者評価試験（１０点まで）※JIS溶接評価試験SN-1F",5]
[null,"電気工事士２種","合格","電気工事士２種合格",10]
[null,"アーク溶接基本級A-2F\n※ＪＩＳ溶接評価試験","合格","アーク溶接基本級A-2F\n※ＪＩＳ溶接評価試験合格",5]
[null,"アーク溶接業務特別教育講習修了証","合格","アーク溶接業務特別教育講習修了証合格",2]
[null,"ガス溶接技能者講習修了証","合格","ガス溶接技能者講習修了証合格",2]
[null,"販売士","３級","販売士３級",5]
[null,"簿記検定","2級","簿記検定2級",10]
[null,"簿記検定","3級","簿記検定3級",5]
[null,"日本語ワープロ検定","1級","日本語ワープロ検定1級",10]
[null,"日本語ワープロ検定","準1級","日本語ワープロ検定準1級",10]
[null,"日本語ワープロ検定","2級","日本語ワープロ検定2級",5]
[null,"日本語ワープロ検定","準2級","日本語ワープロ検定準2級",5]
[null,"日本語ワープロ検定","3級","日本語ワープロ検定3級",2]
[null,"情報処理技能検定","1級","情報処理技能検定1級",10]
[null,"情報処理技能検定","準1級","情報処理技能検定準1級",10]
[null,"情報処理技能検定","2級","情報処理技能検定2級",5]
[null,"情報処理技能検定","準2級","情報処理技能検定準2級",5]
[null,"情報処理技能検定","3級","情報処理技能検定3級",2]
[null,"珠算・電卓実務検定試験","1級","珠算・電卓実務検定試験1級",10]
[null,"珠算・電卓実務検定試験","2級","珠算・電卓実務検定試験2級",5]
[null,"珠算・電卓実務検定試験","3級","珠算・電卓実務検定試験3級",2]
[null,"簿記実務検定","1級","簿記実務検定1級",10]
[null,"簿記実務検定","2級","簿記実務検定2級",5]
[null,"簿記実務検定","3級","簿記実務検定3級",2,null,"簿記能力検定"]
[null,"簿記能力検定","１級","簿記能力検定１級",10]
[null,"簿記能力検定","２級","簿記能力検定２級",5]
[null,"簿記能力検定","３級","簿記能力検定３級",2]
[null,"アマチュア無線技士","第1級","アマチュア無線技士第1級",5]
[null,"アマチュア無線技士","第2級","アマチュア無線技士第2級",2]
[null,"アマチュア無線技士　","第3級","アマチュア無線技士　第3級",2]
[null,"アマチュア無線技士　","第4級","アマチュア無線技士　第4級",2]
[null,"海上特殊無線技士　","第3級","海上特殊無線技士　第3級",2]
[]
[]
[]
[]
[]
[]
[null,"ビジネス文書実務検定","1級","ビジネス文書実務検定1級",10]
[null,"ビジネス文書実務検定","2級","ビジネス文書実務検定2級",5]
[null,"ビジネス文書実務検定","3級","ビジネス文書実務検定3級",2]
[null,"PC検定（文書作成）","1級","PC検定（文書作成）1級",10]
[null,"PC検定（文書作成）","2級","PC検定（文書作成）2級",5]
[null,"PC検定（文書作成）","3級","PC検定（文書作成）3級",2]
[null,"食物調理技術検定","1級","食物調理技術検定1級",10]
[null,"食物調理技術検定","2級","食物調理技術検定2級",5]
[null,"食物調理技術検定","3級","食物調理技術検定3級",2]
[null,"陸上特殊無線技士","第1級","陸上特殊無線技士第1級",5]
[null,"陸上特殊無線技士","第2級","陸上特殊無線技士第2級",2]
[null,"海上特殊無線技士","第1級","海上特殊無線技士第1級",5]
[null,"海上特殊無線技士","第2級","海上特殊無線技士第2級",2]
[null,"レーダー級海上特殊無線技士","合格","レーダー級海上特殊無線技士合格",2]
[null,"情報技術検定","1級","情報技術検定1級",5]
[null,"情報技術検定","2級","情報技術検定2級",2]
[null,"情報処理検定","1級","情報処理検定1級",5]
[null,"情報処理検定","2級","情報処理検定2級",2]
[null,"移動式小型クレーン","合格","移動式小型クレーン合格",2]
[null,"フォークリフト運転技能講習","合格","フォークリフト運転技能講習合格",2]
[null,"ボイラ取扱技能講習","合格","ボイラ取扱技能講習合格",2]
[null,"普通第一種圧力容器取扱作業主任者技能講習","合格","普通第一種圧力容器取扱作業主任者技能講習合格",2]
[null,"玉掛け技能講習","合格","玉掛け技能講習合格",2]
[null,"クレーン運転特別教育","合格","クレーン運転特別教育合格",2]
[null,"低圧電気取扱業務特別教育","合格",{"$f":"B84&C84","v":"低圧電気取扱業務特別教育合格"},2]
[null,"第二種酸素欠乏危険作業特別講習　","合格",{"$f":"B85&C85","v":"第二種酸素欠乏危険作業特別講習　合格"},2]

{"sheet":"得点リスト(Ｃ区分）","index":7,"n_rows":53,"n_cols":12,"rows_kept":53,"cut":false,"hidden":true,"merged":[]}
[]
[null,"実用英語技能検定試験","準1級",{"$f":"B2&C2","v":"実用英語技能検定試験準1級"},10]
[null,"実用英語技能検定試験","2級","実用英語技能検定試験2級",5]
[null,"実用英語技能検定試験","準2級","実用英語技能検定試験準2級",2]
[null,"実用英語技能検定試験","3級","実用英語技能検定試験3級",1]
[null,"技術英語能力検定（旧：工業英語能力検定）","準ﾌﾟﾛﾌｪｯｼｮﾅﾙ（旧：２級）","技術英語能力検定（旧：工業英語能力検定）準ﾌﾟﾛﾌｪｯｼｮﾅﾙ（旧：２級）",10]
[null,"技術英語能力検定（旧：工業英語能力検定）","1級（旧：準２級）","技術英語能力検定（旧：工業英語能力検定）1級（旧：準２級）",5]
[null,"技術英語能力検定（旧：工業英語能力検定）","2級（旧：３級）","技術英語能力検定（旧：工業英語能力検定）2級（旧：３級）",2]
[null,"技術英語能力検定（旧：工業英語能力検定）","3級（旧：４級）","技術英語能力検定（旧：工業英語能力検定）3級（旧：４級）",1]
[null,"食の６次産業化プロデューサー","レベル1",{"$f":"B10&C10","v":"食の６次産業化プロデューサーレベル1"},1]
[null,"食品衛生責任者","合格",{"$f":"B11&C11","v":"食品衛生責任者合格"},1]
[null,"実用数学 技能検定","準1級","実用数学 技能検定準1級",10]
[null,"実用数学 技能検定","2級","実用数学 技能検定2級",5]
[null,"実用数学 技能検定","準2級","実用数学 技能検定準2級",2]
[null,"実用数学 技能検定","3級","実用数学 技能検定3級",1]
[null,"日本漢字能力検定","準1級","日本漢字能力検定準1級",10]
[null,"日本漢字能力検定","2級","日本漢字能力検定2級",5]
[null,"日本漢字能力検定","準2級","日本漢字能力検定準2級",2]
[null,"日本漢字能力検定","3級","日本漢字能力検定3級",1]
[null,"うまいもん甲子園","全国優勝","うまいもん甲子園全国優勝",10]
[null,"うまいもん甲子園","地区代表","うまいもん甲子園地区代表",2]
[null,"ドローン検定","第1級","ドローン検定第1級",5]
[null,"ドローン検定","第2級","ドローン検定第2級",2]
[null,"ドローン検定","第3級","ドローン検定第3級",1]
[null,"ドローン検定","第4級","ドローン検定第4級",1]
[null,"家庭動物飼育検定","合格","家庭動物飼育検定合格",1]
[null,"生物分類技能検定","3級","生物分類技能検定3級",2]
[null,"生物分類技能検定","4級","生物分類技能検定4級",1]
[null,"船の文化検定","上級","船の文化検定上級",5]
[null,"船の文化検定","中級","船の文化検定中級",2]
[null,"船の文化検定","初級","船の文化検定初級",1]
[null,"日本さかな検定","１級","日本さかな検定１級",5]
[null,"日本さかな検定","２級","日本さかな検定２級",2]
[null,"日本さかな検定","３級","日本さかな検定３級",1]
[]
[]
[]
[null,null,null,null,null,null,null,null,20,15,10,5]
[null,null,null,null,null,null,null,null,null,"1級","２級"]
[null,null,null,null,null,null,null,null,"最優秀","優秀"]
[null,null,null,null,null,null,null,null,null,null,"最優秀","優秀"]
[]
[null,"全日本スポーツダイビング室内選手権大会\n５０ｍフリッパー競技（高校生の部：文部科学大臣賞対象競技のみ）","優勝","全日本スポーツダイビング室内選手権大会\n５０ｍフリッパー競技（高校生の部：文部科学大臣賞対象競技のみ）優勝",10,null,null,null,null,"優勝","2位","3位"]
[null,null,null,null,null,null,null,null,null,null,null,"優勝"]
[null,null,null,null,null,null,null,null,null,null,null,"優勝"]
[null,null,null,null,null,null,null,null,"総合優勝","2位","3位"]
[null,null,null,null,null,null,null,null,null,"総合優勝","2位","3位"]
[]
[null,null,null,null,null,null,null,null,null,null,"最優秀","優秀"]
[null,null,null,null,null,null,null,null,"最優秀","優秀"]
[null,null,null,null,null,null,null,null,null,null,"最優秀","優秀"]
[]
[null,null,null,null,null,null,null,null,"総合優勝","2位","3位"]

{"sheet":"学校名","index":8,"n_rows":63,"n_cols":4,"rows_kept":63,"cut":false,"hidden":true,"merged":[]}
["年","月","日"]
[1989,1,1,"北海道小樽水産高等学校"]
[1990,2,2,"北海道函館水産高等学校"]
[1991,3,3,"北海道厚岸翔洋高等学校"]
[1992,4,4,"青森県立八戸水産高等学校"]
[1993,5,5,"岩手県立宮古水産高等学校"]
[1994,6,6,"岩手県立高田高等学校"]
[1995,7,7,"岩手県立久慈東高等学校"]
[1996,8,8,"宮城県水産高等学校"]
[1997,9,9,"宮城県気仙沼向洋高等学校"]
[1998,10,10,"秋田県立男鹿海洋高等学校"]
[1999,11,11,"山形県立加茂水産高等学校"]
[2000,12,12,"福島県立いわき海星高等学校"]
[2001,null,13,"茨城県立海洋高等学校"]
[2002,null,14,"栃木県立馬頭高等学校"]
[2003,null,15,"群馬県立万場高等学校"]
[2004,null,16,"千葉県立銚子商業高等学校"]
[2005,null,17,"千葉県立大原高等学校"]
[2006,null,18,"千葉県立館山総合高等学校"]
[2007,null,19,"東京都立大島海洋国際高等学校"]
[2008,null,20,"神奈川県立海洋科学高等学校"]
[2009,null,21,"静岡県立焼津水産高等学校"]
[2010,null,22,"愛知県立三谷水産高等学校"]
[2011,null,23,"三重県立水産高等学校"]
[2012,null,24,"新潟県立海洋高等学校"]
[2013,null,25,"富山県立滑川高等学校"]
[2014,null,26,"富山県立氷見高等学校"]
[2015,null,27,"石川県立能登高等学校"]
[2016,null,28,"福井県立　若狭高等学校"]
[2017,null,29,"京都府立海洋高等学校"]
[2018,null,30,"兵庫県立香住高等学校"]
[2019,null,31,"鳥取県立境港総合技術高等学校"]
[2020,null,null,"島根県立隠岐水産高等学校"]
[2021,null,null,"島根県立浜田水産高等学校"]
[2022,null,null,"山口県立大津緑洋高等学校（水産校舎）"]
[2023,null,null,"香川県立多度津高等学校"]
[2024,null,null,"徳島県立徳島科学技術高等学校"]
[2025,null,null,"高知県立高知海洋高等学校"]
[2026,null,null,"愛媛県立宇和島水産高等学校"]
[2027,null,null,"福岡県立水産高等学校"]
[2028,null,null,"長崎県立長崎鶴洋高等学校"]
[2029,null,null,"熊本県立天草拓心高等学校　マリン校舎"]
[2030,null,null,"大分県立海洋科学高等学校"]
[2031,null,null,"宮崎県立宮崎海洋高等学校"]
[2032,null,null,"鹿児島県立鹿児島水産高等学校"]
[2033,null,null,"沖縄県立沖縄水産高等学校"]
[2034,null,null,"沖縄県立宮古総合実業高等学校"]
[2035]
[2036]
[2037]
[2038]
[2039]
[2040]
[2041]
[2042]
[2043]
[2044]
[2045]
[2046]
[2047]
[2048]
[2049]
[2050]