{"text_format":"1","workbook":"xlsx","n_sheets":8,"sheets":["入力","申請書","区分表","賞区分","得点リスト(A区分）","得点リスト(B区分）","検定級リスト","学校名"],"not_rendered":{"charts":0,"images":0,"macros":1,"external_links":0,"defined_names":156,"comments":1,"pivot_tables":0},"unopened":[],"bounds":{"document_bytes":16777216,"sheet_cells":100000,"rows_first":2000,"rows_last":500,"rows_between":2000,"halvings":0,"cell_chars":16384,"cell_head_chars":4096},"cells_cut":0,"cells_raw":0,"read":"whole","date_system":"1900"}

{"sheet":"入力","index":0,"n_rows":50,"n_cols":24,"rows_kept":50,"cut":false,"hidden":false,"merged":[[41,1,41,3],[42,1,42,3],[26,1,26,3],[27,1,27,3],[28,1,28,3],[29,1,29,3],[30,1,30,3],[40,1,40,3],[39,1,39,3],[38,1,38,7],[31,1,31,3],[32,1,32,3],[33,1,33,3],[34,1,34,3],[35,1,35,3],[36,1,36,3],[46,7,47,7],[46,6,47,6],[49,5,50,5],[49,6,50,7],[43,1,43,3],[44,1,44,3],[21,1,21,3],[25,1,25,3],[1,4,13,7],[19,1,19,3],[22,1,22,3],[23,1,23,3],[24,1,24,3],[0,0,2,0],[3,0,3,1],[20,1,20,3],[8,0,8,1],[15,1,15,7],[16,1,16,3],[4,0,4,1],[5,0,5,1],[6,0,7,0],[9,0,9,1],[10,0,10,1],[11,0,13,0],[17,1,17,3],[18,1,18,3]]}
["申請日","年"]
[null,"月",null,null,"【入力の仕方】\n①青色に塗られた部分のみ入力してください。\n\n②作成したら、「印刷」ボタンを押してください。\n　※同じ資格を入力していると印刷に進めません。\n\n③印刷したものは押印し、先生に提出してください。\n\n④「保存」のボタンを押して、ファイルを保存し、先生にファイルを提出してください。\n　※全部消したいときは、「削除」ボタンを押してください。"]
[null,"日"]
["学校名"]
["氏名"]
["カタカナ"]
["ローマ字","姓"]
[null,"名"]
["学科・コース名"]
["学年"]
["性別"]
["生年月日","年（西暦）"]
[null,"月",null,null,null,null,null,null,"誕生日"]
[null,"日",null,null,null,null,null,null,{"$f":"DATE(C12,C13,C14)","v":{"$error":"#NUM!"}},null,"重複","食品技能検定の数"]
[null,null,null,null,null,null,null,null,null,null,{"$f":"COUNTIF(L18:L45,\">1\")","v":0},{"$f":"COUNTIF(B18:D37,区分表!$B$17)","v":0}]
[null,"区分A"]
[null,"資格・検定、競技会等の名称",null,null,"コード","取得年月日（西暦/月/日）","賞・級\n合格・認定","得点"]
[null,{"$f":"IF(E18=\"\",\"\",VLOOKUP(E18,区分表!$A$2:$I$120,2,FALSE))","v":""},null,null,null,null,null,{"$f":"IF($B18=\"\",\"\",IF($U18=300,5,IF($X18=200,15/2,VLOOKUP(J18,'得点リスト(A区分）'!$D$2:$E$390,2,FALSE))))","v":""},{"$f":"VLOOKUP(B18,検定級リスト!$C$17:$D$100,2,FALSE)","v":{"$error":"#N/A"}},{"$f":"B18&G18","v":""},{"$f":"J18&F18","v":""},{"$f":"IF(K18=\"\",\"\",COUNTIF($K$18:$K$45,K18))","v":""},null,null,null,{"$f":"IF(AND($L$15=4,B18=区分表!$B$14),\"○\",\"\")","v":""},{"$f":"IF(AND($L$15=4,B18=区分表!$B$17),\"○\",\"\")","v":""},null,null,{"$f":"IF(AND($L$15=3,$B18=区分表!$B$17),\"○\",\"\")","v":""},{"$f":"COUNTIF(S18:T18,\"○\")*300","v":0},null,{"$f":"IF(AND($L$15=2,$B18=区分表!$B$17),\"○\",\"\")","v":""},{"$f":"COUNTIF(V18:W18,\"○\")*200","v":0}]
[null,{"$f":"IF(E19=\"\",\"\",VLOOKUP(E19,区分表!$A$2:$I$120,2,FALSE))","v":""},null,null,null,null,null,{"$f":"IF($B19=\"\",\"\",IF($U19=300,5,IF($X19=200,15/2,VLOOKUP(J19,'得点リスト(A区分）'!$D$2:$E$390,2,FALSE))))","v":""},{"$f":"VLOOKUP(B19,検定級リスト!$C$17:$D$100,2,FALSE)","v":{"$error":"#N/A"}},"",{"$f":"J19&F19","v":""},{"$f":"IF(K19=\"\",\"\",COUNTIF($K$18:$K$45,K19))","v":""},null,null,null,{"$f":"IF(AND($L$15=4,B19=区分表!$B$14),\"○\",\"\")","v":""},{"$f":"IF(AND($L$15=4,B19=区分表!$B$17),\"○\",\"\")","v":""},null,null,{"$f":"IF(AND($L$15=3,$B19=区分表!$B$17),\"○\",\"\")","v":""},{"$f":"COUNTIF(S19:T19,\"○\")*300","v":0},null,{"$f":"IF(AND($L$15=2,$B19=区分表!$B$17),\"○\",\"\")","v":""},{"$f":"COUNTIF(V19:W19,\"○\")*200","v":0}]
[null,{"$f":"IF(E20=\"\",\"\",VLOOKUP(E20,区分表!$A$2:$I$120,2,FALSE))","v":""},null,null,null,null,null,{"$f":"IF($B20=\"\",\"\",IF($U20=300,5,IF($X20=200,15/2,VLOOKUP(J20,'得点リスト(A区分）'!$D$2:$E$390,2,FALSE))))","v":""},{"$f":"VLOOKUP(B20,検定級リスト!$C$17:$D$100,2,FALSE)","v":{"$error":"#N/A"}},"","","",null,null,null,{"$f":"IF(AND($L$15=4,B20=区分表!$B$14),\"○\",\"\")","v":""},{"$f":"IF(AND($L$15=4,B20=区分表!$B$17),\"○\",\"\")","v":""},null,null,{"$f":"IF(AND($L$15=3,$B20=区分表!$B$17),\"○\",\"\")","v":""},0,null,{"$f":"IF(AND($L$15=2,$B20=区分表!$B$17),\"○\",\"\")","v":""},0]
[null,{"$f":"IF(E21=\"\",\"\",VLOOKUP(E21,区分表!$A$2:$I$120,2,FALSE))","v":""},null,null,null,null,null,{"$f":"IF($B21=\"\",\"\",IF($U21=300,5,IF($X21=200,15/2,IF(COUNTIF(B18:D20,B21)<3,VLOOKUP(J21,'得点リスト(A区分）'!$D$2:$E$390,2,FALSE),0))))","v":""},{"$f":"VLOOKUP(B21,検定級リスト!$C$17:$D$100,2,FALSE)","v":{"$error":"#N/A"}},"","","",null,null,null,{"$f":"IF(AND($L$15=4,B21=区分表!$B$14),\"○\",\"\")","v":""},{"$f":"IF(AND($L$15=4,B21=区分表!$B$17),\"○\",\"\")","v":""},null,null,{"$f":"IF(AND($L$15=3,$B21=区分表!$B$17),\"○\",\"\")","v":""},0,null,{"$f":"IF(AND($L$15=2,$B21=区分表!$B$17),\"○\",\"\")","v":""},0]
[null,{"$f":"IF(E22=\"\",\"\",VLOOKUP(E22,区分表!$A$2:$I$120,2,FALSE))","v":""},null,null,null,null,null,{"$f":"IF($B22=\"\",\"\",IF($U22=300,5,IF($X22=200,15/2,IF(COUNTIF(B18:D21,B22)<3,VLOOKUP(J22,'得点リスト(A区分）'!$D$2:$E$390,2,FALSE),0))))","v":""},{"$f":"VLOOKUP(B22,検定級リスト!$C$17:$D$100,2,FALSE)","v":{"$error":"#N/A"}},"","","",null,null,null,{"$f":"IF(AND($L$15=4,B22=区分表!$B$14),\"○\",\"\")","v":""},{"$f":"IF(AND($L$15=4,B22=区分表!$B$17),\"○\",\"\")","v":""},null,null,{"$f":"IF(AND($L$15=3,$B22=区分表!$B$17),\"○\",\"\")","v":""},0,null,{"$f":"IF(AND($L$15=2,$B22=区分表!$B$17),\"○\",\"\")","v":""},0]
[null,{"$f":"IF(E23=\"\",\"\",VLOOKUP(E23,区分表!$A$2:$I$120,2,FALSE))","v":""},null,null,null,null,null,{"$f":"IF($B23=\"\",\"\",IF($U23=300,5,IF($X23=200,15/2,IF(COUNTIF(B18:D23,B23)<3,VLOOKUP(J23,'得点リスト(A区分）'!$D$2:$E$390,2,FALSE),0))))","v":""},{"$f":"VLOOKUP(B23,検定級リスト!$C$17:$D$100,2,FALSE)","v":{"$error":"#N/A"}},"","","",null,null,null,{"$f":"IF(AND($L$15=4,B23=区分表!$B$14),\"○\",\"\")","v":""},{"$f":"IF(AND($L$15=4,B23=区分表!$B$17),\"○\",\"\")","v":""},null,null,{"$f":"IF(AND($L$15=3,$B23=区分表!$B$17),\"○\",\"\")","v":""},0,null,{"$f":"IF(AND($L$15=2,$B23=区分表!$B$17),\"○\",\"\")","v":""},0]
[null,{"$f":"IF(E24=\"\",\"\",VLOOKUP(E24,区分表!$A$2:$I$120,2,FALSE))","v":""},null,null,null,null,null,{"$f":"IF($B24=\"\",\"\",IF($U24=300,5,IF($X24=200,15/2,IF(COUNTIF(B18:D23,B24)<3,VLOOKUP(J24,'得点リスト(A区分）'!$D$2:$E$390,2,FALSE),0))))","v":""},{"$f":"VLOOKUP(B24,検定級リスト!$C$17:$D$100,2,FALSE)","v":{"$error":"#N/A"}},"","","",null,null,null,{"$f":"IF(AND($L$15=4,B24=区分表!$B$14),\"○\",\"\")","v":""},{"$f":"IF(AND($L$15=4,B24=区分表!$B$17),\"○\",\"\")","v":""},null,null,{"$f":"IF(AND($L$15=3,$B24=区分表!$B$17),\"○\",\"\")","v":""},0,null,{"$f":"IF(AND($L$15=2,$B24=区分表!$B$17),\"○\",\"\")","v":""},0]
[null,{"$f":"IF(E25=\"\",\"\",VLOOKUP(E25,区分表!$A$2:$I$120,2,FALSE))","v":""},null,null,null,null,null,{"$f":"IF($B25=\"\",\"\",IF($U25=300,5,IF($X25=200,15/2,IF(COUNTIF(B18:D24,B25)<3,VLOOKUP(J25,'得点リスト(A区分）'!$D$2:$E$390,2,FALSE),0))))","v":""},{"$f":"VLOOKUP(B25,検定級リスト!$C$17:$D$100,2,FALSE)","v":{"$error":"#N/A"}},{"$f":"B25&G25","v":""},"","",null,null,null,{"$f":"IF(AND($L$15=4,B25=区分表!$B$14),\"○\",\"\")","v":""},{"$f":"IF(AND($L$15=4,B25=区分表!$B$17),\"○\",\"\")","v":""},null,null,{"$f":"IF(AND($L$15=3,$B25=区分表!$B$17),\"○\",\"\")","v":""},0,null,{"$f":"IF(AND($L$15=2,$B25=区分表!$B$17),\"○\",\"\")","v":""},0]
[null,{"$f":"IF(E26=\"\",\"\",VLOOKUP(E26,区分表!$A$2:$I$120,2,FALSE))","v":""},null,null,null,null,null,{"$f":"IF($B26=\"\",\"\",IF($U26=300,5,IF($X26=200,15/2,IF(COUNTIF(B18:D25,B26)<3,VLOOKUP(J26,'得点リスト(A区分）'!$D$2:$E$390,2,FALSE),0))))","v":""},{"$f":"VLOOKUP(B26,検定級リスト!$C$17:$D$100,2,FALSE)","v":{"$error":"#N/A"}},{"$f":"B26&G26","v":""},"","",null,null,null,{"$f":"IF(AND($L$15=4,B26=区分表!$B$14),\"○\",\"\")","v":""},{"$f":"IF(AND($L$15=4,B26=区分表!$B$17),\"○\",\"\")","v":""},null,null,{"$f":"IF(AND($L$15=3,$B26=区分表!$B$17),\"○\",\"\")","v":""},0,null,{"$f":"IF(AND($L$15=2,$B26=区分表!$B$17),\"○\",\"\")","v":""},0]
[null,{"$f":"IF(E27=\"\",\"\",VLOOKUP(E27,区分表!$A$2:$I$120,2,FALSE))","v":""},null,null,null,null,null,{"$f":"IF($B27=\"\",\"\",IF($U27=300,5,IF($X27=200,15/2,IF(COUNTIF(B19:D26,B27)<3,VLOOKUP(J27,'得点リスト(A区分）'!$D$2:$E$390,2,FALSE),0))))","v":""},{"$f":"VLOOKUP(B27,検定級リスト!$C$17:$D$100,2,FALSE)","v":{"$error":"#N/A"}},"","","",null,null,null,{"$f":"IF(AND($L$15=4,B27=区分表!$B$14),\"○\",\"\")","v":""},{"$f":"IF(AND($L$15=4,B27=区分表!$B$17),\"○\",\"\")","v":""},null,null,{"$f":"IF(AND($L$15=3,$B27=区分表!$B$17),\"○\",\"\")","v":""},{"$f":"COUNTIF(S27:T27,\"○\")*300","v":0},null,{"$f":"IF(AND($L$15=2,$B27=区分表!$B$17),\"○\",\"\")","v":""},{"$f":"COUNTIF(V27:W27,\"○\")*200","v":0}]
[null,{"$f":"IF(E28=\"\",\"\",VLOOKUP(E28,区分表!$A$2:$I$120,2,FALSE))","v":""},null,null,null,null,null,{"$f":"IF($B28=\"\",\"\",IF($U28=300,5,IF($X28=200,15/2,IF(COUNTIF(B20:D27,B28)<3,VLOOKUP(J28,'得点リスト(A区分）'!$D$2:$E$390,2,FALSE),0))))","v":""},{"$f":"VLOOKUP(B28,検定級リスト!$C$17:$D$100,2,FALSE)","v":{"$error":"#N/A"}},"","","",null,null,null,{"$f":"IF(AND($L$15=4,B28=区分表!$B$14),\"○\",\"\")","v":""},{"$f":"IF(AND($L$15=4,B28=区分表!$B$17),\"○\",\"\")","v":""},null,null,{"$f":"IF(AND($L$15=3,$B28=区分表!$B$17),\"○\",\"\")","v":""},0,null,{"$f":"IF(AND($L$15=2,$B28=区分表!$B$17),\"○\",\"\")","v":""},0]
[null,{"$f":"IF(E29=\"\",\"\",VLOOKUP(E29,区分表!$A$2:$I$120,2,FALSE))","v":""},null,null,null,null,null,{"$f":"IF($B29=\"\",\"\",IF($U29=300,5,IF($X29=200,15/2,IF(COUNTIF(B21:D28,B29)<3,VLOOKUP(J29,'得点リスト(A区分）'!$D$2:$E$390,2,FALSE),0))))","v":""},{"$f":"VLOOKUP(B29,検定級リスト!$C$17:$D$100,2,FALSE)","v":{"$error":"#N/A"}},"","","",null,null,null,{"$f":"IF(AND($L$15=4,B29=区分表!$B$14),\"○\",\"\")","v":""},{"$f":"IF(AND($L$15=4,B29=区分表!$B$17),\"○\",\"\")","v":""},null,null,{"$f":"IF(AND($L$15=3,$B29=区分表!$B$17),\"○\",\"\")","v":""},0,null,{"$f":"IF(AND($L$15=2,$B29=区分表!$B$17),\"○\",\"\")","v":""},0]
[null,{"$f":"IF(E30=\"\",\"\",VLOOKUP(E30,区分表!$A$2:$I$120,2,FALSE))","v":""},null,null,null,null,null,{"$f":"IF($B30=\"\",\"\",IF($U30=300,5,IF($X30=200,15/2,IF(COUNTIF(B22:D29,B30)<3,VLOOKUP(J30,'得点リスト(A区分）'!$D$2:$E$390,2,FALSE),0))))","v":""},{"$f":"VLOOKUP(B30,検定級リスト!$C$17:$D$100,2,FALSE)","v":{"$error":"#N/A"}},"","","",null,null,null,{"$f":"IF(AND($L$15=4,B30=区分表!$B$14),\"○\",\"\")","v":""},{"$f":"IF(AND($L$15=4,B30=区分表!$B$17),\"○\",\"\")","v":""},null,null,{"$f":"IF(AND($L$15=3,$B30=区分表!$B$17),\"○\",\"\")","v":""},0,null,{"$f":"IF(AND($L$15=2,$B30=区分表!$B$17),\"○\",\"\")","v":""},0]
[null,{"$f":"IF(E31=\"\",\"\",VLOOKUP(E31,区分表!$A$2:$I$120,2,FALSE))","v":""},null,null,null,null,null,{"$f":"IF($B31=\"\",\"\",IF($U31=300,5,IF($X31=200,15/2,IF(COUNTIF(B23:D30,B31)<3,VLOOKUP(J31,'得点リスト(A区分）'!$D$2:$E$390,2,FALSE),0))))","v":""},{"$f":"VLOOKUP(B31,検定級リスト!$C$17:$D$100,2,FALSE)","v":{"$error":"#N/A"}},"","","",null,null,null,{"$f":"IF(AND($L$15=4,B31=区分表!$B$14),\"○\",\"\")","v":""},{"$f":"IF(AND($L$15=4,B31=区分表!$B$17),\"○\",\"\")","v":""},null,null,{"$f":"IF(AND($L$15=3,$B31=区分表!$B$17),\"○\",\"\")","v":""},0,null,{"$f":"IF(AND($L$15=2,$B31=区分表!$B$17),\"○\",\"\")","v":""},0]
[null,{"$f":"IF(E32=\"\",\"\",VLOOKUP(E32,区分表!$A$2:$I$120,2,FALSE))","v":""},null,null,null,null,null,{"$f":"IF($B32=\"\",\"\",IF($U32=300,5,IF($X32=200,15/2,IF(COUNTIF(B24:D31,B32)<3,VLOOKUP(J32,'得点リスト(A区分）'!$D$2:$E$390,2,FALSE),0))))","v":""},{"$f":"VLOOKUP(B32,検定級リスト!$C$17:$D$100,2,FALSE)","v":{"$error":"#N/A"}},"","","",null,null,null,{"$f":"IF(AND($L$15=4,B32=区分表!$B$14),\"○\",\"\")","v":""},{"$f":"IF(AND($L$15=4,B32=区分表!$B$17),\"○\",\"\")","v":""},null,null,{"$f":"IF(AND($L$15=3,$B32=区分表!$B$17),\"○\",\"\")","v":""},0,null,{"$f":"IF(AND($L$15=2,$B32=区分表!$B$17),\"○\",\"\")","v":""},0]
[null,{"$f":"IF(E33=\"\",\"\",VLOOKUP(E33,区分表!$A$2:$I$120,2,FALSE))","v":""},null,null,null,null,null,{"$f":"IF($B33=\"\",\"\",IF($U33=300,5,IF($X33=200,15/2,IF(COUNTIF(B18:D32,B33)<3,VLOOKUP(J33,'得点リスト(A区分）'!$D$2:$E$390,2,FALSE),0))))","v":""},{"$f":"VLOOKUP(B33,検定級リスト!$C$17:$D$100,2,FALSE)","v":{"$error":"#N/A"}},{"$f":"B33&G33","v":""},"","",null,null,null,{"$f":"IF(AND($L$15=4,B33=区分表!$B$14),\"○\",\"\")","v":""},{"$f":"IF(AND($L$15=4,B33=区分表!$B$17),\"○\",\"\")","v":""},null,null,{"$f":"IF(AND($L$15=3,$B33=区分表!$B$17),\"○\",\"\")","v":""},{"$f":"COUNTIF(S33:T33,\"○\")*300","v":0},null,{"$f":"IF(AND($L$15=2,$B33=区分表!$B$17),\"○\",\"\")","v":""},0]
[null,{"$f":"IF(E34=\"\",\"\",VLOOKUP(E34,区分表!$A$2:$I$120,2,FALSE))","v":""},null,null,null,null,null,{"$f":"IF($B34=\"\",\"\",IF($U34=300,5,IF($X34=200,15/2,IF(COUNTIF(B18:D33,B34)<3,VLOOKUP(J34,'得点リスト(A区分）'!$D$2:$E$390,2,FALSE),0))))","v":""},{"$f":"VLOOKUP(B34,検定級リスト!$C$17:$D$100,2,FALSE)","v":{"$error":"#N/A"}},"","","",null,null,null,{"$f":"IF(AND($L$15=4,B34=区分表!$B$14),\"○\",\"\")","v":""},{"$f":"IF(AND($L$15=4,B34=区分表!$B$17),\"○\",\"\")","v":""},null,null,{"$f":"IF(AND($L$15=3,$B34=区分表!$B$17),\"○\",\"\")","v":""},0,null,{"$f":"IF(AND($L$15=2,$B34=区分表!$B$17),\"○\",\"\")","v":""},0]
[null,{"$f":"IF(E35=\"\",\"\",VLOOKUP(E35,区分表!$A$2:$I$120,2,FALSE))","v":""},null,null,null,null,null,{"$f":"IF($B35=\"\",\"\",IF($U35=300,5,IF($X35=200,15/2,IF(COUNTIF(B18:D34,B35)<3,VLOOKUP(J35,'得点リスト(A区分）'!$D$2:$E$390,2,FALSE),0))))","v":""},{"$f":"VLOOKUP(B35,検定級リスト!$C$17:$D$100,2,FALSE)","v":{"$error":"#N/A"}},"","","",null,null,null,{"$f":"IF(AND($L$15=4,B35=区分表!$B$14),\"○\",\"\")","v":""},{"$f":"IF(AND($L$15=4,B35=区分表!$B$17),\"○\",\"\")","v":""},null,null,{"$f":"IF(AND($L$15=3,$B35=区分表!$B$17),\"○\",\"\")","v":""},0,null,{"$f":"IF(AND($L$15=2,$B35=区分表!$B$17),\"○\",\"\")","v":""},0]
[null,{"$f":"IF(E36=\"\",\"\",VLOOKUP(E36,区分表!$A$2:$I$120,2,FALSE))","v":""},null,null,null,null,null,{"$f":"IF($B36=\"\",\"\",IF($U36=300,5,IF($X36=200,15/2,IF(COUNTIF(B18:D35,B36)<3,VLOOKUP(J36,'得点リスト(A区分）'!$D$2:$E$390,2,FALSE),0))))","v":""},{"$f":"VLOOKUP(B36,検定級リスト!$C$17:$D$100,2,FALSE)","v":{"$error":"#N/A"}},"","","",null,null,null,{"$f":"IF(AND($L$15=4,B36=区分表!$B$14),\"○\",\"\")","v":""},{"$f":"IF(AND($L$15=4,B36=区分表!$B$17),\"○\",\"\")","v":""},null,null,{"$f":"IF(AND($L$15=3,$B36=区分表!$B$17),\"○\",\"\")","v":""},0,null,{"$f":"IF(AND($L$15=2,$B36=区分表!$B$17),\"○\",\"\")","v":""},0]
[null,{"$f":"IF(E37=\"\",\"\",VLOOKUP(E37,区分表!$A$2:$I$120,2,FALSE))","v":""},null,null,null,null,null,{"$f":"IF($B37=\"\",\"\",IF($U37=300,5,IF($X37=200,15/2,IF(COUNTIF(B18:D36,B37)<3,VLOOKUP(J37,'得点リスト(A区分）'!$D$2:$E$390,2,FALSE),0))))","v":""},{"$f":"VLOOKUP(B37,検定級リスト!$C$17:$D$100,2,FALSE)","v":{"$error":"#N/A"}},"","","",null,null,null,{"$f":"IF(AND($L$15=4,B37=区分表!$B$14),\"○\",\"\")","v":""},{"$f":"IF(AND($L$15=4,B37=区分表!$B$17),\"○\",\"\")","v":""},null,null,{"$f":"IF(AND($L$15=3,$B37=区分表!$B$17),\"○\",\"\")","v":""},0,null,{"$f":"IF(AND($L$15=2,$B37=区分表!$B$17),\"○\",\"\")","v":""},0]
[null,null,null,null,null,null,null,null,null,null,null,""]
[null,"区分B",null,null,null,null,null,null,null,null,null,{"$f":"IF(K39=\"\",\"\",COUNTIF($K$18:$K$45,J39))","v":""}]
[null,"資格・検定、競技会等の名称",null,null,"コード","取得年月日（西暦/月/日）","賞・級\n合格・認定","得点",null,null,null,""]
[null,{"$f":"IF(E41=\"\",\"\",VLOOKUP(E41,区分表!$A$2:$I$101,2,FALSE))","v":""},null,null,null,null,null,{"$f":"IF($E41=\"\",\"\",VLOOKUP(J41,'得点リスト(B区分）'!$D$2:$E$388,2,FALSE))","v":""},{"$f":"VLOOKUP(B41,検定級リスト!$C$17:$D$100,2,FALSE)","v":{"$error":"#N/A"}},{"$f":"B41&G41","v":""},"",{"$f":"IF(K41=\"\",\"\",COUNTIF($K$18:$K$45,K41))","v":""}]
[null,{"$f":"IF(E42=\"\",\"\",VLOOKUP(E42,区分表!$A$2:$I$101,2,FALSE))","v":""},null,null,null,null,null,{"$f":"IF($E42=\"\",\"\",VLOOKUP(J42,'得点リスト(B区分）'!$D$2:$E$388,2,FALSE))","v":""},{"$f":"VLOOKUP(B42,検定級リスト!$C$17:$D$100,2,FALSE)","v":{"$error":"#N/A"}},{"$f":"B42&G42","v":""},"",{"$f":"IF(K42=\"\",\"\",COUNTIF($K$18:$K$45,K42))","v":""}]
[null,{"$f":"IF(E43=\"\",\"\",VLOOKUP(E43,区分表!$A$2:$I$101,2,FALSE))","v":""},null,null,null,null,null,{"$f":"IF($E43=\"\",\"\",VLOOKUP(J43,'得点リスト(B区分）'!$D$2:$E$388,2,FALSE))","v":""},{"$f":"VLOOKUP(B43,検定級リスト!$C$17:$D$100,2,FALSE)","v":{"$error":"#N/A"}},"","",""]
[null,{"$f":"IF(E44=\"\",\"\",VLOOKUP(E44,区分表!$A$2:$I$101,2,FALSE))","v":""},null,null,null,null,null,{"$f":"IF($E44=\"\",\"\",VLOOKUP(J44,'得点リスト(B区分）'!$D$2:$E$388,2,FALSE))","v":""},{"$f":"VLOOKUP(B44,検定級リスト!$C$17:$D$100,2,FALSE)","v":{"$error":"#N/A"}},"","",""]
[null,{"$f":"IF(E45=\"\",\"\",VLOOKUP(E45,区分表!$A$2:$I$101,2,FALSE))","v":""},null,null,null,null,null,{"$f":"IF($E45=\"\",\"\",VLOOKUP(J45,'得点リスト(B区分）'!$D$2:$E$388,2,FALSE))","v":""},{"$f":"VLOOKUP(B45,検定級リスト!$C$17:$D$100,2,FALSE)","v":{"$error":"#N/A"}},"","",{"$f":"IF(K45=\"\",\"\",COUNTIF($K$18:$K$45,K45))","v":""}]
[]
[null,null,null,null,null,null,"合計得点",{"$f":"SUM(H18:H37,H41:H45)","v":0}]
[null,null,null,null,null,null,null,null,{"$f":"H47-SUM(H41:H45)","v":0}]
[]
[null,null,null,null,null,"賞",{"$f":"IF(H47<30,\" \",IF(H47<45,賞区分!$B$2,IF(入力!H47<60,賞区分!$B$3,賞区分!$B$4)))","v":" "}]

{"sheet":"申請書","index":1,"n_rows":53,"n_cols":15,"rows_kept":53,"cut":false,"hidden":false,"merged":[[8,6,8,8],[45,4,45,6],[45,7,45,8],[45,9,45,10],[42,9,42,10],[36,7,36,8],[33,4,33,6],[34,7,34,8],[34,4,34,6],[23,7,23,8],[26,9,26,10],[27,7,27,8],[27,9,27,10],[37,9,37,10],[44,4,44,6],[26,4,26,6],[26,7,26,8],[22,7,22,8],[24,4,24,6],[35,4,35,6],[28,9,28,10],[29,9,29,10],[10,9,10,12],[10,6,10,7],[50,6,51,12],[46,11,46,12],[46,4,46,6],[12,8,12,9],[38,11,38,12],[37,11,37,12],[15,1,15,12],[42,1,46,1],[20,4,20,6],[20,7,20,8],[20,9,20,10],[19,1,38,1],[37,4,37,6],[45,11,45,12],[50,0,51,3],[43,4,43,6],[50,4,51,5],[38,9,38,10],[24,7,24,8],[25,4,25,6],[25,7,25,8],[25,9,25,10],[48,0,48,8],[48,9,48,12],[25,11,25,12],[27,11,27,12],[19,11,19,12],[24,11,24,12],[23,11,23,12],[26,11,26,12],[34,11,34,12],[21,11,21,12],[22,11,22,12],[31,11,31,12],[32,11,32,12],[36,11,36,12],[28,11,28,12],[29,11,29,12],[30,11,30,12],[31,9,31,10],[32,9,32,10],[46,7,46,8],[42,7,42,8],[38,7,38,8],[43,7,43,8],[44,7,44,8],[33,11,33,12],[43,9,43,10],[44,9,44,10],[43,11,43,12],[44,11,44,12],[40,0,40,8],[40,9,40,12],[46,9,46,10],[42,11,42,12],[19,7,19,8],[18,7,18,8],[19,4,19,6],[18,4,18,6],[18,9,18,10],[42,4,42,6],[38,4,38,6],[21,4,21,6],[23,4,23,6],[37,7,37,8],[36,9,36,10],[19,9,19,10],[24,9,24,10],[23,9,23,10],[34,9,34,10],[21,9,21,10],[22,9,22,10],[36,4,36,6],[30,9,30,10],[3,0,3,12],[27,4,27,6],[35,7,35,8],[35,9,35,10],[35,11,35,12],[7,6,7,12],[11,6,11,12],[9,6,9,12],[33,7,33,8],[33,9,33,10],[20,11,20,12],[18,11,18,12],[28,4,28,6],[29,4,29,6],[30,4,30,6],[31,4,31,6],[32,4,32,6],[28,7,28,8],[29,7,29,8],[30,7,30,8],[31,7,31,8],[32,7,32,8],[21,7,21,8],[22,4,22,6]]}
["（様式１）"]
[null,null,null,null,null,null,"申請年月日",{"$f":"IF(入力!C1=\"\",\"\",入力!C1)","v":""},"年",{"$f":"IF(入力!C2=\"\",\"\",入力!C2)","v":""},"月",{"$f":"IF(入力!C3=\"\",\"\",入力!C3)","v":""},"日"]
[]
["マリンマイスター顕彰制度申請書"]
[]
["全国水産高等学校長協会　理事長　殿"]
[]
[null,null,null,null,"学校名",null,{"$f":"IF(入力!C4=\"\",\"\",入力!C4)","v":""}]
[null,null,null,null,"生徒氏名",null,{"$f":"IF(入力!C5=\"\",\"\",入力!C5)","v":""},null,null,"㊞"]
[null,null,null,null,"ﾌﾘｶﾞﾅ（ｶﾀｶﾅ）",null,{"$f":"IF(入力!C6=\"\",\"\",入力!C6)","v":""}]
[null,null,null,null,"ローマ字","姓",{"$f":"IF(入力!C7=\"\",\"\",入力!C7)","v":""},null,"名",{"$f":"IF(入力!C8=\"\",\"\",入力!C8)","v":""}]
[null,null,null,null,"学科・コース",null,{"$f":"IF(入力!C9=\"\",\"\",入力!C9)","v":""}]
[null,null,null,null,"学年",null,{"$f":"IF(入力!C10=\"\",\"\",入力!C10)","v":""},"年","性別：",null,{"$f":"IF(入力!C11=\"\",\"\",入力!C11)","v":""}]
[null,null,null,null,"生年月日",null,"西暦",{"$f":"IF(入力!C12=\"\",\"\",入力!C12)","v":""},"年",{"$f":"IF(入力!C13=\"\",\"\",入力!C13)","v":""},"月",{"$f":"IF(入力!C14=\"\",\"\",入力!C14)","v":""},"日"]
[]
[null,"　標記の件について、下記競技会等の成績、職業資格等を得ましたので、マリンマイスター顕彰制度実施要領第5条の規定に基づき合格証書の写しを添えて申請します。"]
[]
["習得した職業資格等及び協議会・コンクールの内容"]
["No.","区分","コード","資格・検定、競技会等の名称","主催団体等",null,null,"取得年月日\n(西暦）",null,"賞・級\n合格・認定",null,"得点"]
[1,"A",{"$f":"IF(入力!E18=\"\",\"\",入力!E18)","v":""},{"$f":"IF(C20=\"\",\"\",VLOOKUP(C20,区分表!$A$2:$I$101,2,FALSE))","v":""},{"$f":"IF(C20=\"\",\"\",VLOOKUP(D20,区分表!$B$2:$J$101,2,FALSE))","v":""},{"$f":"VLOOKUP(E20,区分表!C2:K60,2,FALSE)","v":{"$error":"#N/A"}},{"$f":"VLOOKUP(F20,M63:M121,2,FALSE)","v":{"$error":"#N/A"}},{"$f":"IF(入力!F18=\"\",\"\",入力!F18)","v":""},null,{"$f":"IF(入力!G18=\"\",\"\",入力!G18)","v":""},null,{"$f":"IF(入力!H18=\"\",\"\",入力!H18)","v":""},null,{"$f":"VLOOKUP(D20,検定級リスト!$C$17:$D$95,2,FALSE)","v":{"$error":"#N/A"}},{"$f":"D20&J20","v":""}]
[2,null,{"$f":"IF(入力!E19=\"\",\"\",入力!E19)","v":""},{"$f":"IF(C21=\"\",\"\",VLOOKUP(C21,区分表!$A$2:$I$101,2,FALSE))","v":""},{"$f":"IF(C21=\"\",\"\",VLOOKUP(D21,区分表!$B$2:$J$101,2,FALSE))","v":""},{"$f":"VLOOKUP(E21,区分表!C3:K61,2,FALSE)","v":{"$error":"#N/A"}},{"$error":"#N/A"},{"$f":"IF(入力!F19=\"\",\"\",入力!F19)","v":""},null,{"$f":"IF(入力!G19=\"\",\"\",入力!G19)","v":""},null,{"$f":"IF(入力!H19=\"\",\"\",入力!H19)","v":""},null,{"$f":"VLOOKUP(D21,検定級リスト!$C$17:$D$95,2,FALSE)","v":{"$error":"#N/A"}},{"$f":"D21&J21","v":""}]
[3,null,{"$f":"IF(入力!E20=\"\",\"\",入力!E20)","v":""},{"$f":"IF(C22=\"\",\"\",VLOOKUP(C22,区分表!$A$2:$I$101,2,FALSE))","v":""},{"$f":"IF(C22=\"\",\"\",VLOOKUP(D22,区分表!$B$2:$J$101,2,FALSE))","v":""},{"$f":"VLOOKUP(E22,区分表!C4:K62,2,FALSE)","v":{"$error":"#N/A"}},{"$error":"#N/A"},{"$f":"IF(入力!F20=\"\",\"\",入力!F20)","v":""},null,{"$f":"IF(入力!G20=\"\",\"\",入力!G20)","v":""},null,{"$f":"IF(入力!H20=\"\",\"\",入力!H20)","v":""},null,{"$f":"VLOOKUP(D22,検定級リスト!$C$17:$D$95,2,FALSE)","v":{"$error":"#N/A"}},""]
[4,null,{"$f":"IF(入力!E21=\"\",\"\",入力!E21)","v":""},{"$f":"IF(C23=\"\",\"\",VLOOKUP(C23,区分表!$A$2:$I$101,2,FALSE))","v":""},{"$f":"IF(C23=\"\",\"\",VLOOKUP(D23,区分表!$B$2:$J$101,2,FALSE))","v":""},{"$f":"VLOOKUP(E23,区分表!C5:K63,2,FALSE)","v":{"$error":"#N/A"}},{"$error":"#N/A"},{"$f":"IF(入力!F21=\"\",\"\",入力!F21)","v":""},null,{"$f":"IF(入力!G21=\"\",\"\",入力!G21)","v":""},null,{"$f":"IF(入力!H21=\"\",\"\",入力!H21)","v":""},null,{"$f":"VLOOKUP(D23,検定級リスト!$C$17:$D$95,2,FALSE)","v":{"$error":"#N/A"}},""]
[5,null,{"$f":"IF(入力!E22=\"\",\"\",入力!E22)","v":""},{"$f":"IF(C24=\"\",\"\",VLOOKUP(C24,区分表!$A$2:$I$101,2,FALSE))","v":""},{"$f":"IF(C24=\"\",\"\",VLOOKUP(D24,区分表!$B$2:$J$101,2,FALSE))","v":""},{"$f":"VLOOKUP(E24,区分表!C6:K64,2,FALSE)","v":{"$error":"#N/A"}},{"$error":"#N/A"},{"$f":"IF(入力!F22=\"\",\"\",入力!F22)","v":""},null,{"$f":"IF(入力!G22=\"\",\"\",入力!G22)","v":""},null,{"$f":"IF(入力!H22=\"\",\"\",入力!H22)","v":""},null,{"$f":"VLOOKUP(D24,検定級リスト!$C$17:$D$95,2,FALSE)","v":{"$error":"#N/A"}},""]
[6,null,{"$f":"IF(入力!E23=\"\",\"\",入力!E23)","v":""},{"$f":"IF(C25=\"\",\"\",VLOOKUP(C25,区分表!$A$2:$I$101,2,FALSE))","v":""},{"$f":"IF(C25=\"\",\"\",VLOOKUP(D25,区分表!$B$2:$J$101,2,FALSE))","v":""},{"$f":"VLOOKUP(E25,区分表!C7:K65,2,FALSE)","v":{"$error":"#N/A"}},{"$error":"#N/A"},{"$f":"IF(入力!F23=\"\",\"\",入力!F23)","v":""},null,{"$f":"IF(入力!G23=\"\",\"\",入力!G23)","v":""},null,{"$f":"IF(入力!H23=\"\",\"\",入力!H23)","v":""},null,{"$f":"VLOOKUP(D25,検定級リスト!$C$17:$D$95,2,FALSE)","v":{"$error":"#N/A"}},""]
[7,null,{"$f":"IF(入力!E24=\"\",\"\",入力!E24)","v":""},{"$f":"IF(C26=\"\",\"\",VLOOKUP(C26,区分表!$A$2:$I$101,2,FALSE))","v":""},{"$f":"IF(C26=\"\",\"\",VLOOKUP(D26,区分表!$B$2:$J$101,2,FALSE))","v":""},{"$f":"VLOOKUP(E26,区分表!C8:K66,2,FALSE)","v":{"$error":"#N/A"}},{"$error":"#N/A"},{"$f":"IF(入力!F24=\"\",\"\",入力!F24)","v":""},null,{"$f":"IF(入力!G24=\"\",\"\",入力!G24)","v":""},null,{"$f":"IF(入力!H24=\"\",\"\",入力!H24)","v":""},null,{"$f":"VLOOKUP(D26,検定級リスト!$C$17:$D$95,2,FALSE)","v":{"$error":"#N/A"}},{"$f":"D26&J26","v":""}]
[8,null,{"$f":"IF(入力!E25=\"\",\"\",入力!E25)","v":""},{"$f":"IF(C27=\"\",\"\",VLOOKUP(C27,区分表!$A$2:$I$101,2,FALSE))","v":""},{"$f":"IF(C27=\"\",\"\",VLOOKUP(D27,区分表!$B$2:$J$101,2,FALSE))","v":""},{"$f":"VLOOKUP(E27,区分表!C9:K67,2,FALSE)","v":{"$error":"#N/A"}},{"$error":"#N/A"},{"$f":"IF(入力!F25=\"\",\"\",入力!F25)","v":""},null,{"$f":"IF(入力!G25=\"\",\"\",入力!G25)","v":""},null,{"$f":"IF(入力!H25=\"\",\"\",入力!H25)","v":""},null,{"$f":"VLOOKUP(D27,検定級リスト!$C$17:$D$95,2,FALSE)","v":{"$error":"#N/A"}},""]
[9,null,{"$f":"IF(入力!E26=\"\",\"\",入力!E26)","v":""},{"$f":"IF(C28=\"\",\"\",VLOOKUP(C28,区分表!$A$2:$I$101,2,FALSE))","v":""},{"$f":"IF(C28=\"\",\"\",VLOOKUP(D28,区分表!$B$2:$J$101,2,FALSE))","v":""},{"$f":"VLOOKUP(E28,区分表!C10:K68,2,FALSE)","v":{"$error":"#N/A"}},{"$error":"#N/A"},{"$f":"IF(入力!F26=\"\",\"\",入力!F26)","v":""},null,{"$f":"IF(入力!G26=\"\",\"\",入力!G26)","v":""},null,{"$f":"IF(入力!H26=\"\",\"\",入力!H26)","v":""},null,{"$f":"VLOOKUP(D28,検定級リスト!$C$17:$D$95,2,FALSE)","v":{"$error":"#N/A"}},""]
[10,null,{"$f":"IF(入力!E27=\"\",\"\",入力!E27)","v":""},{"$f":"IF(C29=\"\",\"\",VLOOKUP(C29,区分表!$A$2:$I$101,2,FALSE))","v":""},{"$f":"IF(C29=\"\",\"\",VLOOKUP(D29,区分表!$B$2:$J$101,2,FALSE))","v":""},{"$f":"VLOOKUP(E29,区分表!C11:K69,2,FALSE)","v":{"$error":"#N/A"}},{"$f":"VLOOKUP(F29,M72:M130,2,FALSE)","v":{"$error":"#N/A"}},{"$f":"IF(入力!F27=\"\",\"\",入力!F27)","v":""},null,{"$f":"IF(入力!G27=\"\",\"\",入力!G27)","v":""},null,{"$f":"IF(入力!H27=\"\",\"\",入力!H27)","v":""}]
[11,null,{"$f":"IF(入力!E28=\"\",\"\",入力!E28)","v":""},{"$f":"IF(C30=\"\",\"\",VLOOKUP(C30,区分表!$A$2:$I$101,2,FALSE))","v":""},{"$f":"IF(C30=\"\",\"\",VLOOKUP(D30,区分表!$B$2:$J$101,2,FALSE))","v":""},{"$f":"VLOOKUP(E30,区分表!C12:K70,2,FALSE)","v":{"$error":"#N/A"}},{"$error":"#N/A"},{"$f":"IF(入力!F28=\"\",\"\",入力!F28)","v":""},null,{"$f":"IF(入力!G28=\"\",\"\",入力!G28)","v":""},null,{"$f":"IF(入力!H28=\"\",\"\",入力!H28)","v":""}]
[12,null,{"$f":"IF(入力!E29=\"\",\"\",入力!E29)","v":""},{"$f":"IF(C31=\"\",\"\",VLOOKUP(C31,区分表!$A$2:$I$101,2,FALSE))","v":""},{"$f":"IF(C31=\"\",\"\",VLOOKUP(D31,区分表!$B$2:$J$101,2,FALSE))","v":""},{"$f":"VLOOKUP(E31,区分表!C13:K71,2,FALSE)","v":{"$error":"#N/A"}},{"$error":"#N/A"},{"$f":"IF(入力!F29=\"\",\"\",入力!F29)","v":""},null,{"$f":"IF(入力!G29=\"\",\"\",入力!G29)","v":""},null,{"$f":"IF(入力!H29=\"\",\"\",入力!H29)","v":""}]
[13,null,{"$f":"IF(入力!E30=\"\",\"\",入力!E30)","v":""},{"$f":"IF(C32=\"\",\"\",VLOOKUP(C32,区分表!$A$2:$I$101,2,FALSE))","v":""},{"$f":"IF(C32=\"\",\"\",VLOOKUP(D32,区分表!$B$2:$J$101,2,FALSE))","v":""},{"$f":"VLOOKUP(E32,区分表!C14:K72,2,FALSE)","v":{"$error":"#N/A"}},{"$error":"#N/A"},{"$f":"IF(入力!F30=\"\",\"\",入力!F30)","v":""},null,{"$f":"IF(入力!G30=\"\",\"\",入力!G30)","v":""},null,{"$f":"IF(入力!H30=\"\",\"\",入力!H30)","v":""}]
[14,null,{"$f":"IF(入力!E31=\"\",\"\",入力!E31)","v":""},{"$f":"IF(C33=\"\",\"\",VLOOKUP(C33,区分表!$A$2:$I$101,2,FALSE))","v":""},{"$f":"IF(C33=\"\",\"\",VLOOKUP(D33,区分表!$B$2:$J$101,2,FALSE))","v":""},{"$f":"VLOOKUP(E33,区分表!C15:K73,2,FALSE)","v":{"$error":"#N/A"}},{"$error":"#N/A"},{"$f":"IF(入力!F31=\"\",\"\",入力!F31)","v":""},null,{"$f":"IF(入力!G31=\"\",\"\",入力!G31)","v":""},null,{"$f":"IF(入力!H31=\"\",\"\",入力!H31)","v":""}]
[15,null,{"$f":"IF(入力!E32=\"\",\"\",入力!E32)","v":""},{"$f":"IF(C34=\"\",\"\",VLOOKUP(C34,区分表!$A$2:$I$101,2,FALSE))","v":""},{"$f":"IF(C34=\"\",\"\",VLOOKUP(D34,区分表!$B$2:$J$101,2,FALSE))","v":""},{"$f":"VLOOKUP(E34,区分表!C16:K74,2,FALSE)","v":{"$error":"#N/A"}},{"$error":"#N/A"},{"$f":"IF(入力!F32=\"\",\"\",入力!F32)","v":""},null,{"$f":"IF(入力!G32=\"\",\"\",入力!G32)","v":""},null,{"$f":"IF(入力!H32=\"\",\"\",入力!H32)","v":""},null,{"$f":"VLOOKUP(D34,検定級リスト!$C$17:$D$95,2,FALSE)","v":{"$error":"#N/A"}},""]
[16,null,{"$f":"IF(入力!E33=\"\",\"\",入力!E33)","v":""},{"$f":"IF(C35=\"\",\"\",VLOOKUP(C35,区分表!$A$2:$I$101,2,FALSE))","v":""},{"$f":"IF(C35=\"\",\"\",VLOOKUP(D35,区分表!$B$2:$J$101,2,FALSE))","v":""},{"$f":"VLOOKUP(E35,区分表!C17:K75,2,FALSE)","v":{"$error":"#N/A"}},{"$f":"VLOOKUP(F35,M78:M136,2,FALSE)","v":{"$error":"#N/A"}},{"$f":"IF(入力!F33=\"\",\"\",入力!F33)","v":""},null,{"$f":"IF(入力!G33=\"\",\"\",入力!G33)","v":""},null,{"$f":"IF(入力!H33=\"\",\"\",入力!H33)","v":""},null,{"$f":"VLOOKUP(D35,検定級リスト!$C$17:$D$95,2,FALSE)","v":{"$error":"#N/A"}},""]
[17,null,{"$f":"IF(入力!E34=\"\",\"\",入力!E34)","v":""},{"$f":"IF(C36=\"\",\"\",VLOOKUP(C36,区分表!$A$2:$I$101,2,FALSE))","v":""},{"$f":"IF(C36=\"\",\"\",VLOOKUP(D36,区分表!$B$2:$J$101,2,FALSE))","v":""},{"$f":"VLOOKUP(E36,区分表!C18:K76,2,FALSE)","v":{"$error":"#N/A"}},{"$error":"#N/A"},{"$f":"IF(入力!F34=\"\",\"\",入力!F34)","v":""},null,{"$f":"IF(入力!G34=\"\",\"\",入力!G34)","v":""},null,{"$f":"IF(入力!H34=\"\",\"\",入力!H34)","v":""},null,{"$f":"VLOOKUP(D36,検定級リスト!$C$17:$D$95,2,FALSE)","v":{"$error":"#N/A"}},""]
[18,null,{"$f":"IF(入力!E35=\"\",\"\",入力!E35)","v":""},{"$f":"IF(C37=\"\",\"\",VLOOKUP(C37,区分表!$A$2:$I$101,2,FALSE))","v":""},{"$f":"IF(C37=\"\",\"\",VLOOKUP(D37,区分表!$B$2:$J$101,2,FALSE))","v":""},{"$f":"VLOOKUP(E37,区分表!C19:K77,2,FALSE)","v":{"$error":"#N/A"}},{"$error":"#N/A"},{"$f":"IF(入力!F35=\"\",\"\",入力!F35)","v":""},null,{"$f":"IF(入力!G35=\"\",\"\",入力!G35)","v":""},null,{"$f":"IF(入力!H35=\"\",\"\",入力!H35)","v":""},null,{"$f":"VLOOKUP(D37,検定級リスト!$C$17:$D$95,2,FALSE)","v":{"$error":"#N/A"}},""]
[19,null,{"$f":"IF(入力!E36=\"\",\"\",入力!E36)","v":""},{"$f":"IF(C38=\"\",\"\",VLOOKUP(C38,区分表!$A$2:$I$101,2,FALSE))","v":""},{"$f":"IF(C38=\"\",\"\",VLOOKUP(D38,区分表!$B$2:$J$101,2,FALSE))","v":""},{"$f":"VLOOKUP(E38,区分表!C20:K78,2,FALSE)","v":{"$error":"#N/A"}},{"$error":"#N/A"},{"$f":"IF(入力!F36=\"\",\"\",入力!F36)","v":""},null,{"$f":"IF(入力!G36=\"\",\"\",入力!G36)","v":""},null,{"$f":"IF(入力!H36=\"\",\"\",入力!H36)","v":""},null,{"$f":"VLOOKUP(D38,検定級リスト!$C$17:$D$95,2,FALSE)","v":{"$error":"#N/A"}},""]
[20,null,{"$f":"IF(入力!E37=\"\",\"\",入力!E37)","v":""},{"$f":"IF(C39=\"\",\"\",VLOOKUP(C39,区分表!$A$2:$I$101,2,FALSE))","v":""},{"$f":"IF(C39=\"\",\"\",VLOOKUP(D39,区分表!$B$2:$J$101,2,FALSE))","v":""},{"$f":"VLOOKUP(E39,区分表!C21:K79,2,FALSE)","v":{"$error":"#N/A"}},{"$error":"#N/A"},{"$f":"IF(入力!F37=\"\",\"\",入力!F37)","v":""},null,{"$f":"IF(入力!G37=\"\",\"\",入力!G37)","v":""},null,{"$f":"IF(入力!H37=\"\",\"\",入力!H37)","v":""},null,{"$f":"VLOOKUP(D39,検定級リスト!$C$17:$D$95,2,FALSE)","v":{"$error":"#N/A"}},""]
[]
["区分A合計得点",null,null,null,null,null,null,null,null,{"$f":"SUM(L20:M39)","v":0},null,null,null,{"$f":"VLOOKUP(D41,検定級リスト!$C$17:$D$95,2,FALSE)","v":{"$error":"#N/A"}}]
[]
[1,"B",{"$f":"IF(入力!E41=\"\",\"\",入力!E41)","v":""},{"$f":"IF(C43=\"\",\"\",VLOOKUP(C43,区分表!$A$2:$I$101,2,FALSE))","v":""},{"$f":"IF(C43=\"\",\"\",VLOOKUP(D43,区分表!$B$2:$J$101,2,FALSE))","v":""},{"$f":"VLOOKUP(E43,区分表!C15:K73,2,FALSE)","v":{"$error":"#N/A"}},{"$f":"VLOOKUP(F43,M76:M134,2,FALSE)","v":{"$error":"#N/A"}},{"$f":"IF(入力!F41=\"\",\"\",入力!F41)","v":""},null,{"$f":"IF(入力!G41=\"\",\"\",入力!G41)","v":""},null,{"$f":"IF($C43=\"\",\"\",VLOOKUP(O43,'得点リスト(B区分）'!$D$2:$E$388,2,FALSE))","v":""},null,{"$f":"VLOOKUP(D43,検定級リスト!$C$17:$D$95,2,FALSE)","v":{"$error":"#N/A"}},{"$f":"D43&J43","v":""}]
[2,null,{"$f":"IF(入力!E42=\"\",\"\",入力!E42)","v":""},{"$f":"IF(C44=\"\",\"\",VLOOKUP(C44,区分表!$A$2:$I$101,2,FALSE))","v":""},{"$f":"IF(C44=\"\",\"\",VLOOKUP(D44,区分表!$B$2:$J$101,2,FALSE))","v":""},{"$f":"VLOOKUP(E44,区分表!C16:K74,2,FALSE)","v":{"$error":"#N/A"}},{"$f":"VLOOKUP(F44,M77:M135,2,FALSE)","v":{"$error":"#N/A"}},{"$f":"IF(入力!F42=\"\",\"\",入力!F42)","v":""},null,{"$f":"IF(入力!G42=\"\",\"\",入力!G42)","v":""},null,{"$f":"IF($C44=\"\",\"\",VLOOKUP(O44,'得点リスト(B区分）'!$D$2:$E$388,2,FALSE))","v":""},null,null,{"$f":"D44&J44","v":""}]
[3,null,{"$f":"IF(入力!E43=\"\",\"\",入力!E43)","v":""},{"$f":"IF(C45=\"\",\"\",VLOOKUP(C45,区分表!$A$2:$I$101,2,FALSE))","v":""},{"$f":"IF(C45=\"\",\"\",VLOOKUP(D45,区分表!$B$2:$J$101,2,FALSE))","v":""},{"$f":"VLOOKUP(E45,区分表!C17:K75,2,FALSE)","v":{"$error":"#N/A"}},{"$error":"#N/A"},{"$f":"IF(入力!F43=\"\",\"\",入力!F43)","v":""},null,{"$f":"IF(入力!G43=\"\",\"\",入力!G43)","v":""},null,{"$f":"IF($C45=\"\",\"\",VLOOKUP(O45,'得点リスト(B区分）'!$D$2:$E$388,2,FALSE))","v":""},null,null,""]
[4,null,{"$f":"IF(入力!E44=\"\",\"\",入力!E44)","v":""},{"$f":"IF(C46=\"\",\"\",VLOOKUP(C46,区分表!$A$2:$I$101,2,FALSE))","v":""},{"$f":"IF(C46=\"\",\"\",VLOOKUP(D46,区分表!$B$2:$J$101,2,FALSE))","v":""},{"$f":"VLOOKUP(E46,区分表!C18:K76,2,FALSE)","v":{"$error":"#N/A"}},{"$error":"#N/A"},{"$f":"IF(入力!F44=\"\",\"\",入力!F44)","v":""},null,{"$f":"IF(入力!G44=\"\",\"\",入力!G44)","v":""},null,{"$f":"IF($C46=\"\",\"\",VLOOKUP(O46,'得点リスト(B区分）'!$D$2:$E$388,2,FALSE))","v":""},null,{"$f":"VLOOKUP(D46,検定級リスト!$C$17:$D$95,2,FALSE)","v":{"$error":"#N/A"}},{"$f":"D46&J46","v":""}]
[5,null,{"$f":"IF(入力!E45=\"\",\"\",入力!E45)","v":""},{"$f":"IF(C47=\"\",\"\",VLOOKUP(C47,区分表!$A$2:$I$101,2,FALSE))","v":""},{"$f":"IF(C47=\"\",\"\",VLOOKUP(D47,区分表!$B$2:$J$101,2,FALSE))","v":""},{"$f":"VLOOKUP(E47,区分表!C19:K77,2,FALSE)","v":{"$error":"#N/A"}},{"$error":"#N/A"},{"$f":"IF(入力!F45=\"\",\"\",入力!F45)","v":""},null,{"$f":"IF(入力!G45=\"\",\"\",入力!G45)","v":""},null,{"$f":"IF($C47=\"\",\"\",VLOOKUP(O47,'得点リスト(B区分）'!$D$2:$E$388,2,FALSE))","v":""},null,{"$f":"VLOOKUP(D47,検定級リスト!$C$17:$D$95,2,FALSE)","v":{"$error":"#N/A"}},""]
[]
["区分B合計得点",null,null,null,null,null,null,null,null,{"$f":"SUM(L43:M47)","v":0}]
[]
["合　計　得　点",null,null,null,{"$f":"SUM(J41,J49)","v":0},null,{"$f":"入力!G50","v":" "}]
[]
["※資格および競技会の成績を証明するものの写（コピー可）を添えて担当の先生に提出すること。"]

{"sheet":"区分表","index":2,"n_rows":78,"n_cols":8,"rows_kept":78,"cut":false,"hidden":true,"merged":[]}
["区分Ａ",null,null,20,15,10,5]
[101,"海技士　航海（筆記試験合格）","国土交通省","二級","三級","四級","五級"]
[102,"海技士　機関（筆記試験合格）","国土交通省","二級","三級","四級","五級"]
[103,"海技士　機関（筆記試験合格）","国土交通省","内燃二級","内燃三級","内燃四級","内燃五級"]
[104,"小型船舶操縦士（免許状取得）","国土交通省",null,null,"1級","2級"]
[201,"総合無線通信士","総務省","第１級","第2級","第3級"]
[202,"陸上無線技術士","総務省","第１級","第2級"]
[203,"海上無線通信士","総務省",null,"第1級","第2級","第3級"]
[204,"工事担任者","総務省",null,"ＡＩ１種","ＡＩ２種","ＡＩ３種"]
[205,"工事担任者","総務省",null,"ＤＤ１種","ＤＤ２種","ＤＤ３種"]
[206,"潜水士","厚生労働省",null,null,"○"]
[301,"水産海洋技術検定","全国水産高等学校長協会",null,null,null,"○"]
[302,"高等学校海洋情報技術検定","全国水産高等学校長協会",null,null,"第1級","第2級"]
[303,"高等学校通信技術検定","全国水産高等学校長協会",null,null,"〇"]
[304,"高等学校栽培漁業技術検定","全国水産高等学校長協会",null,"1級","２級"]
[305,"食品技能検定","全国水産高等学校長協会",null,null,"第1類"]
[306,"食品技能検定","全国水産高等学校長協会",null,null,"第2類"]
[307,"食品技能検定","全国水産高等学校長協会",null,null,"第3類"]
[308,"ＨＡＣＣＰ基本技能検定","全国水産高等学校長協会",null,null,null,"〇"]
[309,"高等学校潜水技術検定","全国水産高等学校長協会",null,"１級","２級"]
[310,"高等学校漁業技術検定","全国水産高等学校長協会",null,"○"]
[311,"高等学校エンジン技術検定","全国水産高等学校長協会",null,"1級","２級"]
[401,"生徒研究発表大会(全国大会)","全国水産高等学校長協会","最優秀","優秀"]
[402,"生徒研究発表大会(地区大会)","全国水産高等学校長協会",null,null,"最優秀","優秀"]
[403,"ｶｯﾀｰﾚｰｽ大会(全国大会)","全国水産高等学校長協会",null,"優勝","2位","3位"]
[404,"ｶｯﾀｰﾚｰｽ大会(地区大会)","全国水産高等学校長協会",null,null,null,"優勝"]
[405,"ﾌｨｯｼﾝｸﾞ技能ｺﾝﾃｽﾄ(部門別)","全国水産高等学校長協会",null,null,null,"優勝"]
[406,"食品技能ｺﾝﾃｽﾄ","全国水産高等学校長協会","総合優勝","2位","3位"]
[407,"ﾀﾞｲﾋﾞﾝｸﾞ技能ｺﾝﾃｽﾄ(全国大会)","全国水産高等学校長協会",null,"総合優勝","2位","3位"]
[408,"ﾀﾞｲﾋﾞﾝｸﾞ技能ｺﾝﾃｽﾄ(地区大会)","全国水産高等学校長協会",null,null,null,"総合優勝"]
[409,"栽培漁業検定ポスター・標語・スケッチ・コンテスト","全国水産高等学校長協会",null,null,"最優秀","優秀"]
[410,"意見・体験発表大会（全国大会）","全国高等学校水産教育研究会","最優秀","優秀"]
[411,"意見・体験発表大会（地区大会）","全国高等学校水産教育研究会",null,null,"最優秀","優秀"]
[412,"マリンロボットコンテスト","全国水産高等学校長協会",null,"総合優勝","2位","3位"]
[413]
[414]
[]
["コード","資格","主催団体",15,10,5,2]
[501,"ボイラ技士","厚生労働省",null,"２級"]
[502,"第３種冷凍機械責任者","厚生労働省","○"]
[503,"甲種危険物取扱者","総務省","甲種",null,null,null,1]
[504,"乙種危険物取扱者（１５点まで）","総務省",null,null,"1類"]
[505,"乙種危険物取扱者（１５点まで）","総務省",null,null,"2類"]
[506,"乙種危険物取扱者（１５点まで）","総務省",null,null,"3類"]
[507,"乙種危険物取扱者（１５点まで）","総務省",null,null,"4類"]
[508,"乙種危険物取扱者（１５点まで）","総務省",null,null,"5類"]
[509,"乙種危険物取扱者（１５点まで）","総務省",null,null,"6類"]
[510,"丙種危険物取扱者","総務省",null,null,null,"○"]
[511,"電気工事士２種","経済産業省",null,"○"]
[512,"販売士","日本商工会議所",null,null,null,"３級"]
[513,"簿記検定","日本商工会議所",null,null,"2級","3級"]
[514,"簿記実務検定","商高長会",null,"1級","2級","3級"]
[515,"ビジネス文書実務検定","商高長会",null,"1級","2級","3級"]
[516,"PC検定（文書作成）","日商・全経",null,"1級","2級","3級"]
[517,"食物調理技術検定","全高家教振",null,"1級","2級","3級"]
[518,"陸上特殊無線技士","総務省",null,null,"第1級","第2級"]
[519,"海上特殊無線技士","総務省",null,null,"第1級","第2級"]
[520,"レーダー級海上特殊無線技士","総務省",null,null,null,"○"]
[521,"情報技術検定","工高長会",null,null,"1級","2級"]
[522,"情報処理検定","商高長会",null,null,"1級","2級"]
[523,"移動式小型クレーン","厚生労働省",null,null,null,"○"]
[524,"実用英語技能検定試験","公益財団法人　日本英語検定協会","準1級","2級","準2級","3級"]
[525,"フォークリフト運転技能講習","（各県）労働局長登録教習機関",null,null,null,"○"]
[526,"アーク溶接基本級A-2F\n※ＪＩＳ溶接評価試験","日本溶接協会",null,null,"○"]
[527,"アーク溶接業務特別教育講習修了証","厚生労働省",null,null,null,"○"]
[528,"ガス溶接技能者講習修了証","厚生労働省 ",null,null,null,"○"]
[529,"ボイラ取扱技能講習","日本ボイラ協会各支部等",null,null,null,"○"]
[530,"普通第一種圧力容器取扱作業主任者技能講習","日本ボイラ協会各支部等",null,null,null,"○"]
[531,"玉掛け技能講習","ボイラ・クレーン安全協会等",null,null,null,"○"]
[532,"第二種酸素欠乏危険作業特別講習","労働局登録研修期間",null,null,null,"○"]
[]
["区分Ｂ","資格・大会","主催団体",10,5,2,1]
[1001,"食の６次産業化プロデューサー","一般社団法人食の検定協会",null,null,null,"レベル1"]
[1002,"食品衛生責任者","都道府県食品衛生協会",null,null,null,"合格"]
[1003,"実用数学 技能検定","公益財団法人　日本数学検定協会","準1級","2級","準2級","3級"]
[1004,"日本漢字能力検定","公益財団法人　日本漢字能力検定協会","準1級","2級","準2級","3級"]
[1005,"うまいもん甲子園","一般社団法人　全国食の甲子園協会","全国優勝",null,"地区代表"]
[1006,"全日本スポーツダイビング室内選手権大会\n５０ｍフリッパー競技（高校生の部：文部科学大臣賞対象競技のみ）","一般財団法人　社会スポーツセンター","優勝"]

{"sheet":"賞区分","index":3,"n_rows":4,"n_cols":3,"rows_kept":4,"cut":false,"hidden":true,"merged":[]}
[]
[null,"マリンマイスターシルバー",46]
[null,"マリンマイスターゴールド",61]
[null,"マリンマイスタープラチナ",60]

{"sheet":"得点リスト(A区分）","index":4,"n_rows":121,"n_cols":7,"rows_kept":121,"cut":false,"hidden":true,"merged":[]}
[null,"得点用",null,null,null,null,"入力用"]
[null,"海技士　航海（筆記試験合格）","二級",{"$f":"B2&C2","v":"海技士　航海（筆記試験合格）二級"},20,null,"コード"]
[null,"海技士　航海（筆記試験合格）","三級",{"$f":"B3&C3","v":"海技士　航海（筆記試験合格）三級"},15,null,101]
[null,"海技士　航海（筆記試験合格）","四級","海技士　航海（筆記試験合格）四級",10,null,102]
[null,"海技士　航海（筆記試験合格）","五級","海技士　航海（筆記試験合格）五級",5,null,103]
[null,"海技士　機関（筆記試験合格）","二級","海技士　機関（筆記試験合格）二級",20,null,104]
[null,"海技士　機関（筆記試験合格）","三級","海技士　機関（筆記試験合格）三級",15,null,201]
[null,"海技士　機関（筆記試験合格）","四級","海技士　機関（筆記試験合格）四級",10,null,202]
[null,"海技士　機関（筆記試験合格）","五級","海技士　機関（筆記試験合格）五級",5,null,203]
[null,"海技士　機関（筆記試験合格）","内燃二級","海技士　機関（筆記試験合格）内燃二級",20,null,204]
[null,"海技士　機関（筆記試験合格）","内燃三級","海技士　機関（筆記試験合格）内燃三級",15,null,205]
[null,"海技士　機関（筆記試験合格）","内燃四級","海技士　機関（筆記試験合格）内燃四級",10,null,206]
[null,"海技士　機関（筆記試験合格）","内燃五級","海技士　機関（筆記試験合格）内燃五級",5,null,301]
[null,"小型船舶操縦士（免許状取得）","1級","小型船舶操縦士（免許状取得）1級",10,null,302]
[null,"小型船舶操縦士（免許状取得）","2級","小型船舶操縦士（免許状取得）2級",5,null,303]
[null,"総合無線通信士","第１級","総合無線通信士第１級",20,null,304]
[null,"総合無線通信士","第2級","総合無線通信士第2級",15,null,305]
[null,"総合無線通信士","第3級","総合無線通信士第3級",10,null,306]
[null,"陸上無線技術士","第１級","陸上無線技術士第１級",20,null,307]
[null,"陸上無線技術士","第2級","陸上無線技術士第2級",15,null,308]
[null,"海上無線通信士","第1級","海上無線通信士第1級",15,null,308]
[null,"海上無線通信士","第2級","海上無線通信士第2級",10,null,309]
[null,"海上無線通信士","第3級","海上無線通信士第3級",5,null,310]
[null,"工事担任者","ＡＩ１種","工事担任者ＡＩ１種",15,null,311]
[null,"工事担任者","ＡＩ２種","工事担任者ＡＩ２種",10,null,401]
[null,"工事担任者","ＡＩ３種","工事担任者ＡＩ３種",5,null,402]
[null,"工事担任者","ＤＤ１種","工事担任者ＤＤ１種",15,null,403]
[null,"工事担任者","ＤＤ２種","工事担任者ＤＤ２種",10,null,404]
[null,"工事担任者","ＤＤ３種","工事担任者ＤＤ３種",5,null,405]
[null,"潜水士","合格","潜水士合格",10,null,406]
[null,"水産海洋技術検定","合格","水産海洋技術検定合格",5,null,407]
[null,"高等学校海洋情報技術検定","第1級","高等学校海洋情報技術検定第1級",15,null,408]
[null,"高等学校海洋情報技術検定","第2級","高等学校海洋情報技術検定第2級",10,null,409]
[null,"ＨＡＣＣＰ基本技能検定","合格","ＨＡＣＣＰ基本技能検定合格",5,null,410]
[null,"高等学校通信技術検定","合格","高等学校通信技術検定合格",10,null,411]
[null,"高等学校栽培漁業技術検定","1級","高等学校栽培漁業技術検定1級",15,null,412]
[null,"高等学校栽培漁業技術検定","２級","高等学校栽培漁業技術検定２級",10,null,413]
[null,"食品技能検定","第1類","食品技能検定第1類",10,null,414]
[null,"食品技能検定","第2類","食品技能検定第2類",10,null,501]
[null,"食品技能検定","第3類","食品技能検定第3類",10,null,502]
[null,"高等学校潜水技術検定","１級","高等学校潜水技術検定１級",15,null,503]
[null,"高等学校潜水技術検定","２級","高等学校潜水技術検定２級",10,null,504]
[null,"高等学校漁業技術検定","合格","高等学校漁業技術検定合格",15,null,505]
[null,"高等学校エンジン技術検定","１級","高等学校エンジン技術検定１級",15,null,506]
[null,"高等学校エンジン技術検定","２級","高等学校エンジン技術検定２級",10,null,507]
[null,"生徒研究発表大会(全国大会)","最優秀","生徒研究発表大会(全国大会)最優秀",20,null,508]
[null,"生徒研究発表大会(全国大会)","優秀","生徒研究発表大会(全国大会)優秀",15,null,509]
[null,"生徒研究発表大会(地区大会)","最優秀","生徒研究発表大会(地区大会)最優秀",10,null,510]
[null,"生徒研究発表大会(地区大会)","優秀","生徒研究発表大会(地区大会)優秀",5,null,511]
[null,"生徒研究発表大会(校内大会)",null,"生徒研究発表大会(校内大会)",null,null,512]
[null,"ｶｯﾀｰﾚｰｽ大会(全国大会)","優勝","ｶｯﾀｰﾚｰｽ大会(全国大会)優勝",15,null,513]
[null,"ｶｯﾀｰﾚｰｽ大会(全国大会)","2位","ｶｯﾀｰﾚｰｽ大会(全国大会)2位",10,null,514]
[null,"ｶｯﾀｰﾚｰｽ大会(全国大会)","3位","ｶｯﾀｰﾚｰｽ大会(全国大会)3位",5,null,515]
[null,"ｶｯﾀｰﾚｰｽ大会(地区大会)","優勝","ｶｯﾀｰﾚｰｽ大会(地区大会)優勝",5,null,516]
[null,"ﾌｨｯｼﾝｸﾞ技能ｺﾝﾃｽﾄ(部門別)","優勝","ﾌｨｯｼﾝｸﾞ技能ｺﾝﾃｽﾄ(部門別)優勝",5,null,517]
[null,"食品技能ｺﾝﾃｽﾄ","総合優勝","食品技能ｺﾝﾃｽﾄ総合優勝",20,null,518]
[null,"食品技能ｺﾝﾃｽﾄ","2位","食品技能ｺﾝﾃｽﾄ2位",15,null,519]
[null,"食品技能ｺﾝﾃｽﾄ","3位","食品技能ｺﾝﾃｽﾄ3位",10,null,520]
[null,"ﾀﾞｲﾋﾞﾝｸﾞ技能ｺﾝﾃｽﾄ(全国大会)","総合優勝","ﾀﾞｲﾋﾞﾝｸﾞ技能ｺﾝﾃｽﾄ(全国大会)総合優勝",15,null,521]
[null,"ﾀﾞｲﾋﾞﾝｸﾞ技能ｺﾝﾃｽﾄ(全国大会)","2位","ﾀﾞｲﾋﾞﾝｸﾞ技能ｺﾝﾃｽﾄ(全国大会)2位",10,null,522]
[null,"ﾀﾞｲﾋﾞﾝｸﾞ技能ｺﾝﾃｽﾄ(全国大会)","3位","ﾀﾞｲﾋﾞﾝｸﾞ技能ｺﾝﾃｽﾄ(全国大会)3位",5,null,523]
[null,"ﾀﾞｲﾋﾞﾝｸﾞ技能ｺﾝﾃｽﾄ(地区大会)","総合優勝","ﾀﾞｲﾋﾞﾝｸﾞ技能ｺﾝﾃｽﾄ(地区大会)総合優勝",5,null,524]
[null,"栽培漁業検定ポスター・標語・スケッチ・コンテスト","最優秀","栽培漁業検定ポスター・標語・スケッチ・コンテスト最優秀",10,null,525]
[null,"栽培漁業検定ポスター・標語・スケッチ・コンテスト","優秀","栽培漁業検定ポスター・標語・スケッチ・コンテスト優秀",5,null,526]
[null,"意見・体験発表大会（全国大会）","最優秀","意見・体験発表大会（全国大会）最優秀",20,null,527]
[null,"意見・体験発表大会（全国大会）","優秀","意見・体験発表大会（全国大会）優秀",15,null,528]
[null,"意見・体験発表大会（地区大会）","最優秀",{"$f":"B67&C67","v":"意見・体験発表大会（地区大会）最優秀"},10,null,529]
[null,"意見・体験発表大会（地区大会）","優秀","意見・体験発表大会（地区大会）優秀",5,null,530]
[null,"意見・体験発表大会（校内大会）",null,"意見・体験発表大会（校内大会）",null,null,531]
[null,"マリンロボットコンテスト","総合優勝","マリンロボットコンテスト総合優勝",15,null,532]
[null,"マリンロボットコンテスト","2位","マリンロボットコンテスト2位",10]
[null,"マリンロボットコンテスト","3位","マリンロボットコンテスト3位",5]
[null,"ボイラ技士","１級",{"$f":"B73&C73","v":"ボイラ技士１級"},15]
[null,"ボイラ技士","２級","ボイラ技士２級",10]
[null,"第３種冷凍機械責任者","合格","第３種冷凍機械責任者合格",15]
[null,"甲種危険物取扱者","甲種","甲種危険物取扱者甲種",15]
[null,"乙種危険物取扱者（１５点まで）","1類","乙種危険物取扱者（１５点まで）1類",5]
[null,"乙種危険物取扱者（１５点まで）","2類","乙種危険物取扱者（１５点まで）2類",5]
[null,"乙種危険物取扱者（１５点まで）","3類","乙種危険物取扱者（１５点まで）3類",5]
[null,"乙種危険物取扱者（１５点まで）","4類","乙種危険物取扱者（１５点まで）4類",5]
[null,"乙種危険物取扱者（１５点まで）","5類","乙種危険物取扱者（１５点まで）5類",5]
[null,"乙種危険物取扱者（１５点まで）","6類","乙種危険物取扱者（１５点まで）6類",5]
[null,"丙種危険物取扱者","合格","丙種危険物取扱者合格",2]
[null,"電気工事士２種","合格","電気工事士２種合格",10]
[null,"アーク溶接基本級A-2F\n※ＪＩＳ溶接評価試験","合格","アーク溶接基本級A-2F\n※ＪＩＳ溶接評価試験合格",5]
[null,"アーク溶接業務特別教育講習修了証","合格","アーク溶接業務特別教育講習修了証合格",2]
[null,"ガス溶接技能者講習修了証","合格","ガス溶接技能者講習修了証合格",2]
[null,"販売士","３級","販売士３級",5]
[null,"簿記検定","2級","簿記検定2級",10]
[null,"簿記検定","3級","簿記検定3級",5]
[null,"簿記実務検定","1級","簿記実務検定1級",10]
[null,"簿記実務検定","2級","簿記実務検定2級",5]
[null,"簿記実務検定","3級","簿記実務検定3級",2]
[null,"ビジネス文書実務検定","1級","ビジネス文書実務検定1級",10]
[null,"ビジネス文書実務検定","2級","ビジネス文書実務検定2級",5]
[null,"ビジネス文書実務検定","3級","ビジネス文書実務検定3級",2]
[null,"PC検定（文書作成）","1級","PC検定（文書作成）1級",10]
[null,"PC検定（文書作成）","2級","PC検定（文書作成）2級",5]
[null,"PC検定（文書作成）","3級","PC検定（文書作成）3級",2]
[null,"食物調理技術検定","1級","食物調理技術検定1級",10]
[null,"食物調理技術検定","2級","食物調理技術検定2級",5]
[null,"食物調理技術検定","3級","食物調理技術検定3級",2]
[null,"陸上特殊無線技士","第1級","陸上特殊無線技士第1級",5]
[null,"陸上特殊無線技士","第2級","陸上特殊無線技士第2級",2]
[null,"海上特殊無線技士","第1級","海上特殊無線技士第1級",5]
[null,"海上特殊無線技士","第2級","海上特殊無線技士第2級",2]
[null,"レーダー級海上特殊無線技士","合格","レーダー級海上特殊無線技士合格",2]
[null,"情報技術検定","1級","情報技術検定1級",5]
[null,"情報技術検定","2級","情報技術検定2級",2]
[null,"情報処理検定","1級","情報処理検定1級",5]
[null,"情報処理検定","2級","情報処理検定2級",2]
[null,"移動式小型クレーン","合格","移動式小型クレーン合格",2]
[null,"実用英語技能検定試験","準1級","実用英語技能検定試験準1級",15]
[null,"実用英語技能検定試験","2級","実用英語技能検定試験2級",10]
[null,"実用英語技能検定試験","準2級","実用英語技能検定試験準2級",5]
[null,"実用英語技能検定試験","3級","実用英語技能検定試験3級",2]
[null,"フォークリフト運転技能講習","合格","フォークリフト運転技能講習合格",2]
[null,"ボイラ取扱技能講習","合格","ボイラ取扱技能講習合格",2]
[null,"普通第一種圧力容器取扱作業主任者技能講習","合格","普通第一種圧力容器取扱作業主任者技能講習合格",2]
[null,"玉掛け技能講習","合格","玉掛け技能講習合格",2]
[null,"第二種酸素欠乏危険作業特別講習","合格","第二種酸素欠乏危険作業特別講習合格",2]

{"sheet":"得点リスト(B区分）","index":5,"n_rows":45,"n_cols":12,"rows_kept":45,"cut":false,"hidden":true,"merged":[]}
[]
[null,"食の６次産業化プロデューサー","レベル1",{"$f":"B2&C2","v":"食の６次産業化プロデューサーレベル1"},1]
[null,"食品衛生責任者","合格",{"$f":"B3&C3","v":"食品衛生責任者合格"},1]
[null,"実用数学 技能検定","準1級","実用数学 技能検定準1級",10]
[null,"実用数学 技能検定","2級","実用数学 技能検定2級",5]
[null,"実用数学 技能検定","準2級","実用数学 技能検定準2級",2]
[null,"実用数学 技能検定","3級","実用数学 技能検定3級",1]
[null,"日本漢字能力検定","準1級","日本漢字能力検定準1級",10]
[null,"日本漢字能力検定","2級","日本漢字能力検定2級",5]
[null,"日本漢字能力検定","準2級","日本漢字能力検定準2級",2]
[null,"日本漢字能力検定","3級","日本漢字能力検定3級",1]
[null,"うまいもん甲子園","全国優勝","うまいもん甲子園全国優勝",10]
[null,"うまいもん甲子園","地区代表","うまいもん甲子園地区代表",2]
[null,"全日本スポーツダイビング室内選手権大会\n５０ｍフリッパー競技（高校生の部：文部科学大臣賞対象競技のみ）","優勝","全日本スポーツダイビング室内選手権大会\n５０ｍフリッパー競技（高校生の部：文部科学大臣賞対象競技のみ）優勝",10]
[]
[]
[]
[]
[]
[]
[]
[]
[]
[]
[]
[]
[]
[]
[]
[null,null,null,null,null,null,null,null,20,15,10,5]
[null,null,null,null,null,null,null,null,null,"1級","２級"]
[null,null,null,null,null,null,null,null,"最優秀","優秀"]
[null,null,null,null,null,null,null,null,null,null,"最優秀","優秀"]
[]
[null,null,null,null,null,null,null,null,null,"優勝","2位","3位"]
[null,null,null,null,null,null,null,null,null,null,null,"優勝"]
[null,null,null,null,null,null,null,null,null,null,null,"優勝"]
[null,null,null,null,null,null,null,null,"総合優勝","2位","3位"]
[null,null,null,null,null,null,null,null,null,"総合優勝","2位","3位"]
[]
[null,null,null,null,null,null,null,null,null,null,"最優秀","優秀"]
[null,null,null,null,null,null,null,null,"最優秀","優秀"]
[null,null,null,null,null,null,null,null,null,null,"最優秀","優秀"]
[]
[null,null,null,null,null,null,null,null,"総合優勝","2位","3位"]

{"sheet":"検定級リスト","index":6,"n_rows":89,"n_cols":74,"rows_kept":89,"cut":false,"hidden":true,"merged":[]}
[null,"海技士　航海（筆記試験合格）","海技士　機関（筆記試験合格）","海技士　機関（筆記試験合格）","小型船舶操縦士（免許状取得）","総合無線通信士","陸上無線技術士","海上無線通信士","工事担任者","工事担任者","潜水士","水産海洋技術検定","高等学校海洋情報技術検定","ＨＡＣＣＰ基本技能検定","高等学校通信技術検定","高等学校栽培漁業技術検定","食品技能検定","食品技能検定","食品技能検定","高等学校潜水技術検定","高等学校漁業技術検定","高等学校エンジン技術検定","生徒研究発表大会(全国大会)","生徒研究発表大会(地区大会)","生徒研究発表大会(校内大会)","ｶｯﾀｰﾚｰｽ大会(全国大会)","ｶｯﾀｰﾚｰｽ大会(地区大会)","ﾌｨｯｼﾝｸﾞ技能ｺﾝﾃｽﾄ(部門別)","食品技能ｺﾝﾃｽﾄ","ﾀﾞｲﾋﾞﾝｸﾞ技能ｺﾝﾃｽﾄ(全国大会)","ﾀﾞｲﾋﾞﾝｸﾞ技能ｺﾝﾃｽﾄ(地区大会)","栽培漁業検定ポスター・標語・スケッチ・コンテスト","意見・体験発表大会（全国大会）","意見・体験発表大会（地区大会）","意見・体験発表大会（校内大会）","マリンロボットコンテスト",null,"資格","ボイラ技士","第３種冷凍機械責任者","甲種危険物取扱者","乙種危険物取扱者（１５点まで）","ボイラ取扱技能講習","普通第一種圧力容器取扱作業主任者技能講習","玉掛け技能講習","第二種酸素欠乏危険作業特別講習","乙種危険物取扱者（２０点まで）","丙種危険物取扱者","電気工事士２種","アーク溶接基本級A-2F\n※ＪＩＳ溶接評価試験","アーク溶接業務特別教育講習修了証","ガス溶接技能者講習修了証","販売士","簿記検定","簿記実務検定","ビジネス文書実務検定","PC検定（文書作成）","食物調理技術検定","陸上特殊無線技士","海上特殊無線技士","レーダー級海上特殊無線技士","情報技術検定","情報処理検定","移動式小型クレーン","実用英語技能検定試験","フォークリフト運転技能講習",null,"資格・大会","食の６次産業化プロデューサー","食品衛生責任者","実用数学 技能検定","日本漢字能力検定","うまいもん甲子園","全日本スポーツダイビング室内選手権大会\n５０ｍフリッパー競技（高校生の部：文部科学大臣賞対象競技のみ）"]
[null,"a1","a2","a3","a4","a5","a6","a7","a8","a9","a10","a11","a12","a13","a14","a15","a16","a17","a18","a19","a20","a21","a22","a23","a24","a25","a26","a27","a28","a29","a30","a31","a32","a33","a34","a35","a36","a37","a38","a39","a40","a41","a42","a43","a44","a45","a46","a47","a48","a49","a50","a51","a52","a53","a54","a55","a56","a57","a58","a59","a60","a61","a62","a63","a64","a65","a66","a67","a68","a69","a70","a71","a72","a73"]
[null,"二級","二級","内燃二級","1級","第１級","第１級","第1級","ＡＩ１種",null,"合格","合格","第1級","合格","合格","1級","第1類",null,null,"１級","合格","１級","最優秀","最優秀",null,"優勝","優勝","優勝","総合優勝","総合優勝","総合優勝","最優秀","最優秀","最優秀",null,"総合優勝",null,15,"１級","合格","甲種","1類","合格","合格","合格","合格",null,"合格","合格","合格","合格","合格","３級","2級","1級","1級","1級","1級","第1級","第1級","合格","1級","1級","合格","準1級","合格",null,10,"レベル1","合格","準1級","準1級","全国優勝","優勝"]
[null,"三級","三級","内燃三級","2級","第2級","第2級","第2級","ＡＩ２種",null,null,null,"第2級",null,null,"２級","第2類",null,null,"２級",null,"２級","優秀","優秀",null,"2位",null,null,"2位","2位",null,"優秀","優秀","優秀",null,"2位",null,10,"２級",null,null,"2類",null,null,null,null,null,null,null,null,null,null,null,"3級","2級","2級","2級","2級","第2級","第2級",null,"2級","2級",null,"2級",null,null,5,null,null,"2級","2級","地区代表"]
[null,"四級","四級","内燃四級",null,"第3級",null,"第3級","ＡＩ３種",null,null,null,null,null,null,null,"第3類",null,null,null,null,null,null,null,null,"3位",null,null,"3位","3位",null,null,null,null,null,"3位",null,5,null,null,null,"3類",null,null,null,null,null,null,null,null,null,null,null,null,"3級","3級","3級","3級",null,null,null,null,null,null,"準2級",null,null,2,null,null,"準2級","準2級"]
[null,"五級","五級","内燃五級",null,null,null,null,"ＤＤ１種",null,null,null,null,null,null,null,null,null,null,null,null,null,null,null,null,null,null,null,null,null,null,null,null,null,null,null,null,2,null,null,null,"4類",null,null,null,null,null,null,null,null,null,null,null,null,null,null,null,null,null,null,null,null,null,null,"3級",null,null,1,null,null,"3級","3級"]
[null,null,null,null,null,null,null,null,"ＤＤ２種",null,null,null,null,null,null,null,null,null,null,null,null,null,null,null,null,null,null,null,null,null,null,null,null,null,null,null,null,null,null,null,null,"5類"]
[null,null,null,null,null,null,null,null,"ＤＤ３種",null,null,null,null,null,null,null,null,null,null,null,null,null,null,null,null,null,null,null,null,null,null,null,null,null,null,null,null,null,null,null,null,"6類"]
[]
[]
[]
[]
[]
[]
[]
[]
[null,null,"海技士　航海（筆記試験合格）","a1_"]
[null,null,"海技士　機関（筆記試験合格）","a2_"]
[null,null,"海技士　機関（筆記試験合格）","a3_"]
[null,null,"小型船舶操縦士（免許状取得）","a4_"]
[null,null,"総合無線通信士","a5_"]
[null,null,"陸上無線技術士","a6_"]
[null,null,"海上無線通信士","a7_"]
[null,null,"工事担任者","a8_"]
[null,null,"工事担任者","a9_"]
[null,null,"潜水士","a10_"]
[null,null,"水産海洋技術検定","a11_"]
[null,null,"高等学校海洋情報技術検定","a12_"]
[null,null,"ＨＡＣＣＰ基本技能検定","a13_"]
[null,null,"高等学校通信技術検定","a14_"]
[null,null,"高等学校栽培漁業技術検定","a15_"]
[null,null,"食品技能検定","a16_"]
[null,null,"食品技能検定","a17_"]
[null,null,"食品技能検定","a18_"]
[null,null,"高等学校潜水技術検定","a19_"]
[null,null,"高等学校漁業技術検定","a20_"]
[null,null,"高等学校エンジン技術検定","a21_"]
[null,null,"生徒研究発表大会(全国大会)","a22_"]
[null,null,"生徒研究発表大会(地区大会)","a23_"]
[null,null,"生徒研究発表大会(校内大会)","a24_"]
[null,null,"ｶｯﾀｰﾚｰｽ大会(全国大会)","a25_"]
[null,null,"ｶｯﾀｰﾚｰｽ大会(地区大会)","a26_"]
[null,null,"ﾌｨｯｼﾝｸﾞ技能ｺﾝﾃｽﾄ(部門別)","a27_"]
[null,null,"食品技能ｺﾝﾃｽﾄ","a28_"]
[null,null,"ﾀﾞｲﾋﾞﾝｸﾞ技能ｺﾝﾃｽﾄ(全国大会)","a29_"]
[null,null,"ﾀﾞｲﾋﾞﾝｸﾞ技能ｺﾝﾃｽﾄ(地区大会)","a30_"]
[null,null,"栽培漁業検定ポスター・標語・スケッチ・コンテスト","a31_"]
[null,null,"意見・体験発表大会（全国大会）","a32_"]
[null,null,"意見・体験発表大会（地区大会）","a33_"]
[null,null,"意見・体験発表大会（校内大会）","a34_"]
[null,null,"マリンロボットコンテスト","a35_"]
[null,null,null,"a36_"]
[null,null,"資格","a37_"]
[null,null,"ボイラ技士","a38_"]
[null,null,"第３種冷凍機械責任者","a39_"]
[null,null,"甲種危険物取扱者","a40_"]
[null,null,"乙種危険物取扱者（１５点まで）","a41_"]
[null,null,"ボイラ取扱技能講習","a42_"]
[null,null,"普通第一種圧力容器取扱作業主任者技能講習","a43_"]
[null,null,"玉掛け技能講習","a44_"]
[null,null,"第二種酸素欠乏危険作業特別講習","a45_"]
[null,null,"乙種危険物取扱者（２０点まで）","a46_"]
[null,null,"丙種危険物取扱者","a47_"]
[null,null,"電気工事士２種","a48_"]
[null,null,"アーク溶接基本級A-2F\n※ＪＩＳ溶接評価試験","a49_"]
[null,null,"アーク溶接業務特別教育講習修了証","a50_"]
[null,null,"ガス溶接技能者講習修了証","a51_"]
[null,null,"販売士","a52_"]
[null,null,"簿記検定","a53_"]
[null,null,"簿記実務検定","a54_"]
[null,null,"ビジネス文書実務検定","a55_"]
[null,null,"PC検定（文書作成）","a56_"]
[null,null,"食物調理技術検定","a57_"]
[null,null,"陸上特殊無線技士","a58_"]
[null,null,"海上特殊無線技士","a59_"]
[null,null,"レーダー級海上特殊無線技士","a60_"]
[null,null,"情報技術検定","a61_"]
[null,null,"情報処理検定","a62_"]
[null,null,"移動式小型クレーン","a63_"]
[null,null,"実用英語技能検定試験","a64_"]
[null,null,"フォークリフト運転技能講習","a65_"]
[null,null,null,"a66_"]
[null,null,"資格・大会","a67_"]
[null,null,"食の６次産業化プロデューサー","a68_"]
[null,null,"食品衛生責任者","a69_"]
[null,null,"実用数学 技能検定","a70_"]
[null,null,"日本漢字能力検定","a71_"]
[null,null,"うまいもん甲子園","a72_"]
[null,null,"全日本スポーツダイビング室内選手権大会\n５０ｍフリッパー競技（高校生の部：文部科学大臣賞対象競技のみ）","a73_"]

{"sheet":"学校名","index":7,"n_rows":63,"n_cols":4,"rows_kept":63,"cut":false,"hidden":true,"merged":[]}
["年","月","日"]
[1989,1,1,"北海道小樽水産高等学校"]
[1990,2,2,"北海道函館水産高等学校"]
[1991,3,3,"北海道厚岸翔洋高等学校"]
[1992,4,4,"青森県立八戸水産高等学校"]
[1993,5,5,"岩手県立宮古水産高等学校"]
[1994,6,6,"岩手県立高田高等学校"]
[1995,7,7,"岩手県立久慈東高等学校"]
[1996,8,8,"宮城県水産高等学校"]
[1997,9,9,"宮城県気仙沼向洋高等学校"]
[1998,10,10,"秋田県立男鹿海洋高等学校"]
[1999,11,11,"山形県立加茂水産高等学校"]
[2000,12,12,"福島県立いわき海星高等学校"]
[2001,null,13,"茨城県立海洋高等学校"]
[2002,null,14,"栃木県立馬頭高等学校"]
[2003,null,15,"群馬県立万場高等学校"]
[2004,null,16,"千葉県立銚子商業高等学校"]
[2005,null,17,"千葉県立大原高等学校"]
[2006,null,18,"千葉県立館山総合高等学校"]
[2007,null,19,"東京都立大島海洋国際高等学校"]
[2008,null,20,"神奈川県立海洋科学高等学校"]
[2009,null,21,"静岡県立焼津水産高等学校"]
[2010,null,22,"愛知県立三谷水産高等学校"]
[2011,null,23,"三重県立水産高等学校"]
[2012,null,24,"新潟県立海洋高等学校"]
[2013,null,25,"富山県立滑川高等学校"]
[2014,null,26,"富山県立氷見高等学校"]
[2015,null,27,"石川県立能登高等学校"]
[2016,null,28,"福井県立　若狭高等学校"]
[2017,null,29,"京都府立海洋高等学校"]
[2018,null,30,"兵庫県立香住高等学校"]
[2019,null,31,"鳥取県立境港総合技術高等学校"]
[2020,null,null,"島根県立隠岐水産高等学校"]
[2021,null,null,"島根県立浜田水産高等学校"]
[2022,null,null,"山口県立大津緑洋高等学校（水産校舎）"]
[2023,null,null,"香川県立多度津高等学校"]
[2024,null,null,"徳島県立徳島科学技術高等学校"]
[2025,null,null,"高知県立高知海洋高等学校"]
[2026,null,null,"愛媛県立宇和島水産高等学校"]
[2027,null,null,"福岡県立水産高等学校"]
[2028,null,null,"長崎県立長崎鶴洋高等学校"]
[2029,null,null,"熊本県立天草拓心高等学校　マリン校舎"]
[2030,null,null,"大分県立海洋科学高等学校"]
[2031,null,null,"宮崎県立宮崎海洋高等学校"]
[2032,null,null,"鹿児島県立鹿児島水産高等学校"]
[2033,null,null,"沖縄県立沖縄水産高等学校"]
[2034,null,null,"沖縄県立宮古総合実業高等学校"]
[2035]
[2036]
[2037]
[2038]
[2039]
[2040]
[2041]
[2042]
[2043]
[2044]
[2045]
[2046]
[2047]
[2048]
[2049]
[2050]